BEGIN:VCALENDAR
VERSION:2.0
PRODID:spatie/icalendar-generator
NAME:spinshuttle_4g_106_reminders
X-WR-CALNAME:spinshuttle_4g_106_reminders
BEGIN:VTIMEZONE
TZID:Europe/Brussels
BEGIN:DAYLIGHT
DTSTART:20230326T010000
TZOFFSETFROM:+0100
TZOFFSETTO:+0200
END:DAYLIGHT
BEGIN:STANDARD
DTSTART:20231029T030000
TZOFFSETFROM:+0200
TZOFFSETTO:+0100
END:STANDARD
BEGIN:DAYLIGHT
DTSTART:20240331T010000
TZOFFSETFROM:+0100
TZOFFSETTO:+0200
END:DAYLIGHT
BEGIN:STANDARD
DTSTART:20241027T030000
TZOFFSETFROM:+0200
TZOFFSETTO:+0100
END:STANDARD
END:VTIMEZONE
BEGIN:VTIMEZONE
TZID:UTC
BEGIN:STANDARD
DTSTART:20250724T055214
TZOFFSETFROM:+0000
TZOFFSETTO:+0000
END:STANDARD
END:VTIMEZONE
BEGIN:VEVENT
UID:952A42C0-E06A-400D-BAE7-1F26DE702556-25-1115_homereminder@2022.badminto
 nners.net
DTSTAMP:20260420T055214Z
SUMMARY:Thuismatch ingevuld? (Spinshuttle 4G (106) - Rita Serveert 2G (102)
 )
DESCRIPTION:Je hebt 36 uur na aanvang om een thuismatch op Badmintonvlaande
 ren in te vullen. Match info: Spinshuttle 4G (106) - Rita Serveert 2G (102
 ) - Link: https://www.badmintonvlaanderen.be/sport/teammatch.aspx?id=952A4
 2C0-E06A-400D-BAE7-1F26DE702556&match=1115
DTSTART;TZID=Europe/Brussels:20231030T213000
DTEND;TZID=Europe/Brussels:20231030T213000
END:VEVENT
BEGIN:VEVENT
UID:952A42C0-E06A-400D-BAE7-1F26DE702556-25-1091_homereminder@2022.badminto
 nners.net
DTSTAMP:20260420T055214Z
SUMMARY:Thuismatch ingevuld? (Spinshuttle 4G (106) - Olve 6G (117))
DESCRIPTION:Je hebt 36 uur na aanvang om een thuismatch op Badmintonvlaande
 ren in te vullen. Match info: Spinshuttle 4G (106) - Olve 6G (117) - Link:
  https://www.badmintonvlaanderen.be/sport/teammatch.aspx?id=952A42C0-E06A-
 400D-BAE7-1F26DE702556&match=1091
DTSTART;TZID=Europe/Brussels:20231127T213000
DTEND;TZID=Europe/Brussels:20231127T213000
END:VEVENT
BEGIN:VEVENT
UID:952A42C0-E06A-400D-BAE7-1F26DE702556-25-1103_homereminder@2022.badminto
 nners.net
DTSTAMP:20260420T055214Z
SUMMARY:Thuismatch ingevuld? (Spinshuttle 4G (106) - Merksplas 3G (109))
DESCRIPTION:Je hebt 36 uur na aanvang om een thuismatch op Badmintonvlaande
 ren in te vullen. Match info: Spinshuttle 4G (106) - Merksplas 3G (109) - 
 Link: https://www.badmintonvlaanderen.be/sport/teammatch.aspx?id=952A42C0-
 E06A-400D-BAE7-1F26DE702556&match=1103
DTSTART;TZID=Europe/Brussels:20231204T213000
DTEND;TZID=Europe/Brussels:20231204T213000
END:VEVENT
BEGIN:VEVENT
UID:952A42C0-E06A-400D-BAE7-1F26DE702556-25-1097_homereminder@2022.badminto
 nners.net
DTSTAMP:20260420T055214Z
SUMMARY:Thuismatch ingevuld? (Spinshuttle 4G (106) - Zoersel 4G (107))
DESCRIPTION:Je hebt 36 uur na aanvang om een thuismatch op Badmintonvlaande
 ren in te vullen. Match info: Spinshuttle 4G (106) - Zoersel 4G (107) - Li
 nk: https://www.badmintonvlaanderen.be/sport/teammatch.aspx?id=952A42C0-E0
 6A-400D-BAE7-1F26DE702556&match=1097
DTSTART;TZID=Europe/Brussels:20240108T213000
DTEND;TZID=Europe/Brussels:20240108T213000
END:VEVENT
BEGIN:VEVENT
UID:952A42C0-E06A-400D-BAE7-1F26DE702556-25-1109_homereminder@2022.badminto
 nners.net
DTSTAMP:20260420T055214Z
SUMMARY:Thuismatch ingevuld? (Spinshuttle 4G (106) - Zandhoven 2G (103))
DESCRIPTION:Je hebt 36 uur na aanvang om een thuismatch op Badmintonvlaande
 ren in te vullen. Match info: Spinshuttle 4G (106) - Zandhoven 2G (103) - 
 Link: https://www.badmintonvlaanderen.be/sport/teammatch.aspx?id=952A42C0-
 E06A-400D-BAE7-1F26DE702556&match=1109
DTSTART;TZID=Europe/Brussels:20240219T213000
DTEND;TZID=Europe/Brussels:20240219T213000
END:VEVENT
BEGIN:VEVENT
UID:952A42C0-E06A-400D-BAE7-1F26DE702556-25-1121_homereminder@2022.badminto
 nners.net
DTSTAMP:20260420T055214Z
SUMMARY:Thuismatch ingevuld? (Spinshuttle 4G (106) - Klein Boom 6G (106))
DESCRIPTION:Je hebt 36 uur na aanvang om een thuismatch op Badmintonvlaande
 ren in te vullen. Match info: Spinshuttle 4G (106) - Klein Boom 6G (106) -
  Link: https://www.badmintonvlaanderen.be/sport/teammatch.aspx?id=952A42C0
 -E06A-400D-BAE7-1F26DE702556&match=1121
DTSTART;TZID=Europe/Brussels:20240318T213000
DTEND;TZID=Europe/Brussels:20240318T213000
END:VEVENT
BEGIN:VEVENT
UID:952A42C0-E06A-400D-BAE7-1F26DE702556-25-1123_awayreminder@2022.badminto
 nners.net
DTSTAMP:20260420T055214Z
SUMMARY:Uitmatch bevestigd? (Zoersel 4G (107) - Spinshuttle 4G (106))
DESCRIPTION:Je hebt 72 uur na aanvang om een uitmatch op Badmintonvlaandere
 n in te vullen. Match info: Zoersel 4G (107) - Spinshuttle 4G (106) - Link
 : https://www.badmintonvlaanderen.be/sport/teammatch.aspx?id=952A42C0-E06A
 -400D-BAE7-1F26DE702556&match=1123
DTSTART;TZID=Europe/Brussels:20230920T120000
DTEND;TZID=Europe/Brussels:20230920T120000
END:VEVENT
BEGIN:VEVENT
UID:952A42C0-E06A-400D-BAE7-1F26DE702556-25-1125_awayreminder@2022.badminto
 nners.net
DTSTAMP:20260420T055214Z
SUMMARY:Uitmatch bevestigd? (Zandhoven 2G (103) - Spinshuttle 4G (106))
DESCRIPTION:Je hebt 72 uur na aanvang om een uitmatch op Badmintonvlaandere
 n in te vullen. Match info: Zandhoven 2G (103) - Spinshuttle 4G (106) - Li
 nk: https://www.badmintonvlaanderen.be/sport/teammatch.aspx?id=952A42C0-E0
 6A-400D-BAE7-1F26DE702556&match=1125
DTSTART;TZID=Europe/Brussels:20231012T200000
DTEND;TZID=Europe/Brussels:20231012T200000
END:VEVENT
BEGIN:VEVENT
UID:952A42C0-E06A-400D-BAE7-1F26DE702556-25-1127_awayreminder@2022.badminto
 nners.net
DTSTAMP:20260420T055214Z
SUMMARY:Uitmatch bevestigd? (Klein Boom 6G (106) - Spinshuttle 4G (106))
DESCRIPTION:Je hebt 72 uur na aanvang om een uitmatch op Badmintonvlaandere
 n in te vullen. Match info: Klein Boom 6G (106) - Spinshuttle 4G (106) - L
 ink: https://www.badmintonvlaanderen.be/sport/teammatch.aspx?id=952A42C0-E
 06A-400D-BAE7-1F26DE702556&match=1127
DTSTART;TZID=Europe/Brussels:20231109T200000
DTEND;TZID=Europe/Brussels:20231109T200000
END:VEVENT
BEGIN:VEVENT
UID:952A42C0-E06A-400D-BAE7-1F26DE702556-25-1126_awayreminder@2022.badminto
 nners.net
DTSTAMP:20260420T055214Z
SUMMARY:Uitmatch bevestigd? (Rita Serveert 2G (102) - Spinshuttle 4G (106))
DESCRIPTION:Je hebt 72 uur na aanvang om een uitmatch op Badmintonvlaandere
 n in te vullen. Match info: Rita Serveert 2G (102) - Spinshuttle 4G (106) 
 - Link: https://www.badmintonvlaanderen.be/sport/teammatch.aspx?id=952A42C
 0-E06A-400D-BAE7-1F26DE702556&match=1126
DTSTART;TZID=Europe/Brussels:20240306T190000
DTEND;TZID=Europe/Brussels:20240306T190000
END:VEVENT
BEGIN:VEVENT
UID:952A42C0-E06A-400D-BAE7-1F26DE702556-25-1124_awayreminder@2022.badminto
 nners.net
DTSTAMP:20260420T055214Z
SUMMARY:Uitmatch bevestigd? (Merksplas 3G (109) - Spinshuttle 4G (106))
DESCRIPTION:Je hebt 72 uur na aanvang om een uitmatch op Badmintonvlaandere
 n in te vullen. Match info: Merksplas 3G (109) - Spinshuttle 4G (106) - Li
 nk: https://www.badmintonvlaanderen.be/sport/teammatch.aspx?id=952A42C0-E0
 6A-400D-BAE7-1F26DE702556&match=1124
DTSTART;TZID=Europe/Brussels:20240417T183000
DTEND;TZID=Europe/Brussels:20240417T183000
END:VEVENT
BEGIN:VEVENT
UID:952A42C0-E06A-400D-BAE7-1F26DE702556-25-1122_awayreminder@2022.badminto
 nners.net
DTSTAMP:20260420T055214Z
SUMMARY:Uitmatch bevestigd? (Olve 6G (117) - Spinshuttle 4G (106))
DESCRIPTION:Je hebt 72 uur na aanvang om een uitmatch op Badmintonvlaandere
 n in te vullen. Match info: Olve 6G (117) - Spinshuttle 4G (106) - Link: h
 ttps://www.badmintonvlaanderen.be/sport/teammatch.aspx?id=952A42C0-E06A-40
 0D-BAE7-1F26DE702556&match=1122
DTSTART;TZID=Europe/Brussels:20240430T103000
DTEND;TZID=Europe/Brussels:20240430T103000
END:VEVENT
END:VCALENDAR