BEGIN:VCALENDAR
VERSION:2.0
PRODID:spatie/icalendar-generator
NAME:waverse_2g_103_reminders
X-WR-CALNAME:waverse_2g_103_reminders
BEGIN:VTIMEZONE
TZID:Europe/Brussels
BEGIN:DAYLIGHT
DTSTART:20230326T010000
TZOFFSETFROM:+0100
TZOFFSETTO:+0200
END:DAYLIGHT
BEGIN:STANDARD
DTSTART:20231029T030000
TZOFFSETFROM:+0200
TZOFFSETTO:+0100
END:STANDARD
BEGIN:DAYLIGHT
DTSTART:20240331T010000
TZOFFSETFROM:+0100
TZOFFSETTO:+0200
END:DAYLIGHT
END:VTIMEZONE
BEGIN:VTIMEZONE
TZID:UTC
BEGIN:STANDARD
DTSTART:20250724T073655
TZOFFSETFROM:+0000
TZOFFSETTO:+0000
END:STANDARD
END:VTIMEZONE
BEGIN:VEVENT
UID:952A42C0-E06A-400D-BAE7-1F26DE702556-26-1165_homereminder@1971.badminto
 nners.net
DTSTAMP:20260420T073655Z
SUMMARY:Thuismatch ingevuld? (Waverse 2G (103) - Bacss 4G (108))
DESCRIPTION:Je hebt 36 uur na aanvang om een thuismatch op Badmintonvlaande
 ren in te vullen. Match info: Waverse 2G (103) - Bacss 4G (108) - Link: ht
 tps://www.badmintonvlaanderen.be/sport/teammatch.aspx?id=952A42C0-E06A-400
 D-BAE7-1F26DE702556&match=1165
DTSTART;TZID=Europe/Brussels:20231024T020000
DTEND;TZID=Europe/Brussels:20231024T020000
END:VEVENT
BEGIN:VEVENT
UID:952A42C0-E06A-400D-BAE7-1F26DE702556-26-1153_homereminder@1971.badminto
 nners.net
DTSTAMP:20260420T073655Z
SUMMARY:Thuismatch ingevuld? (Waverse 2G (103) - Spinshuttle 5G (109))
DESCRIPTION:Je hebt 36 uur na aanvang om een thuismatch op Badmintonvlaande
 ren in te vullen. Match info: Waverse 2G (103) - Spinshuttle 5G (109) - Li
 nk: https://www.badmintonvlaanderen.be/sport/teammatch.aspx?id=952A42C0-E0
 6A-400D-BAE7-1F26DE702556&match=1153
DTSTART;TZID=Europe/Brussels:20231031T020000
DTEND;TZID=Europe/Brussels:20231031T020000
END:VEVENT
BEGIN:VEVENT
UID:952A42C0-E06A-400D-BAE7-1F26DE702556-26-1141_homereminder@1971.badminto
 nners.net
DTSTAMP:20260420T073655Z
SUMMARY:Thuismatch ingevuld? (Waverse 2G (103) - Essen 1G (120))
DESCRIPTION:Je hebt 36 uur na aanvang om een thuismatch op Badmintonvlaande
 ren in te vullen. Match info: Waverse 2G (103) - Essen 1G (120) - Link: ht
 tps://www.badmintonvlaanderen.be/sport/teammatch.aspx?id=952A42C0-E06A-400
 D-BAE7-1F26DE702556&match=1141
DTSTART;TZID=Europe/Brussels:20231128T020000
DTEND;TZID=Europe/Brussels:20231128T020000
END:VEVENT
BEGIN:VEVENT
UID:952A42C0-E06A-400D-BAE7-1F26DE702556-26-1171_homereminder@1971.badminto
 nners.net
DTSTAMP:20260420T073655Z
SUMMARY:Thuismatch ingevuld? (Waverse 2G (103) - Opslag 4G (104))
DESCRIPTION:Je hebt 36 uur na aanvang om een thuismatch op Badmintonvlaande
 ren in te vullen. Match info: Waverse 2G (103) - Opslag 4G (104) - Link: h
 ttps://www.badmintonvlaanderen.be/sport/teammatch.aspx?id=952A42C0-E06A-40
 0D-BAE7-1F26DE702556&match=1171
DTSTART;TZID=Europe/Brussels:20240123T020000
DTEND;TZID=Europe/Brussels:20240123T020000
END:VEVENT
BEGIN:VEVENT
UID:952A42C0-E06A-400D-BAE7-1F26DE702556-26-1159_homereminder@1971.badminto
 nners.net
DTSTAMP:20260420T073655Z
SUMMARY:Thuismatch ingevuld? (Waverse 2G (103) - Klein Boom 9G (112))
DESCRIPTION:Je hebt 36 uur na aanvang om een thuismatch op Badmintonvlaande
 ren in te vullen. Match info: Waverse 2G (103) - Klein Boom 9G (112) - Lin
 k: https://www.badmintonvlaanderen.be/sport/teammatch.aspx?id=952A42C0-E06
 A-400D-BAE7-1F26DE702556&match=1159
DTSTART;TZID=Europe/Brussels:20240220T020000
DTEND;TZID=Europe/Brussels:20240220T020000
END:VEVENT
BEGIN:VEVENT
UID:952A42C0-E06A-400D-BAE7-1F26DE702556-26-1147_homereminder@1971.badminto
 nners.net
DTSTAMP:20260420T073655Z
SUMMARY:Thuismatch ingevuld? (Waverse 2G (103) - Klein Boom 7G (108))
DESCRIPTION:Je hebt 36 uur na aanvang om een thuismatch op Badmintonvlaande
 ren in te vullen. Match info: Waverse 2G (103) - Klein Boom 7G (108) - Lin
 k: https://www.badmintonvlaanderen.be/sport/teammatch.aspx?id=952A42C0-E06
 A-400D-BAE7-1F26DE702556&match=1147
DTSTART;TZID=Europe/Brussels:20240319T020000
DTEND;TZID=Europe/Brussels:20240319T020000
END:VEVENT
BEGIN:VEVENT
UID:952A42C0-E06A-400D-BAE7-1F26DE702556-26-1140_awayreminder@1971.badminto
 nners.net
DTSTAMP:20260420T073655Z
SUMMARY:Uitmatch bevestigd? (Opslag 4G (104) - Waverse 2G (103))
DESCRIPTION:Je hebt 72 uur na aanvang om een uitmatch op Badmintonvlaandere
 n in te vullen. Match info: Opslag 4G (104) - Waverse 2G (103) - Link: htt
 ps://www.badmintonvlaanderen.be/sport/teammatch.aspx?id=952A42C0-E06A-400D
 -BAE7-1F26DE702556&match=1140
DTSTART;TZID=Europe/Brussels:20230920T191500
DTEND;TZID=Europe/Brussels:20230920T191500
END:VEVENT
BEGIN:VEVENT
UID:952A42C0-E06A-400D-BAE7-1F26DE702556-26-1136_awayreminder@1971.badminto
 nners.net
DTSTAMP:20260420T073655Z
SUMMARY:Uitmatch bevestigd? (Klein Boom 7G (108) - Waverse 2G (103))
DESCRIPTION:Je hebt 72 uur na aanvang om een uitmatch op Badmintonvlaandere
 n in te vullen. Match info: Klein Boom 7G (108) - Waverse 2G (103) - Link:
  https://www.badmintonvlaanderen.be/sport/teammatch.aspx?id=952A42C0-E06A-
 400D-BAE7-1F26DE702556&match=1136
DTSTART;TZID=Europe/Brussels:20231206T190000
DTEND;TZID=Europe/Brussels:20231206T190000
END:VEVENT
BEGIN:VEVENT
UID:952A42C0-E06A-400D-BAE7-1F26DE702556-26-1138_awayreminder@1971.badminto
 nners.net
DTSTAMP:20260420T073655Z
SUMMARY:Uitmatch bevestigd? (Klein Boom 9G (112) - Waverse 2G (103))
DESCRIPTION:Je hebt 72 uur na aanvang om een uitmatch op Badmintonvlaandere
 n in te vullen. Match info: Klein Boom 9G (112) - Waverse 2G (103) - Link:
  https://www.badmintonvlaanderen.be/sport/teammatch.aspx?id=952A42C0-E06A-
 400D-BAE7-1F26DE702556&match=1138
DTSTART;TZID=Europe/Brussels:20231213T190000
DTEND;TZID=Europe/Brussels:20231213T190000
END:VEVENT
BEGIN:VEVENT
UID:952A42C0-E06A-400D-BAE7-1F26DE702556-26-1139_awayreminder@1971.badminto
 nners.net
DTSTAMP:20260420T073655Z
SUMMARY:Uitmatch bevestigd? (Bacss 4G (108) - Waverse 2G (103))
DESCRIPTION:Je hebt 72 uur na aanvang om een uitmatch op Badmintonvlaandere
 n in te vullen. Match info: Bacss 4G (108) - Waverse 2G (103) - Link: http
 s://www.badmintonvlaanderen.be/sport/teammatch.aspx?id=952A42C0-E06A-400D-
 BAE7-1F26DE702556&match=1139
DTSTART;TZID=Europe/Brussels:20240205T201500
DTEND;TZID=Europe/Brussels:20240205T201500
END:VEVENT
BEGIN:VEVENT
UID:952A42C0-E06A-400D-BAE7-1F26DE702556-26-1137_awayreminder@1971.badminto
 nners.net
DTSTAMP:20260420T073655Z
SUMMARY:Uitmatch bevestigd? (Spinshuttle 5G (109) - Waverse 2G (103))
DESCRIPTION:Je hebt 72 uur na aanvang om een uitmatch op Badmintonvlaandere
 n in te vullen. Match info: Spinshuttle 5G (109) - Waverse 2G (103) - Link
 : https://www.badmintonvlaanderen.be/sport/teammatch.aspx?id=952A42C0-E06A
 -400D-BAE7-1F26DE702556&match=1137
DTSTART;TZID=Europe/Brussels:20240301T200000
DTEND;TZID=Europe/Brussels:20240301T200000
END:VEVENT
BEGIN:VEVENT
UID:952A42C0-E06A-400D-BAE7-1F26DE702556-26-1135_awayreminder@1971.badminto
 nners.net
DTSTAMP:20260420T073655Z
SUMMARY:Uitmatch bevestigd? (Essen 1G (120) - Waverse 2G (103))
DESCRIPTION:Je hebt 72 uur na aanvang om een uitmatch op Badmintonvlaandere
 n in te vullen. Match info: Essen 1G (120) - Waverse 2G (103) - Link: http
 s://www.badmintonvlaanderen.be/sport/teammatch.aspx?id=952A42C0-E06A-400D-
 BAE7-1F26DE702556&match=1135
DTSTART;TZID=Europe/Brussels:20240417T190000
DTEND;TZID=Europe/Brussels:20240417T190000
END:VEVENT
END:VCALENDAR