BEGIN:VCALENDAR
VERSION:2.0
PRODID:spatie/icalendar-generator
NAME:spinshuttle_5g_109_reminders
X-WR-CALNAME:spinshuttle_5g_109_reminders
BEGIN:VTIMEZONE
TZID:Europe/Brussels
BEGIN:DAYLIGHT
DTSTART:20230326T010000
TZOFFSETFROM:+0100
TZOFFSETTO:+0200
END:DAYLIGHT
BEGIN:STANDARD
DTSTART:20231029T030000
TZOFFSETFROM:+0200
TZOFFSETTO:+0100
END:STANDARD
BEGIN:DAYLIGHT
DTSTART:20240331T010000
TZOFFSETFROM:+0100
TZOFFSETTO:+0200
END:DAYLIGHT
END:VTIMEZONE
BEGIN:VTIMEZONE
TZID:UTC
BEGIN:STANDARD
DTSTART:20250724T055206
TZOFFSETFROM:+0000
TZOFFSETTO:+0000
END:STANDARD
END:VTIMEZONE
BEGIN:VEVENT
UID:952A42C0-E06A-400D-BAE7-1F26DE702556-26-1143_homereminder@1974.badminto
 nners.net
DTSTAMP:20260420T055206Z
SUMMARY:Thuismatch ingevuld? (Spinshuttle 5G (109) - Essen 1G (120))
DESCRIPTION:Je hebt 36 uur na aanvang om een thuismatch op Badmintonvlaande
 ren in te vullen. Match info: Spinshuttle 5G (109) - Essen 1G (120) - Link
 : https://www.badmintonvlaanderen.be/sport/teammatch.aspx?id=952A42C0-E06A
 -400D-BAE7-1F26DE702556&match=1143
DTSTART;TZID=Europe/Brussels:20231012T080000
DTEND;TZID=Europe/Brussels:20231012T080000
END:VEVENT
BEGIN:VEVENT
UID:952A42C0-E06A-400D-BAE7-1F26DE702556-26-1174_homereminder@1974.badminto
 nners.net
DTSTAMP:20260420T055206Z
SUMMARY:Thuismatch ingevuld? (Spinshuttle 5G (109) - Opslag 4G (104))
DESCRIPTION:Je hebt 36 uur na aanvang om een thuismatch op Badmintonvlaande
 ren in te vullen. Match info: Spinshuttle 5G (109) - Opslag 4G (104) - Lin
 k: https://www.badmintonvlaanderen.be/sport/teammatch.aspx?id=952A42C0-E06
 A-400D-BAE7-1F26DE702556&match=1174
DTSTART;TZID=Europe/Brussels:20231109T080000
DTEND;TZID=Europe/Brussels:20231109T080000
END:VEVENT
BEGIN:VEVENT
UID:952A42C0-E06A-400D-BAE7-1F26DE702556-26-1162_homereminder@1974.badminto
 nners.net
DTSTAMP:20260420T055206Z
SUMMARY:Thuismatch ingevuld? (Spinshuttle 5G (109) - Klein Boom 9G (112))
DESCRIPTION:Je hebt 36 uur na aanvang om een thuismatch op Badmintonvlaande
 ren in te vullen. Match info: Spinshuttle 5G (109) - Klein Boom 9G (112) -
  Link: https://www.badmintonvlaanderen.be/sport/teammatch.aspx?id=952A42C0
 -E06A-400D-BAE7-1F26DE702556&match=1162
DTSTART;TZID=Europe/Brussels:20231207T080000
DTEND;TZID=Europe/Brussels:20231207T080000
END:VEVENT
BEGIN:VEVENT
UID:952A42C0-E06A-400D-BAE7-1F26DE702556-26-1149_homereminder@1974.badminto
 nners.net
DTSTAMP:20260420T055206Z
SUMMARY:Thuismatch ingevuld? (Spinshuttle 5G (109) - Klein Boom 7G (108))
DESCRIPTION:Je hebt 36 uur na aanvang om een thuismatch op Badmintonvlaande
 ren in te vullen. Match info: Spinshuttle 5G (109) - Klein Boom 7G (108) -
  Link: https://www.badmintonvlaanderen.be/sport/teammatch.aspx?id=952A42C0
 -E06A-400D-BAE7-1F26DE702556&match=1149
DTSTART;TZID=Europe/Brussels:20240118T080000
DTEND;TZID=Europe/Brussels:20240118T080000
END:VEVENT
BEGIN:VEVENT
UID:952A42C0-E06A-400D-BAE7-1F26DE702556-26-1137_homereminder@1974.badminto
 nners.net
DTSTAMP:20260420T055206Z
SUMMARY:Thuismatch ingevuld? (Spinshuttle 5G (109) - Waverse 2G (103))
DESCRIPTION:Je hebt 36 uur na aanvang om een thuismatch op Badmintonvlaande
 ren in te vullen. Match info: Spinshuttle 5G (109) - Waverse 2G (103) - Li
 nk: https://www.badmintonvlaanderen.be/sport/teammatch.aspx?id=952A42C0-E0
 6A-400D-BAE7-1F26DE702556&match=1137
DTSTART;TZID=Europe/Brussels:20240229T080000
DTEND;TZID=Europe/Brussels:20240229T080000
END:VEVENT
BEGIN:VEVENT
UID:952A42C0-E06A-400D-BAE7-1F26DE702556-26-1168_homereminder@1974.badminto
 nners.net
DTSTAMP:20260420T055206Z
SUMMARY:Thuismatch ingevuld? (Spinshuttle 5G (109) - Bacss 4G (108))
DESCRIPTION:Je hebt 36 uur na aanvang om een thuismatch op Badmintonvlaande
 ren in te vullen. Match info: Spinshuttle 5G (109) - Bacss 4G (108) - Link
 : https://www.badmintonvlaanderen.be/sport/teammatch.aspx?id=952A42C0-E06A
 -400D-BAE7-1F26DE702556&match=1168
DTSTART;TZID=Europe/Brussels:20240411T080000
DTEND;TZID=Europe/Brussels:20240411T080000
END:VEVENT
BEGIN:VEVENT
UID:952A42C0-E06A-400D-BAE7-1F26DE702556-26-1155_awayreminder@1974.badminto
 nners.net
DTSTAMP:20260420T055206Z
SUMMARY:Uitmatch bevestigd? (Klein Boom 7G (108) - Spinshuttle 5G (109))
DESCRIPTION:Je hebt 72 uur na aanvang om een uitmatch op Badmintonvlaandere
 n in te vullen. Match info: Klein Boom 7G (108) - Spinshuttle 5G (109) - L
 ink: https://www.badmintonvlaanderen.be/sport/teammatch.aspx?id=952A42C0-E
 06A-400D-BAE7-1F26DE702556&match=1155
DTSTART;TZID=Europe/Brussels:20231004T190000
DTEND;TZID=Europe/Brussels:20231004T190000
END:VEVENT
BEGIN:VEVENT
UID:952A42C0-E06A-400D-BAE7-1F26DE702556-26-1153_awayreminder@1974.badminto
 nners.net
DTSTAMP:20260420T055206Z
SUMMARY:Uitmatch bevestigd? (Waverse 2G (103) - Spinshuttle 5G (109))
DESCRIPTION:Je hebt 72 uur na aanvang om een uitmatch op Badmintonvlaandere
 n in te vullen. Match info: Waverse 2G (103) - Spinshuttle 5G (109) - Link
 : https://www.badmintonvlaanderen.be/sport/teammatch.aspx?id=952A42C0-E06A
 -400D-BAE7-1F26DE702556&match=1153
DTSTART;TZID=Europe/Brussels:20231101T140000
DTEND;TZID=Europe/Brussels:20231101T140000
END:VEVENT
BEGIN:VEVENT
UID:952A42C0-E06A-400D-BAE7-1F26DE702556-26-1157_awayreminder@1974.badminto
 nners.net
DTSTAMP:20260420T055206Z
SUMMARY:Uitmatch bevestigd? (Bacss 4G (108) - Spinshuttle 5G (109))
DESCRIPTION:Je hebt 72 uur na aanvang om een uitmatch op Badmintonvlaandere
 n in te vullen. Match info: Bacss 4G (108) - Spinshuttle 5G (109) - Link: 
 https://www.badmintonvlaanderen.be/sport/teammatch.aspx?id=952A42C0-E06A-4
 00D-BAE7-1F26DE702556&match=1157
DTSTART;TZID=Europe/Brussels:20231206T100000
DTEND;TZID=Europe/Brussels:20231206T100000
END:VEVENT
BEGIN:VEVENT
UID:952A42C0-E06A-400D-BAE7-1F26DE702556-26-1154_awayreminder@1974.badminto
 nners.net
DTSTAMP:20260420T055206Z
SUMMARY:Uitmatch bevestigd? (Essen 1G (120) - Spinshuttle 5G (109))
DESCRIPTION:Je hebt 72 uur na aanvang om een uitmatch op Badmintonvlaandere
 n in te vullen. Match info: Essen 1G (120) - Spinshuttle 5G (109) - Link: 
 https://www.badmintonvlaanderen.be/sport/teammatch.aspx?id=952A42C0-E06A-4
 00D-BAE7-1F26DE702556&match=1154
DTSTART;TZID=Europe/Brussels:20240221T190000
DTEND;TZID=Europe/Brussels:20240221T190000
END:VEVENT
BEGIN:VEVENT
UID:952A42C0-E06A-400D-BAE7-1F26DE702556-26-1156_awayreminder@1974.badminto
 nners.net
DTSTAMP:20260420T055206Z
SUMMARY:Uitmatch bevestigd? (Klein Boom 9G (112) - Spinshuttle 5G (109))
DESCRIPTION:Je hebt 72 uur na aanvang om een uitmatch op Badmintonvlaandere
 n in te vullen. Match info: Klein Boom 9G (112) - Spinshuttle 5G (109) - L
 ink: https://www.badmintonvlaanderen.be/sport/teammatch.aspx?id=952A42C0-E
 06A-400D-BAE7-1F26DE702556&match=1156
DTSTART;TZID=Europe/Brussels:20240307T200000
DTEND;TZID=Europe/Brussels:20240307T200000
END:VEVENT
BEGIN:VEVENT
UID:952A42C0-E06A-400D-BAE7-1F26DE702556-26-1158_awayreminder@1974.badminto
 nners.net
DTSTAMP:20260420T055206Z
SUMMARY:Uitmatch bevestigd? (Opslag 4G (104) - Spinshuttle 5G (109))
DESCRIPTION:Je hebt 72 uur na aanvang om een uitmatch op Badmintonvlaandere
 n in te vullen. Match info: Opslag 4G (104) - Spinshuttle 5G (109) - Link:
  https://www.badmintonvlaanderen.be/sport/teammatch.aspx?id=952A42C0-E06A-
 400D-BAE7-1F26DE702556&match=1158
DTSTART;TZID=Europe/Brussels:20240320T163000
DTEND;TZID=Europe/Brussels:20240320T163000
END:VEVENT
END:VCALENDAR