BEGIN:VCALENDAR
VERSION:2.0
PRODID:spatie/icalendar-generator
NAME:klein_boom_9g_112_reminders
X-WR-CALNAME:klein_boom_9g_112_reminders
BEGIN:VTIMEZONE
TZID:Europe/Brussels
BEGIN:DAYLIGHT
DTSTART:20230326T010000
TZOFFSETFROM:+0100
TZOFFSETTO:+0200
END:DAYLIGHT
BEGIN:STANDARD
DTSTART:20231029T030000
TZOFFSETFROM:+0200
TZOFFSETTO:+0100
END:STANDARD
BEGIN:DAYLIGHT
DTSTART:20240331T010000
TZOFFSETFROM:+0100
TZOFFSETTO:+0200
END:DAYLIGHT
END:VTIMEZONE
BEGIN:VTIMEZONE
TZID:UTC
BEGIN:STANDARD
DTSTART:20250724T055134
TZOFFSETFROM:+0000
TZOFFSETTO:+0000
END:STANDARD
END:VTIMEZONE
BEGIN:VEVENT
UID:952A42C0-E06A-400D-BAE7-1F26DE702556-26-1150_homereminder@1981.badminto
 nners.net
DTSTAMP:20260420T055134Z
SUMMARY:Thuismatch ingevuld? (Klein Boom 9G (112) - Klein Boom 7G (108))
DESCRIPTION:Je hebt 36 uur na aanvang om een thuismatch op Badmintonvlaande
 ren in te vullen. Match info: Klein Boom 9G (112) - Klein Boom 7G (108) - 
 Link: https://www.badmintonvlaanderen.be/sport/teammatch.aspx?id=952A42C0-
 E06A-400D-BAE7-1F26DE702556&match=1150
DTSTART;TZID=Europe/Brussels:20230905T070000
DTEND;TZID=Europe/Brussels:20230905T070000
END:VEVENT
BEGIN:VEVENT
UID:952A42C0-E06A-400D-BAE7-1F26DE702556-26-1169_homereminder@1981.badminto
 nners.net
DTSTAMP:20260420T055134Z
SUMMARY:Thuismatch ingevuld? (Klein Boom 9G (112) - Bacss 4G (108))
DESCRIPTION:Je hebt 36 uur na aanvang om een thuismatch op Badmintonvlaande
 ren in te vullen. Match info: Klein Boom 9G (112) - Bacss 4G (108) - Link:
  https://www.badmintonvlaanderen.be/sport/teammatch.aspx?id=952A42C0-E06A-
 400D-BAE7-1F26DE702556&match=1169
DTSTART;TZID=Europe/Brussels:20231114T070000
DTEND;TZID=Europe/Brussels:20231114T070000
END:VEVENT
BEGIN:VEVENT
UID:952A42C0-E06A-400D-BAE7-1F26DE702556-26-1138_homereminder@1981.badminto
 nners.net
DTSTAMP:20260420T055134Z
SUMMARY:Thuismatch ingevuld? (Klein Boom 9G (112) - Waverse 2G (103))
DESCRIPTION:Je hebt 36 uur na aanvang om een thuismatch op Badmintonvlaande
 ren in te vullen. Match info: Klein Boom 9G (112) - Waverse 2G (103) - Lin
 k: https://www.badmintonvlaanderen.be/sport/teammatch.aspx?id=952A42C0-E06
 A-400D-BAE7-1F26DE702556&match=1138
DTSTART;TZID=Europe/Brussels:20231212T070000
DTEND;TZID=Europe/Brussels:20231212T070000
END:VEVENT
BEGIN:VEVENT
UID:952A42C0-E06A-400D-BAE7-1F26DE702556-26-1144_homereminder@1981.badminto
 nners.net
DTSTAMP:20260420T055134Z
SUMMARY:Thuismatch ingevuld? (Klein Boom 9G (112) - Essen 1G (120))
DESCRIPTION:Je hebt 36 uur na aanvang om een thuismatch op Badmintonvlaande
 ren in te vullen. Match info: Klein Boom 9G (112) - Essen 1G (120) - Link:
  https://www.badmintonvlaanderen.be/sport/teammatch.aspx?id=952A42C0-E06A-
 400D-BAE7-1F26DE702556&match=1144
DTSTART;TZID=Europe/Brussels:20240206T070000
DTEND;TZID=Europe/Brussels:20240206T070000
END:VEVENT
BEGIN:VEVENT
UID:952A42C0-E06A-400D-BAE7-1F26DE702556-26-1175_homereminder@1981.badminto
 nners.net
DTSTAMP:20260420T055134Z
SUMMARY:Thuismatch ingevuld? (Klein Boom 9G (112) - Opslag 4G (104))
DESCRIPTION:Je hebt 36 uur na aanvang om een thuismatch op Badmintonvlaande
 ren in te vullen. Match info: Klein Boom 9G (112) - Opslag 4G (104) - Link
 : https://www.badmintonvlaanderen.be/sport/teammatch.aspx?id=952A42C0-E06A
 -400D-BAE7-1F26DE702556&match=1175
DTSTART;TZID=Europe/Brussels:20240305T070000
DTEND;TZID=Europe/Brussels:20240305T070000
END:VEVENT
BEGIN:VEVENT
UID:952A42C0-E06A-400D-BAE7-1F26DE702556-26-1156_homereminder@1981.badminto
 nners.net
DTSTAMP:20260420T055134Z
SUMMARY:Thuismatch ingevuld? (Klein Boom 9G (112) - Spinshuttle 5G (109))
DESCRIPTION:Je hebt 36 uur na aanvang om een thuismatch op Badmintonvlaande
 ren in te vullen. Match info: Klein Boom 9G (112) - Spinshuttle 5G (109) -
  Link: https://www.badmintonvlaanderen.be/sport/teammatch.aspx?id=952A42C0
 -E06A-400D-BAE7-1F26DE702556&match=1156
DTSTART;TZID=Europe/Brussels:20240306T080000
DTEND;TZID=Europe/Brussels:20240306T080000
END:VEVENT
BEGIN:VEVENT
UID:952A42C0-E06A-400D-BAE7-1F26DE702556-26-1160_awayreminder@1981.badminto
 nners.net
DTSTAMP:20260420T055134Z
SUMMARY:Uitmatch bevestigd? (Essen 1G (120) - Klein Boom 9G (112))
DESCRIPTION:Je hebt 72 uur na aanvang om een uitmatch op Badmintonvlaandere
 n in te vullen. Match info: Essen 1G (120) - Klein Boom 9G (112) - Link: h
 ttps://www.badmintonvlaanderen.be/sport/teammatch.aspx?id=952A42C0-E06A-40
 0D-BAE7-1F26DE702556&match=1160
DTSTART;TZID=Europe/Brussels:20231004T190000
DTEND;TZID=Europe/Brussels:20231004T190000
END:VEVENT
BEGIN:VEVENT
UID:952A42C0-E06A-400D-BAE7-1F26DE702556-26-1164_awayreminder@1981.badminto
 nners.net
DTSTAMP:20260420T055134Z
SUMMARY:Uitmatch bevestigd? (Opslag 4G (104) - Klein Boom 9G (112))
DESCRIPTION:Je hebt 72 uur na aanvang om een uitmatch op Badmintonvlaandere
 n in te vullen. Match info: Opslag 4G (104) - Klein Boom 9G (112) - Link: 
 https://www.badmintonvlaanderen.be/sport/teammatch.aspx?id=952A42C0-E06A-4
 00D-BAE7-1F26DE702556&match=1164
DTSTART;TZID=Europe/Brussels:20231101T191500
DTEND;TZID=Europe/Brussels:20231101T191500
END:VEVENT
BEGIN:VEVENT
UID:952A42C0-E06A-400D-BAE7-1F26DE702556-26-1162_awayreminder@1981.badminto
 nners.net
DTSTAMP:20260420T055134Z
SUMMARY:Uitmatch bevestigd? (Spinshuttle 5G (109) - Klein Boom 9G (112))
DESCRIPTION:Je hebt 72 uur na aanvang om een uitmatch op Badmintonvlaandere
 n in te vullen. Match info: Spinshuttle 5G (109) - Klein Boom 9G (112) - L
 ink: https://www.badmintonvlaanderen.be/sport/teammatch.aspx?id=952A42C0-E
 06A-400D-BAE7-1F26DE702556&match=1162
DTSTART;TZID=Europe/Brussels:20231208T200000
DTEND;TZID=Europe/Brussels:20231208T200000
END:VEVENT
BEGIN:VEVENT
UID:952A42C0-E06A-400D-BAE7-1F26DE702556-26-1161_awayreminder@1981.badminto
 nners.net
DTSTAMP:20260420T055134Z
SUMMARY:Uitmatch bevestigd? (Klein Boom 7G (108) - Klein Boom 9G (112))
DESCRIPTION:Je hebt 72 uur na aanvang om een uitmatch op Badmintonvlaandere
 n in te vullen. Match info: Klein Boom 7G (108) - Klein Boom 9G (112) - Li
 nk: https://www.badmintonvlaanderen.be/sport/teammatch.aspx?id=952A42C0-E0
 6A-400D-BAE7-1F26DE702556&match=1161
DTSTART;TZID=Europe/Brussels:20240110T190000
DTEND;TZID=Europe/Brussels:20240110T190000
END:VEVENT
BEGIN:VEVENT
UID:952A42C0-E06A-400D-BAE7-1F26DE702556-26-1159_awayreminder@1981.badminto
 nners.net
DTSTAMP:20260420T055134Z
SUMMARY:Uitmatch bevestigd? (Waverse 2G (103) - Klein Boom 9G (112))
DESCRIPTION:Je hebt 72 uur na aanvang om een uitmatch op Badmintonvlaandere
 n in te vullen. Match info: Waverse 2G (103) - Klein Boom 9G (112) - Link:
  https://www.badmintonvlaanderen.be/sport/teammatch.aspx?id=952A42C0-E06A-
 400D-BAE7-1F26DE702556&match=1159
DTSTART;TZID=Europe/Brussels:20240221T140000
DTEND;TZID=Europe/Brussels:20240221T140000
END:VEVENT
BEGIN:VEVENT
UID:952A42C0-E06A-400D-BAE7-1F26DE702556-26-1163_awayreminder@1981.badminto
 nners.net
DTSTAMP:20260420T055134Z
SUMMARY:Uitmatch bevestigd? (Bacss 4G (108) - Klein Boom 9G (112))
DESCRIPTION:Je hebt 72 uur na aanvang om een uitmatch op Badmintonvlaandere
 n in te vullen. Match info: Bacss 4G (108) - Klein Boom 9G (112) - Link: h
 ttps://www.badmintonvlaanderen.be/sport/teammatch.aspx?id=952A42C0-E06A-40
 0D-BAE7-1F26DE702556&match=1163
DTSTART;TZID=Europe/Brussels:20240318T201500
DTEND;TZID=Europe/Brussels:20240318T201500
END:VEVENT
END:VCALENDAR