BEGIN:VCALENDAR
VERSION:2.0
PRODID:spatie/icalendar-generator
NAME:klein_boom_7g_108_reminders
X-WR-CALNAME:klein_boom_7g_108_reminders
BEGIN:VTIMEZONE
TZID:Europe/Brussels
BEGIN:DAYLIGHT
DTSTART:20230326T010000
TZOFFSETFROM:+0100
TZOFFSETTO:+0200
END:DAYLIGHT
BEGIN:STANDARD
DTSTART:20231029T030000
TZOFFSETFROM:+0200
TZOFFSETTO:+0100
END:STANDARD
BEGIN:DAYLIGHT
DTSTART:20240331T010000
TZOFFSETFROM:+0100
TZOFFSETTO:+0200
END:DAYLIGHT
END:VTIMEZONE
BEGIN:VTIMEZONE
TZID:UTC
BEGIN:STANDARD
DTSTART:20250724T055150
TZOFFSETFROM:+0000
TZOFFSETTO:+0000
END:STANDARD
END:VTIMEZONE
BEGIN:VEVENT
UID:952A42C0-E06A-400D-BAE7-1F26DE702556-26-1155_homereminder@1982.badminto
 nners.net
DTSTAMP:20260420T055150Z
SUMMARY:Thuismatch ingevuld? (Klein Boom 7G (108) - Spinshuttle 5G (109))
DESCRIPTION:Je hebt 36 uur na aanvang om een thuismatch op Badmintonvlaande
 ren in te vullen. Match info: Klein Boom 7G (108) - Spinshuttle 5G (109) -
  Link: https://www.badmintonvlaanderen.be/sport/teammatch.aspx?id=952A42C0
 -E06A-400D-BAE7-1F26DE702556&match=1155
DTSTART;TZID=Europe/Brussels:20231003T070000
DTEND;TZID=Europe/Brussels:20231003T070000
END:VEVENT
BEGIN:VEVENT
UID:952A42C0-E06A-400D-BAE7-1F26DE702556-26-1136_homereminder@1982.badminto
 nners.net
DTSTAMP:20260420T055150Z
SUMMARY:Thuismatch ingevuld? (Klein Boom 7G (108) - Waverse 2G (103))
DESCRIPTION:Je hebt 36 uur na aanvang om een thuismatch op Badmintonvlaande
 ren in te vullen. Match info: Klein Boom 7G (108) - Waverse 2G (103) - Lin
 k: https://www.badmintonvlaanderen.be/sport/teammatch.aspx?id=952A42C0-E06
 A-400D-BAE7-1F26DE702556&match=1136
DTSTART;TZID=Europe/Brussels:20231205T070000
DTEND;TZID=Europe/Brussels:20231205T070000
END:VEVENT
BEGIN:VEVENT
UID:952A42C0-E06A-400D-BAE7-1F26DE702556-26-1167_homereminder@1982.badminto
 nners.net
DTSTAMP:20260420T055150Z
SUMMARY:Thuismatch ingevuld? (Klein Boom 7G (108) - Bacss 4G (108))
DESCRIPTION:Je hebt 36 uur na aanvang om een thuismatch op Badmintonvlaande
 ren in te vullen. Match info: Klein Boom 7G (108) - Bacss 4G (108) - Link:
  https://www.badmintonvlaanderen.be/sport/teammatch.aspx?id=952A42C0-E06A-
 400D-BAE7-1F26DE702556&match=1167
DTSTART;TZID=Europe/Brussels:20231212T070000
DTEND;TZID=Europe/Brussels:20231212T070000
END:VEVENT
BEGIN:VEVENT
UID:952A42C0-E06A-400D-BAE7-1F26DE702556-26-1161_homereminder@1982.badminto
 nners.net
DTSTAMP:20260420T055150Z
SUMMARY:Thuismatch ingevuld? (Klein Boom 7G (108) - Klein Boom 9G (112))
DESCRIPTION:Je hebt 36 uur na aanvang om een thuismatch op Badmintonvlaande
 ren in te vullen. Match info: Klein Boom 7G (108) - Klein Boom 9G (112) - 
 Link: https://www.badmintonvlaanderen.be/sport/teammatch.aspx?id=952A42C0-
 E06A-400D-BAE7-1F26DE702556&match=1161
DTSTART;TZID=Europe/Brussels:20240109T070000
DTEND;TZID=Europe/Brussels:20240109T070000
END:VEVENT
BEGIN:VEVENT
UID:952A42C0-E06A-400D-BAE7-1F26DE702556-26-1142_homereminder@1982.badminto
 nners.net
DTSTAMP:20260420T055150Z
SUMMARY:Thuismatch ingevuld? (Klein Boom 7G (108) - Essen 1G (120))
DESCRIPTION:Je hebt 36 uur na aanvang om een thuismatch op Badmintonvlaande
 ren in te vullen. Match info: Klein Boom 7G (108) - Essen 1G (120) - Link:
  https://www.badmintonvlaanderen.be/sport/teammatch.aspx?id=952A42C0-E06A-
 400D-BAE7-1F26DE702556&match=1142
DTSTART;TZID=Europe/Brussels:20240305T070000
DTEND;TZID=Europe/Brussels:20240305T070000
END:VEVENT
BEGIN:VEVENT
UID:952A42C0-E06A-400D-BAE7-1F26DE702556-26-1173_homereminder@1982.badminto
 nners.net
DTSTAMP:20260420T055150Z
SUMMARY:Thuismatch ingevuld? (Klein Boom 7G (108) - Opslag 4G (104))
DESCRIPTION:Je hebt 36 uur na aanvang om een thuismatch op Badmintonvlaande
 ren in te vullen. Match info: Klein Boom 7G (108) - Opslag 4G (104) - Link
 : https://www.badmintonvlaanderen.be/sport/teammatch.aspx?id=952A42C0-E06A
 -400D-BAE7-1F26DE702556&match=1173
DTSTART;TZID=Europe/Brussels:20240416T070000
DTEND;TZID=Europe/Brussels:20240416T070000
END:VEVENT
BEGIN:VEVENT
UID:952A42C0-E06A-400D-BAE7-1F26DE702556-26-1150_awayreminder@1982.badminto
 nners.net
DTSTAMP:20260420T055150Z
SUMMARY:Uitmatch bevestigd? (Klein Boom 9G (112) - Klein Boom 7G (108))
DESCRIPTION:Je hebt 72 uur na aanvang om een uitmatch op Badmintonvlaandere
 n in te vullen. Match info: Klein Boom 9G (112) - Klein Boom 7G (108) - Li
 nk: https://www.badmintonvlaanderen.be/sport/teammatch.aspx?id=952A42C0-E0
 6A-400D-BAE7-1F26DE702556&match=1150
DTSTART;TZID=Europe/Brussels:20230906T190000
DTEND;TZID=Europe/Brussels:20230906T190000
END:VEVENT
BEGIN:VEVENT
UID:952A42C0-E06A-400D-BAE7-1F26DE702556-26-1148_awayreminder@1982.badminto
 nners.net
DTSTAMP:20260420T055150Z
SUMMARY:Uitmatch bevestigd? (Essen 1G (120) - Klein Boom 7G (108))
DESCRIPTION:Je hebt 72 uur na aanvang om een uitmatch op Badmintonvlaandere
 n in te vullen. Match info: Essen 1G (120) - Klein Boom 7G (108) - Link: h
 ttps://www.badmintonvlaanderen.be/sport/teammatch.aspx?id=952A42C0-E06A-40
 0D-BAE7-1F26DE702556&match=1148
DTSTART;TZID=Europe/Brussels:20231101T190000
DTEND;TZID=Europe/Brussels:20231101T190000
END:VEVENT
BEGIN:VEVENT
UID:952A42C0-E06A-400D-BAE7-1F26DE702556-26-1152_awayreminder@1982.badminto
 nners.net
DTSTAMP:20260420T055150Z
SUMMARY:Uitmatch bevestigd? (Opslag 4G (104) - Klein Boom 7G (108))
DESCRIPTION:Je hebt 72 uur na aanvang om een uitmatch op Badmintonvlaandere
 n in te vullen. Match info: Opslag 4G (104) - Klein Boom 7G (108) - Link: 
 https://www.badmintonvlaanderen.be/sport/teammatch.aspx?id=952A42C0-E06A-4
 00D-BAE7-1F26DE702556&match=1152
DTSTART;TZID=Europe/Brussels:20231129T191500
DTEND;TZID=Europe/Brussels:20231129T191500
END:VEVENT
BEGIN:VEVENT
UID:952A42C0-E06A-400D-BAE7-1F26DE702556-26-1149_awayreminder@1982.badminto
 nners.net
DTSTAMP:20260420T055150Z
SUMMARY:Uitmatch bevestigd? (Spinshuttle 5G (109) - Klein Boom 7G (108))
DESCRIPTION:Je hebt 72 uur na aanvang om een uitmatch op Badmintonvlaandere
 n in te vullen. Match info: Spinshuttle 5G (109) - Klein Boom 7G (108) - L
 ink: https://www.badmintonvlaanderen.be/sport/teammatch.aspx?id=952A42C0-E
 06A-400D-BAE7-1F26DE702556&match=1149
DTSTART;TZID=Europe/Brussels:20240119T200000
DTEND;TZID=Europe/Brussels:20240119T200000
END:VEVENT
BEGIN:VEVENT
UID:952A42C0-E06A-400D-BAE7-1F26DE702556-26-1147_awayreminder@1982.badminto
 nners.net
DTSTAMP:20260420T055150Z
SUMMARY:Uitmatch bevestigd? (Waverse 2G (103) - Klein Boom 7G (108))
DESCRIPTION:Je hebt 72 uur na aanvang om een uitmatch op Badmintonvlaandere
 n in te vullen. Match info: Waverse 2G (103) - Klein Boom 7G (108) - Link:
  https://www.badmintonvlaanderen.be/sport/teammatch.aspx?id=952A42C0-E06A-
 400D-BAE7-1F26DE702556&match=1147
DTSTART;TZID=Europe/Brussels:20240320T140000
DTEND;TZID=Europe/Brussels:20240320T140000
END:VEVENT
BEGIN:VEVENT
UID:952A42C0-E06A-400D-BAE7-1F26DE702556-26-1151_awayreminder@1982.badminto
 nners.net
DTSTAMP:20260420T055150Z
SUMMARY:Uitmatch bevestigd? (Bacss 4G (108) - Klein Boom 7G (108))
DESCRIPTION:Je hebt 72 uur na aanvang om een uitmatch op Badmintonvlaandere
 n in te vullen. Match info: Bacss 4G (108) - Klein Boom 7G (108) - Link: h
 ttps://www.badmintonvlaanderen.be/sport/teammatch.aspx?id=952A42C0-E06A-40
 0D-BAE7-1F26DE702556&match=1151
DTSTART;TZID=Europe/Brussels:20240401T211500
DTEND;TZID=Europe/Brussels:20240401T211500
END:VEVENT
END:VCALENDAR