BEGIN:VCALENDAR
VERSION:2.0
PRODID:spatie/icalendar-generator
NAME:opslag_4g_104_reminders
X-WR-CALNAME:opslag_4g_104_reminders
BEGIN:VTIMEZONE
TZID:Europe/Brussels
BEGIN:DAYLIGHT
DTSTART:20230326T010000
TZOFFSETFROM:+0100
TZOFFSETTO:+0200
END:DAYLIGHT
BEGIN:STANDARD
DTSTART:20231029T030000
TZOFFSETFROM:+0200
TZOFFSETTO:+0100
END:STANDARD
BEGIN:DAYLIGHT
DTSTART:20240331T010000
TZOFFSETFROM:+0100
TZOFFSETTO:+0200
END:DAYLIGHT
BEGIN:STANDARD
DTSTART:20241027T030000
TZOFFSETFROM:+0200
TZOFFSETTO:+0100
END:STANDARD
END:VTIMEZONE
BEGIN:VTIMEZONE
TZID:UTC
BEGIN:STANDARD
DTSTART:20250724T073518
TZOFFSETFROM:+0000
TZOFFSETTO:+0000
END:STANDARD
END:VTIMEZONE
BEGIN:VEVENT
UID:952A42C0-E06A-400D-BAE7-1F26DE702556-26-1140_homereminder@1983.badminto
 nners.net
DTSTAMP:20260420T073518Z
SUMMARY:Thuismatch ingevuld? (Opslag 4G (104) - Waverse 2G (103))
DESCRIPTION:Je hebt 36 uur na aanvang om een thuismatch op Badmintonvlaande
 ren in te vullen. Match info: Opslag 4G (104) - Waverse 2G (103) - Link: h
 ttps://www.badmintonvlaanderen.be/sport/teammatch.aspx?id=952A42C0-E06A-40
 0D-BAE7-1F26DE702556&match=1140
DTSTART;TZID=Europe/Brussels:20230919T071500
DTEND;TZID=Europe/Brussels:20230919T071500
END:VEVENT
BEGIN:VEVENT
UID:952A42C0-E06A-400D-BAE7-1F26DE702556-26-1164_homereminder@1983.badminto
 nners.net
DTSTAMP:20260420T073518Z
SUMMARY:Thuismatch ingevuld? (Opslag 4G (104) - Klein Boom 9G (112))
DESCRIPTION:Je hebt 36 uur na aanvang om een thuismatch op Badmintonvlaande
 ren in te vullen. Match info: Opslag 4G (104) - Klein Boom 9G (112) - Link
 : https://www.badmintonvlaanderen.be/sport/teammatch.aspx?id=952A42C0-E06A
 -400D-BAE7-1F26DE702556&match=1164
DTSTART;TZID=Europe/Brussels:20231031T071500
DTEND;TZID=Europe/Brussels:20231031T071500
END:VEVENT
BEGIN:VEVENT
UID:952A42C0-E06A-400D-BAE7-1F26DE702556-26-1152_homereminder@1983.badminto
 nners.net
DTSTAMP:20260420T073518Z
SUMMARY:Thuismatch ingevuld? (Opslag 4G (104) - Klein Boom 7G (108))
DESCRIPTION:Je hebt 36 uur na aanvang om een thuismatch op Badmintonvlaande
 ren in te vullen. Match info: Opslag 4G (104) - Klein Boom 7G (108) - Link
 : https://www.badmintonvlaanderen.be/sport/teammatch.aspx?id=952A42C0-E06A
 -400D-BAE7-1F26DE702556&match=1152
DTSTART;TZID=Europe/Brussels:20231128T071500
DTEND;TZID=Europe/Brussels:20231128T071500
END:VEVENT
BEGIN:VEVENT
UID:952A42C0-E06A-400D-BAE7-1F26DE702556-26-1170_homereminder@1983.badminto
 nners.net
DTSTAMP:20260420T073518Z
SUMMARY:Thuismatch ingevuld? (Opslag 4G (104) - Bacss 4G (108))
DESCRIPTION:Je hebt 36 uur na aanvang om een thuismatch op Badmintonvlaande
 ren in te vullen. Match info: Opslag 4G (104) - Bacss 4G (108) - Link: htt
 ps://www.badmintonvlaanderen.be/sport/teammatch.aspx?id=952A42C0-E06A-400D
 -BAE7-1F26DE702556&match=1170
DTSTART;TZID=Europe/Brussels:20240220T071500
DTEND;TZID=Europe/Brussels:20240220T071500
END:VEVENT
BEGIN:VEVENT
UID:952A42C0-E06A-400D-BAE7-1F26DE702556-26-1158_homereminder@1983.badminto
 nners.net
DTSTAMP:20260420T073518Z
SUMMARY:Thuismatch ingevuld? (Opslag 4G (104) - Spinshuttle 5G (109))
DESCRIPTION:Je hebt 36 uur na aanvang om een thuismatch op Badmintonvlaande
 ren in te vullen. Match info: Opslag 4G (104) - Spinshuttle 5G (109) - Lin
 k: https://www.badmintonvlaanderen.be/sport/teammatch.aspx?id=952A42C0-E06
 A-400D-BAE7-1F26DE702556&match=1158
DTSTART;TZID=Europe/Brussels:20240319T043000
DTEND;TZID=Europe/Brussels:20240319T043000
END:VEVENT
BEGIN:VEVENT
UID:952A42C0-E06A-400D-BAE7-1F26DE702556-26-1146_homereminder@1983.badminto
 nners.net
DTSTAMP:20260420T073518Z
SUMMARY:Thuismatch ingevuld? (Opslag 4G (104) - Essen 1G (120))
DESCRIPTION:Je hebt 36 uur na aanvang om een thuismatch op Badmintonvlaande
 ren in te vullen. Match info: Opslag 4G (104) - Essen 1G (120) - Link: htt
 ps://www.badmintonvlaanderen.be/sport/teammatch.aspx?id=952A42C0-E06A-400D
 -BAE7-1F26DE702556&match=1146
DTSTART;TZID=Europe/Brussels:20240430T043000
DTEND;TZID=Europe/Brussels:20240430T043000
END:VEVENT
BEGIN:VEVENT
UID:952A42C0-E06A-400D-BAE7-1F26DE702556-26-1174_awayreminder@1983.badminto
 nners.net
DTSTAMP:20260420T073518Z
SUMMARY:Uitmatch bevestigd? (Spinshuttle 5G (109) - Opslag 4G (104))
DESCRIPTION:Je hebt 72 uur na aanvang om een uitmatch op Badmintonvlaandere
 n in te vullen. Match info: Spinshuttle 5G (109) - Opslag 4G (104) - Link:
  https://www.badmintonvlaanderen.be/sport/teammatch.aspx?id=952A42C0-E06A-
 400D-BAE7-1F26DE702556&match=1174
DTSTART;TZID=Europe/Brussels:20231110T200000
DTEND;TZID=Europe/Brussels:20231110T200000
END:VEVENT
BEGIN:VEVENT
UID:952A42C0-E06A-400D-BAE7-1F26DE702556-26-1172_awayreminder@1983.badminto
 nners.net
DTSTAMP:20260420T073518Z
SUMMARY:Uitmatch bevestigd? (Essen 1G (120) - Opslag 4G (104))
DESCRIPTION:Je hebt 72 uur na aanvang om een uitmatch op Badmintonvlaandere
 n in te vullen. Match info: Essen 1G (120) - Opslag 4G (104) - Link: https
 ://www.badmintonvlaanderen.be/sport/teammatch.aspx?id=952A42C0-E06A-400D-B
 AE7-1F26DE702556&match=1172
DTSTART;TZID=Europe/Brussels:20231213T190000
DTEND;TZID=Europe/Brussels:20231213T190000
END:VEVENT
BEGIN:VEVENT
UID:952A42C0-E06A-400D-BAE7-1F26DE702556-26-1176_awayreminder@1983.badminto
 nners.net
DTSTAMP:20260420T073518Z
SUMMARY:Uitmatch bevestigd? (Bacss 4G (108) - Opslag 4G (104))
DESCRIPTION:Je hebt 72 uur na aanvang om een uitmatch op Badmintonvlaandere
 n in te vullen. Match info: Bacss 4G (108) - Opslag 4G (104) - Link: https
 ://www.badmintonvlaanderen.be/sport/teammatch.aspx?id=952A42C0-E06A-400D-B
 AE7-1F26DE702556&match=1176
DTSTART;TZID=Europe/Brussels:20231225T201500
DTEND;TZID=Europe/Brussels:20231225T201500
END:VEVENT
BEGIN:VEVENT
UID:952A42C0-E06A-400D-BAE7-1F26DE702556-26-1171_awayreminder@1983.badminto
 nners.net
DTSTAMP:20260420T073518Z
SUMMARY:Uitmatch bevestigd? (Waverse 2G (103) - Opslag 4G (104))
DESCRIPTION:Je hebt 72 uur na aanvang om een uitmatch op Badmintonvlaandere
 n in te vullen. Match info: Waverse 2G (103) - Opslag 4G (104) - Link: htt
 ps://www.badmintonvlaanderen.be/sport/teammatch.aspx?id=952A42C0-E06A-400D
 -BAE7-1F26DE702556&match=1171
DTSTART;TZID=Europe/Brussels:20240124T140000
DTEND;TZID=Europe/Brussels:20240124T140000
END:VEVENT
BEGIN:VEVENT
UID:952A42C0-E06A-400D-BAE7-1F26DE702556-26-1175_awayreminder@1983.badminto
 nners.net
DTSTAMP:20260420T073518Z
SUMMARY:Uitmatch bevestigd? (Klein Boom 9G (112) - Opslag 4G (104))
DESCRIPTION:Je hebt 72 uur na aanvang om een uitmatch op Badmintonvlaandere
 n in te vullen. Match info: Klein Boom 9G (112) - Opslag 4G (104) - Link: 
 https://www.badmintonvlaanderen.be/sport/teammatch.aspx?id=952A42C0-E06A-4
 00D-BAE7-1F26DE702556&match=1175
DTSTART;TZID=Europe/Brussels:20240306T190000
DTEND;TZID=Europe/Brussels:20240306T190000
END:VEVENT
BEGIN:VEVENT
UID:952A42C0-E06A-400D-BAE7-1F26DE702556-26-1173_awayreminder@1983.badminto
 nners.net
DTSTAMP:20260420T073518Z
SUMMARY:Uitmatch bevestigd? (Klein Boom 7G (108) - Opslag 4G (104))
DESCRIPTION:Je hebt 72 uur na aanvang om een uitmatch op Badmintonvlaandere
 n in te vullen. Match info: Klein Boom 7G (108) - Opslag 4G (104) - Link: 
 https://www.badmintonvlaanderen.be/sport/teammatch.aspx?id=952A42C0-E06A-4
 00D-BAE7-1F26DE702556&match=1173
DTSTART;TZID=Europe/Brussels:20240417T190000
DTEND;TZID=Europe/Brussels:20240417T190000
END:VEVENT
END:VCALENDAR