BEGIN:VCALENDAR
VERSION:2.0
PRODID:spatie/icalendar-generator
NAME:essen_1g_120_reminders
X-WR-CALNAME:essen_1g_120_reminders
BEGIN:VTIMEZONE
TZID:Europe/Brussels
BEGIN:DAYLIGHT
DTSTART:20230326T010000
TZOFFSETFROM:+0100
TZOFFSETTO:+0200
END:DAYLIGHT
BEGIN:STANDARD
DTSTART:20231029T030000
TZOFFSETFROM:+0200
TZOFFSETTO:+0100
END:STANDARD
BEGIN:DAYLIGHT
DTSTART:20240331T010000
TZOFFSETFROM:+0100
TZOFFSETTO:+0200
END:DAYLIGHT
BEGIN:STANDARD
DTSTART:20241027T030000
TZOFFSETFROM:+0200
TZOFFSETTO:+0100
END:STANDARD
END:VTIMEZONE
BEGIN:VTIMEZONE
TZID:UTC
BEGIN:STANDARD
DTSTART:20250724T073705
TZOFFSETFROM:+0000
TZOFFSETTO:+0000
END:STANDARD
END:VTIMEZONE
BEGIN:VEVENT
UID:952A42C0-E06A-400D-BAE7-1F26DE702556-26-1160_homereminder@1984.badminto
 nners.net
DTSTAMP:20260420T073705Z
SUMMARY:Thuismatch ingevuld? (Essen 1G (120) - Klein Boom 9G (112))
DESCRIPTION:Je hebt 36 uur na aanvang om een thuismatch op Badmintonvlaande
 ren in te vullen. Match info: Essen 1G (120) - Klein Boom 9G (112) - Link:
  https://www.badmintonvlaanderen.be/sport/teammatch.aspx?id=952A42C0-E06A-
 400D-BAE7-1F26DE702556&match=1160
DTSTART;TZID=Europe/Brussels:20231003T070000
DTEND;TZID=Europe/Brussels:20231003T070000
END:VEVENT
BEGIN:VEVENT
UID:952A42C0-E06A-400D-BAE7-1F26DE702556-26-1148_homereminder@1984.badminto
 nners.net
DTSTAMP:20260420T073705Z
SUMMARY:Thuismatch ingevuld? (Essen 1G (120) - Klein Boom 7G (108))
DESCRIPTION:Je hebt 36 uur na aanvang om een thuismatch op Badmintonvlaande
 ren in te vullen. Match info: Essen 1G (120) - Klein Boom 7G (108) - Link:
  https://www.badmintonvlaanderen.be/sport/teammatch.aspx?id=952A42C0-E06A-
 400D-BAE7-1F26DE702556&match=1148
DTSTART;TZID=Europe/Brussels:20231031T070000
DTEND;TZID=Europe/Brussels:20231031T070000
END:VEVENT
BEGIN:VEVENT
UID:952A42C0-E06A-400D-BAE7-1F26DE702556-26-1172_homereminder@1984.badminto
 nners.net
DTSTAMP:20260420T073705Z
SUMMARY:Thuismatch ingevuld? (Essen 1G (120) - Opslag 4G (104))
DESCRIPTION:Je hebt 36 uur na aanvang om een thuismatch op Badmintonvlaande
 ren in te vullen. Match info: Essen 1G (120) - Opslag 4G (104) - Link: htt
 ps://www.badmintonvlaanderen.be/sport/teammatch.aspx?id=952A42C0-E06A-400D
 -BAE7-1F26DE702556&match=1172
DTSTART;TZID=Europe/Brussels:20231212T070000
DTEND;TZID=Europe/Brussels:20231212T070000
END:VEVENT
BEGIN:VEVENT
UID:952A42C0-E06A-400D-BAE7-1F26DE702556-26-1166_homereminder@1984.badminto
 nners.net
DTSTAMP:20260420T073705Z
SUMMARY:Thuismatch ingevuld? (Essen 1G (120) - Bacss 4G (108))
DESCRIPTION:Je hebt 36 uur na aanvang om een thuismatch op Badmintonvlaande
 ren in te vullen. Match info: Essen 1G (120) - Bacss 4G (108) - Link: http
 s://www.badmintonvlaanderen.be/sport/teammatch.aspx?id=952A42C0-E06A-400D-
 BAE7-1F26DE702556&match=1166
DTSTART;TZID=Europe/Brussels:20240123T070000
DTEND;TZID=Europe/Brussels:20240123T070000
END:VEVENT
BEGIN:VEVENT
UID:952A42C0-E06A-400D-BAE7-1F26DE702556-26-1154_homereminder@1984.badminto
 nners.net
DTSTAMP:20260420T073705Z
SUMMARY:Thuismatch ingevuld? (Essen 1G (120) - Spinshuttle 5G (109))
DESCRIPTION:Je hebt 36 uur na aanvang om een thuismatch op Badmintonvlaande
 ren in te vullen. Match info: Essen 1G (120) - Spinshuttle 5G (109) - Link
 : https://www.badmintonvlaanderen.be/sport/teammatch.aspx?id=952A42C0-E06A
 -400D-BAE7-1F26DE702556&match=1154
DTSTART;TZID=Europe/Brussels:20240220T070000
DTEND;TZID=Europe/Brussels:20240220T070000
END:VEVENT
BEGIN:VEVENT
UID:952A42C0-E06A-400D-BAE7-1F26DE702556-26-1135_homereminder@1984.badminto
 nners.net
DTSTAMP:20260420T073705Z
SUMMARY:Thuismatch ingevuld? (Essen 1G (120) - Waverse 2G (103))
DESCRIPTION:Je hebt 36 uur na aanvang om een thuismatch op Badmintonvlaande
 ren in te vullen. Match info: Essen 1G (120) - Waverse 2G (103) - Link: ht
 tps://www.badmintonvlaanderen.be/sport/teammatch.aspx?id=952A42C0-E06A-400
 D-BAE7-1F26DE702556&match=1135
DTSTART;TZID=Europe/Brussels:20240416T070000
DTEND;TZID=Europe/Brussels:20240416T070000
END:VEVENT
BEGIN:VEVENT
UID:952A42C0-E06A-400D-BAE7-1F26DE702556-26-1145_awayreminder@1984.badminto
 nners.net
DTSTAMP:20260420T073705Z
SUMMARY:Uitmatch bevestigd? (Bacss 4G (108) - Essen 1G (120))
DESCRIPTION:Je hebt 72 uur na aanvang om een uitmatch op Badmintonvlaandere
 n in te vullen. Match info: Bacss 4G (108) - Essen 1G (120) - Link: https:
 //www.badmintonvlaanderen.be/sport/teammatch.aspx?id=952A42C0-E06A-400D-BA
 E7-1F26DE702556&match=1145
DTSTART;TZID=Europe/Brussels:20230918T201500
DTEND;TZID=Europe/Brussels:20230918T201500
END:VEVENT
BEGIN:VEVENT
UID:952A42C0-E06A-400D-BAE7-1F26DE702556-26-1143_awayreminder@1984.badminto
 nners.net
DTSTAMP:20260420T073705Z
SUMMARY:Uitmatch bevestigd? (Spinshuttle 5G (109) - Essen 1G (120))
DESCRIPTION:Je hebt 72 uur na aanvang om een uitmatch op Badmintonvlaandere
 n in te vullen. Match info: Spinshuttle 5G (109) - Essen 1G (120) - Link: 
 https://www.badmintonvlaanderen.be/sport/teammatch.aspx?id=952A42C0-E06A-4
 00D-BAE7-1F26DE702556&match=1143
DTSTART;TZID=Europe/Brussels:20231013T200000
DTEND;TZID=Europe/Brussels:20231013T200000
END:VEVENT
BEGIN:VEVENT
UID:952A42C0-E06A-400D-BAE7-1F26DE702556-26-1141_awayreminder@1984.badminto
 nners.net
DTSTAMP:20260420T073705Z
SUMMARY:Uitmatch bevestigd? (Waverse 2G (103) - Essen 1G (120))
DESCRIPTION:Je hebt 72 uur na aanvang om een uitmatch op Badmintonvlaandere
 n in te vullen. Match info: Waverse 2G (103) - Essen 1G (120) - Link: http
 s://www.badmintonvlaanderen.be/sport/teammatch.aspx?id=952A42C0-E06A-400D-
 BAE7-1F26DE702556&match=1141
DTSTART;TZID=Europe/Brussels:20231129T140000
DTEND;TZID=Europe/Brussels:20231129T140000
END:VEVENT
BEGIN:VEVENT
UID:952A42C0-E06A-400D-BAE7-1F26DE702556-26-1144_awayreminder@1984.badminto
 nners.net
DTSTAMP:20260420T073705Z
SUMMARY:Uitmatch bevestigd? (Klein Boom 9G (112) - Essen 1G (120))
DESCRIPTION:Je hebt 72 uur na aanvang om een uitmatch op Badmintonvlaandere
 n in te vullen. Match info: Klein Boom 9G (112) - Essen 1G (120) - Link: h
 ttps://www.badmintonvlaanderen.be/sport/teammatch.aspx?id=952A42C0-E06A-40
 0D-BAE7-1F26DE702556&match=1144
DTSTART;TZID=Europe/Brussels:20240207T190000
DTEND;TZID=Europe/Brussels:20240207T190000
END:VEVENT
BEGIN:VEVENT
UID:952A42C0-E06A-400D-BAE7-1F26DE702556-26-1142_awayreminder@1984.badminto
 nners.net
DTSTAMP:20260420T073705Z
SUMMARY:Uitmatch bevestigd? (Klein Boom 7G (108) - Essen 1G (120))
DESCRIPTION:Je hebt 72 uur na aanvang om een uitmatch op Badmintonvlaandere
 n in te vullen. Match info: Klein Boom 7G (108) - Essen 1G (120) - Link: h
 ttps://www.badmintonvlaanderen.be/sport/teammatch.aspx?id=952A42C0-E06A-40
 0D-BAE7-1F26DE702556&match=1142
DTSTART;TZID=Europe/Brussels:20240306T190000
DTEND;TZID=Europe/Brussels:20240306T190000
END:VEVENT
BEGIN:VEVENT
UID:952A42C0-E06A-400D-BAE7-1F26DE702556-26-1146_awayreminder@1984.badminto
 nners.net
DTSTAMP:20260420T073705Z
SUMMARY:Uitmatch bevestigd? (Opslag 4G (104) - Essen 1G (120))
DESCRIPTION:Je hebt 72 uur na aanvang om een uitmatch op Badmintonvlaandere
 n in te vullen. Match info: Opslag 4G (104) - Essen 1G (120) - Link: https
 ://www.badmintonvlaanderen.be/sport/teammatch.aspx?id=952A42C0-E06A-400D-B
 AE7-1F26DE702556&match=1146
DTSTART;TZID=Europe/Brussels:20240501T163000
DTEND;TZID=Europe/Brussels:20240501T163000
END:VEVENT
END:VCALENDAR