BEGIN:VCALENDAR
VERSION:2.0
PRODID:spatie/icalendar-generator
NAME:bacss_4g_108_reminders
X-WR-CALNAME:bacss_4g_108_reminders
BEGIN:VTIMEZONE
TZID:Europe/Brussels
BEGIN:DAYLIGHT
DTSTART:20230326T010000
TZOFFSETFROM:+0100
TZOFFSETTO:+0200
END:DAYLIGHT
BEGIN:STANDARD
DTSTART:20231029T030000
TZOFFSETFROM:+0200
TZOFFSETTO:+0100
END:STANDARD
BEGIN:DAYLIGHT
DTSTART:20240331T010000
TZOFFSETFROM:+0100
TZOFFSETTO:+0200
END:DAYLIGHT
END:VTIMEZONE
BEGIN:VTIMEZONE
TZID:UTC
BEGIN:STANDARD
DTSTART:20250724T055126
TZOFFSETFROM:+0000
TZOFFSETTO:+0000
END:STANDARD
END:VTIMEZONE
BEGIN:VEVENT
UID:952A42C0-E06A-400D-BAE7-1F26DE702556-26-1145_homereminder@1987.badminto
 nners.net
DTSTAMP:20260420T055126Z
SUMMARY:Thuismatch ingevuld? (Bacss 4G (108) - Essen 1G (120))
DESCRIPTION:Je hebt 36 uur na aanvang om een thuismatch op Badmintonvlaande
 ren in te vullen. Match info: Bacss 4G (108) - Essen 1G (120) - Link: http
 s://www.badmintonvlaanderen.be/sport/teammatch.aspx?id=952A42C0-E06A-400D-
 BAE7-1F26DE702556&match=1145
DTSTART;TZID=Europe/Brussels:20230917T081500
DTEND;TZID=Europe/Brussels:20230917T081500
END:VEVENT
BEGIN:VEVENT
UID:952A42C0-E06A-400D-BAE7-1F26DE702556-26-1157_homereminder@1987.badminto
 nners.net
DTSTAMP:20260420T055126Z
SUMMARY:Thuismatch ingevuld? (Bacss 4G (108) - Spinshuttle 5G (109))
DESCRIPTION:Je hebt 36 uur na aanvang om een thuismatch op Badmintonvlaande
 ren in te vullen. Match info: Bacss 4G (108) - Spinshuttle 5G (109) - Link
 : https://www.badmintonvlaanderen.be/sport/teammatch.aspx?id=952A42C0-E06A
 -400D-BAE7-1F26DE702556&match=1157
DTSTART;TZID=Europe/Brussels:20231204T220000
DTEND;TZID=Europe/Brussels:20231204T220000
END:VEVENT
BEGIN:VEVENT
UID:952A42C0-E06A-400D-BAE7-1F26DE702556-26-1176_homereminder@1987.badminto
 nners.net
DTSTAMP:20260420T055126Z
SUMMARY:Thuismatch ingevuld? (Bacss 4G (108) - Opslag 4G (104))
DESCRIPTION:Je hebt 36 uur na aanvang om een thuismatch op Badmintonvlaande
 ren in te vullen. Match info: Bacss 4G (108) - Opslag 4G (104) - Link: htt
 ps://www.badmintonvlaanderen.be/sport/teammatch.aspx?id=952A42C0-E06A-400D
 -BAE7-1F26DE702556&match=1176
DTSTART;TZID=Europe/Brussels:20231224T081500
DTEND;TZID=Europe/Brussels:20231224T081500
END:VEVENT
BEGIN:VEVENT
UID:952A42C0-E06A-400D-BAE7-1F26DE702556-26-1139_homereminder@1987.badminto
 nners.net
DTSTAMP:20260420T055126Z
SUMMARY:Thuismatch ingevuld? (Bacss 4G (108) - Waverse 2G (103))
DESCRIPTION:Je hebt 36 uur na aanvang om een thuismatch op Badmintonvlaande
 ren in te vullen. Match info: Bacss 4G (108) - Waverse 2G (103) - Link: ht
 tps://www.badmintonvlaanderen.be/sport/teammatch.aspx?id=952A42C0-E06A-400
 D-BAE7-1F26DE702556&match=1139
DTSTART;TZID=Europe/Brussels:20240204T081500
DTEND;TZID=Europe/Brussels:20240204T081500
END:VEVENT
BEGIN:VEVENT
UID:952A42C0-E06A-400D-BAE7-1F26DE702556-26-1163_homereminder@1987.badminto
 nners.net
DTSTAMP:20260420T055126Z
SUMMARY:Thuismatch ingevuld? (Bacss 4G (108) - Klein Boom 9G (112))
DESCRIPTION:Je hebt 36 uur na aanvang om een thuismatch op Badmintonvlaande
 ren in te vullen. Match info: Bacss 4G (108) - Klein Boom 9G (112) - Link:
  https://www.badmintonvlaanderen.be/sport/teammatch.aspx?id=952A42C0-E06A-
 400D-BAE7-1F26DE702556&match=1163
DTSTART;TZID=Europe/Brussels:20240317T081500
DTEND;TZID=Europe/Brussels:20240317T081500
END:VEVENT
BEGIN:VEVENT
UID:952A42C0-E06A-400D-BAE7-1F26DE702556-26-1151_homereminder@1987.badminto
 nners.net
DTSTAMP:20260420T055126Z
SUMMARY:Thuismatch ingevuld? (Bacss 4G (108) - Klein Boom 7G (108))
DESCRIPTION:Je hebt 36 uur na aanvang om een thuismatch op Badmintonvlaande
 ren in te vullen. Match info: Bacss 4G (108) - Klein Boom 7G (108) - Link:
  https://www.badmintonvlaanderen.be/sport/teammatch.aspx?id=952A42C0-E06A-
 400D-BAE7-1F26DE702556&match=1151
DTSTART;TZID=Europe/Brussels:20240331T091500
DTEND;TZID=Europe/Brussels:20240331T091500
END:VEVENT
BEGIN:VEVENT
UID:952A42C0-E06A-400D-BAE7-1F26DE702556-26-1165_awayreminder@1987.badminto
 nners.net
DTSTAMP:20260420T055126Z
SUMMARY:Uitmatch bevestigd? (Waverse 2G (103) - Bacss 4G (108))
DESCRIPTION:Je hebt 72 uur na aanvang om een uitmatch op Badmintonvlaandere
 n in te vullen. Match info: Waverse 2G (103) - Bacss 4G (108) - Link: http
 s://www.badmintonvlaanderen.be/sport/teammatch.aspx?id=952A42C0-E06A-400D-
 BAE7-1F26DE702556&match=1165
DTSTART;TZID=Europe/Brussels:20231025T140000
DTEND;TZID=Europe/Brussels:20231025T140000
END:VEVENT
BEGIN:VEVENT
UID:952A42C0-E06A-400D-BAE7-1F26DE702556-26-1169_awayreminder@1987.badminto
 nners.net
DTSTAMP:20260420T055126Z
SUMMARY:Uitmatch bevestigd? (Klein Boom 9G (112) - Bacss 4G (108))
DESCRIPTION:Je hebt 72 uur na aanvang om een uitmatch op Badmintonvlaandere
 n in te vullen. Match info: Klein Boom 9G (112) - Bacss 4G (108) - Link: h
 ttps://www.badmintonvlaanderen.be/sport/teammatch.aspx?id=952A42C0-E06A-40
 0D-BAE7-1F26DE702556&match=1169
DTSTART;TZID=Europe/Brussels:20231115T190000
DTEND;TZID=Europe/Brussels:20231115T190000
END:VEVENT
BEGIN:VEVENT
UID:952A42C0-E06A-400D-BAE7-1F26DE702556-26-1167_awayreminder@1987.badminto
 nners.net
DTSTAMP:20260420T055126Z
SUMMARY:Uitmatch bevestigd? (Klein Boom 7G (108) - Bacss 4G (108))
DESCRIPTION:Je hebt 72 uur na aanvang om een uitmatch op Badmintonvlaandere
 n in te vullen. Match info: Klein Boom 7G (108) - Bacss 4G (108) - Link: h
 ttps://www.badmintonvlaanderen.be/sport/teammatch.aspx?id=952A42C0-E06A-40
 0D-BAE7-1F26DE702556&match=1167
DTSTART;TZID=Europe/Brussels:20231213T190000
DTEND;TZID=Europe/Brussels:20231213T190000
END:VEVENT
BEGIN:VEVENT
UID:952A42C0-E06A-400D-BAE7-1F26DE702556-26-1166_awayreminder@1987.badminto
 nners.net
DTSTAMP:20260420T055126Z
SUMMARY:Uitmatch bevestigd? (Essen 1G (120) - Bacss 4G (108))
DESCRIPTION:Je hebt 72 uur na aanvang om een uitmatch op Badmintonvlaandere
 n in te vullen. Match info: Essen 1G (120) - Bacss 4G (108) - Link: https:
 //www.badmintonvlaanderen.be/sport/teammatch.aspx?id=952A42C0-E06A-400D-BA
 E7-1F26DE702556&match=1166
DTSTART;TZID=Europe/Brussels:20240124T190000
DTEND;TZID=Europe/Brussels:20240124T190000
END:VEVENT
BEGIN:VEVENT
UID:952A42C0-E06A-400D-BAE7-1F26DE702556-26-1170_awayreminder@1987.badminto
 nners.net
DTSTAMP:20260420T055126Z
SUMMARY:Uitmatch bevestigd? (Opslag 4G (104) - Bacss 4G (108))
DESCRIPTION:Je hebt 72 uur na aanvang om een uitmatch op Badmintonvlaandere
 n in te vullen. Match info: Opslag 4G (104) - Bacss 4G (108) - Link: https
 ://www.badmintonvlaanderen.be/sport/teammatch.aspx?id=952A42C0-E06A-400D-B
 AE7-1F26DE702556&match=1170
DTSTART;TZID=Europe/Brussels:20240221T191500
DTEND;TZID=Europe/Brussels:20240221T191500
END:VEVENT
BEGIN:VEVENT
UID:952A42C0-E06A-400D-BAE7-1F26DE702556-26-1168_awayreminder@1987.badminto
 nners.net
DTSTAMP:20260420T055126Z
SUMMARY:Uitmatch bevestigd? (Spinshuttle 5G (109) - Bacss 4G (108))
DESCRIPTION:Je hebt 72 uur na aanvang om een uitmatch op Badmintonvlaandere
 n in te vullen. Match info: Spinshuttle 5G (109) - Bacss 4G (108) - Link: 
 https://www.badmintonvlaanderen.be/sport/teammatch.aspx?id=952A42C0-E06A-4
 00D-BAE7-1F26DE702556&match=1168
DTSTART;TZID=Europe/Brussels:20240412T200000
DTEND;TZID=Europe/Brussels:20240412T200000
END:VEVENT
END:VCALENDAR