BEGIN:VCALENDAR
VERSION:2.0
PRODID:spatie/icalendar-generator
NAME:spinners_1g_131_reminders
X-WR-CALNAME:spinners_1g_131_reminders
BEGIN:VTIMEZONE
TZID:Europe/Brussels
BEGIN:DAYLIGHT
DTSTART:20230326T010000
TZOFFSETFROM:+0100
TZOFFSETTO:+0200
END:DAYLIGHT
BEGIN:STANDARD
DTSTART:20231029T030000
TZOFFSETFROM:+0200
TZOFFSETTO:+0100
END:STANDARD
BEGIN:DAYLIGHT
DTSTART:20240331T010000
TZOFFSETFROM:+0100
TZOFFSETTO:+0200
END:DAYLIGHT
END:VTIMEZONE
BEGIN:VTIMEZONE
TZID:UTC
BEGIN:STANDARD
DTSTART:20250724T055128
TZOFFSETFROM:+0000
TZOFFSETTO:+0000
END:STANDARD
END:VTIMEZONE
BEGIN:VEVENT
UID:952A42C0-E06A-400D-BAE7-1F26DE702556-27-1216_homereminder@2005.badminto
 nners.net
DTSTAMP:20260420T055128Z
SUMMARY:Thuismatch ingevuld? (Spinners 1G (131) - Klein Boom 10G (121))
DESCRIPTION:Je hebt 36 uur na aanvang om een thuismatch op Badmintonvlaande
 ren in te vullen. Match info: Spinners 1G (131) - Klein Boom 10G (121) - L
 ink: https://www.badmintonvlaanderen.be/sport/teammatch.aspx?id=952A42C0-E
 06A-400D-BAE7-1F26DE702556&match=1216
DTSTART;TZID=Europe/Brussels:20231008T080000
DTEND;TZID=Europe/Brussels:20231008T080000
END:VEVENT
BEGIN:VEVENT
UID:952A42C0-E06A-400D-BAE7-1F26DE702556-27-1185_homereminder@2005.badminto
 nners.net
DTSTAMP:20260420T055128Z
SUMMARY:Thuismatch ingevuld? (Spinners 1G (131) - Plumula 4G (119))
DESCRIPTION:Je hebt 36 uur na aanvang om een thuismatch op Badmintonvlaande
 ren in te vullen. Match info: Spinners 1G (131) - Plumula 4G (119) - Link:
  https://www.badmintonvlaanderen.be/sport/teammatch.aspx?id=952A42C0-E06A-
 400D-BAE7-1F26DE702556&match=1185
DTSTART;TZID=Europe/Brussels:20231015T090000
DTEND;TZID=Europe/Brussels:20231015T090000
END:VEVENT
BEGIN:VEVENT
UID:952A42C0-E06A-400D-BAE7-1F26DE702556-27-1204_homereminder@2005.badminto
 nners.net
DTSTAMP:20260420T055128Z
SUMMARY:Thuismatch ingevuld? (Spinners 1G (131) - Oelegem 1G (142))
DESCRIPTION:Je hebt 36 uur na aanvang om een thuismatch op Badmintonvlaande
 ren in te vullen. Match info: Spinners 1G (131) - Oelegem 1G (142) - Link:
  https://www.badmintonvlaanderen.be/sport/teammatch.aspx?id=952A42C0-E06A-
 400D-BAE7-1F26DE702556&match=1204
DTSTART;TZID=Europe/Brussels:20231210T090000
DTEND;TZID=Europe/Brussels:20231210T090000
END:VEVENT
BEGIN:VEVENT
UID:952A42C0-E06A-400D-BAE7-1F26DE702556-27-1222_homereminder@2005.badminto
 nners.net
DTSTAMP:20260420T055128Z
SUMMARY:Thuismatch ingevuld? (Spinners 1G (131) - Baret 1G (126))
DESCRIPTION:Je hebt 36 uur na aanvang om een thuismatch op Badmintonvlaande
 ren in te vullen. Match info: Spinners 1G (131) - Baret 1G (126) - Link: h
 ttps://www.badmintonvlaanderen.be/sport/teammatch.aspx?id=952A42C0-E06A-40
 0D-BAE7-1F26DE702556&match=1222
DTSTART;TZID=Europe/Brussels:20240204T090000
DTEND;TZID=Europe/Brussels:20240204T090000
END:VEVENT
BEGIN:VEVENT
UID:952A42C0-E06A-400D-BAE7-1F26DE702556-27-1191_homereminder@2005.badminto
 nners.net
DTSTAMP:20260420T055128Z
SUMMARY:Thuismatch ingevuld? (Spinners 1G (131) - Berlaar 3G (118))
DESCRIPTION:Je hebt 36 uur na aanvang om een thuismatch op Badmintonvlaande
 ren in te vullen. Match info: Spinners 1G (131) - Berlaar 3G (118) - Link:
  https://www.badmintonvlaanderen.be/sport/teammatch.aspx?id=952A42C0-E06A-
 400D-BAE7-1F26DE702556&match=1191
DTSTART;TZID=Europe/Brussels:20240303T090000
DTEND;TZID=Europe/Brussels:20240303T090000
END:VEVENT
BEGIN:VEVENT
UID:952A42C0-E06A-400D-BAE7-1F26DE702556-27-1210_homereminder@2005.badminto
 nners.net
DTSTAMP:20260420T055128Z
SUMMARY:Thuismatch ingevuld? (Spinners 1G (131) - Opslag 5G (110))
DESCRIPTION:Je hebt 36 uur na aanvang om een thuismatch op Badmintonvlaande
 ren in te vullen. Match info: Spinners 1G (131) - Opslag 5G (110) - Link: 
 https://www.badmintonvlaanderen.be/sport/teammatch.aspx?id=952A42C0-E06A-4
 00D-BAE7-1F26DE702556&match=1210
DTSTART;TZID=Europe/Brussels:20240414T090000
DTEND;TZID=Europe/Brussels:20240414T090000
END:VEVENT
BEGIN:VEVENT
UID:952A42C0-E06A-400D-BAE7-1F26DE702556-27-1201_awayreminder@2005.badminto
 nners.net
DTSTAMP:20260420T055128Z
SUMMARY:Uitmatch bevestigd? (Baret 1G (126) - Spinners 1G (131))
DESCRIPTION:Je hebt 72 uur na aanvang om een uitmatch op Badmintonvlaandere
 n in te vullen. Match info: Baret 1G (126) - Spinners 1G (131) - Link: htt
 ps://www.badmintonvlaanderen.be/sport/teammatch.aspx?id=952A42C0-E06A-400D
 -BAE7-1F26DE702556&match=1201
DTSTART;TZID=Europe/Brussels:20231109T200000
DTEND;TZID=Europe/Brussels:20231109T200000
END:VEVENT
BEGIN:VEVENT
UID:952A42C0-E06A-400D-BAE7-1F26DE702556-27-1197_awayreminder@2005.badminto
 nners.net
DTSTAMP:20260420T055128Z
SUMMARY:Uitmatch bevestigd? (Berlaar 3G (118) - Spinners 1G (131))
DESCRIPTION:Je hebt 72 uur na aanvang om een uitmatch op Badmintonvlaandere
 n in te vullen. Match info: Berlaar 3G (118) - Spinners 1G (131) - Link: h
 ttps://www.badmintonvlaanderen.be/sport/teammatch.aspx?id=952A42C0-E06A-40
 0D-BAE7-1F26DE702556&match=1197
DTSTART;TZID=Europe/Brussels:20231122T100000
DTEND;TZID=Europe/Brussels:20231122T100000
END:VEVENT
BEGIN:VEVENT
UID:952A42C0-E06A-400D-BAE7-1F26DE702556-27-1199_awayreminder@2005.badminto
 nners.net
DTSTAMP:20260420T055128Z
SUMMARY:Uitmatch bevestigd? (Opslag 5G (110) - Spinners 1G (131))
DESCRIPTION:Je hebt 72 uur na aanvang om een uitmatch op Badmintonvlaandere
 n in te vullen. Match info: Opslag 5G (110) - Spinners 1G (131) - Link: ht
 tps://www.badmintonvlaanderen.be/sport/teammatch.aspx?id=952A42C0-E06A-400
 D-BAE7-1F26DE702556&match=1199
DTSTART;TZID=Europe/Brussels:20231213T163000
DTEND;TZID=Europe/Brussels:20231213T163000
END:VEVENT
BEGIN:VEVENT
UID:952A42C0-E06A-400D-BAE7-1F26DE702556-27-1196_awayreminder@2005.badminto
 nners.net
DTSTAMP:20260420T055128Z
SUMMARY:Uitmatch bevestigd? (Plumula 4G (119) - Spinners 1G (131))
DESCRIPTION:Je hebt 72 uur na aanvang om een uitmatch op Badmintonvlaandere
 n in te vullen. Match info: Plumula 4G (119) - Spinners 1G (131) - Link: h
 ttps://www.badmintonvlaanderen.be/sport/teammatch.aspx?id=952A42C0-E06A-40
 0D-BAE7-1F26DE702556&match=1196
DTSTART;TZID=Europe/Brussels:20240221T173000
DTEND;TZID=Europe/Brussels:20240221T173000
END:VEVENT
BEGIN:VEVENT
UID:952A42C0-E06A-400D-BAE7-1F26DE702556-27-1200_awayreminder@2005.badminto
 nners.net
DTSTAMP:20260420T055128Z
SUMMARY:Uitmatch bevestigd? (Klein Boom 10G (121) - Spinners 1G (131))
DESCRIPTION:Je hebt 72 uur na aanvang om een uitmatch op Badmintonvlaandere
 n in te vullen. Match info: Klein Boom 10G (121) - Spinners 1G (131) - Lin
 k: https://www.badmintonvlaanderen.be/sport/teammatch.aspx?id=952A42C0-E06
 A-400D-BAE7-1F26DE702556&match=1200
DTSTART;TZID=Europe/Brussels:20240228T190000
DTEND;TZID=Europe/Brussels:20240228T190000
END:VEVENT
BEGIN:VEVENT
UID:952A42C0-E06A-400D-BAE7-1F26DE702556-27-1198_awayreminder@2005.badminto
 nners.net
DTSTAMP:20260420T055128Z
SUMMARY:Uitmatch bevestigd? (Oelegem 1G (142) - Spinners 1G (131))
DESCRIPTION:Je hebt 72 uur na aanvang om een uitmatch op Badmintonvlaandere
 n in te vullen. Match info: Oelegem 1G (142) - Spinners 1G (131) - Link: h
 ttps://www.badmintonvlaanderen.be/sport/teammatch.aspx?id=952A42C0-E06A-40
 0D-BAE7-1F26DE702556&match=1198
DTSTART;TZID=Europe/Brussels:20240320T200000
DTEND;TZID=Europe/Brussels:20240320T200000
END:VEVENT
END:VCALENDAR