BEGIN:VCALENDAR
VERSION:2.0
PRODID:spatie/icalendar-generator
NAME:oelegem_1g_142_reminders
X-WR-CALNAME:oelegem_1g_142_reminders
BEGIN:VTIMEZONE
TZID:Europe/Brussels
BEGIN:DAYLIGHT
DTSTART:20230326T010000
TZOFFSETFROM:+0100
TZOFFSETTO:+0200
END:DAYLIGHT
BEGIN:STANDARD
DTSTART:20231029T030000
TZOFFSETFROM:+0200
TZOFFSETTO:+0100
END:STANDARD
BEGIN:DAYLIGHT
DTSTART:20240331T010000
TZOFFSETFROM:+0100
TZOFFSETTO:+0200
END:DAYLIGHT
BEGIN:STANDARD
DTSTART:20241027T030000
TZOFFSETFROM:+0200
TZOFFSETTO:+0100
END:STANDARD
END:VTIMEZONE
BEGIN:VTIMEZONE
TZID:UTC
BEGIN:STANDARD
DTSTART:20250724T055134
TZOFFSETFROM:+0000
TZOFFSETTO:+0000
END:STANDARD
END:VTIMEZONE
BEGIN:VEVENT
UID:952A42C0-E06A-400D-BAE7-1F26DE702556-27-1211_homereminder@2007.badminto
 nners.net
DTSTAMP:20260420T055134Z
SUMMARY:Thuismatch ingevuld? (Oelegem 1G (142) - Opslag 5G (110))
DESCRIPTION:Je hebt 36 uur na aanvang om een thuismatch op Badmintonvlaande
 ren in te vullen. Match info: Oelegem 1G (142) - Opslag 5G (110) - Link: h
 ttps://www.badmintonvlaanderen.be/sport/teammatch.aspx?id=952A42C0-E06A-40
 0D-BAE7-1F26DE702556&match=1211
DTSTART;TZID=Europe/Brussels:20230919T080000
DTEND;TZID=Europe/Brussels:20230919T080000
END:VEVENT
BEGIN:VEVENT
UID:952A42C0-E06A-400D-BAE7-1F26DE702556-27-1223_homereminder@2007.badminto
 nners.net
DTSTAMP:20260420T055134Z
SUMMARY:Thuismatch ingevuld? (Oelegem 1G (142) - Baret 1G (126))
DESCRIPTION:Je hebt 36 uur na aanvang om een thuismatch op Badmintonvlaande
 ren in te vullen. Match info: Oelegem 1G (142) - Baret 1G (126) - Link: ht
 tps://www.badmintonvlaanderen.be/sport/teammatch.aspx?id=952A42C0-E06A-400
 D-BAE7-1F26DE702556&match=1223
DTSTART;TZID=Europe/Brussels:20231017T080000
DTEND;TZID=Europe/Brussels:20231017T080000
END:VEVENT
BEGIN:VEVENT
UID:952A42C0-E06A-400D-BAE7-1F26DE702556-27-1192_homereminder@2007.badminto
 nners.net
DTSTAMP:20260420T055134Z
SUMMARY:Thuismatch ingevuld? (Oelegem 1G (142) - Berlaar 3G (118))
DESCRIPTION:Je hebt 36 uur na aanvang om een thuismatch op Badmintonvlaande
 ren in te vullen. Match info: Oelegem 1G (142) - Berlaar 3G (118) - Link: 
 https://www.badmintonvlaanderen.be/sport/teammatch.aspx?id=952A42C0-E06A-4
 00D-BAE7-1F26DE702556&match=1192
DTSTART;TZID=Europe/Brussels:20231114T080000
DTEND;TZID=Europe/Brussels:20231114T080000
END:VEVENT
BEGIN:VEVENT
UID:952A42C0-E06A-400D-BAE7-1F26DE702556-27-1217_homereminder@2007.badminto
 nners.net
DTSTAMP:20260420T055134Z
SUMMARY:Thuismatch ingevuld? (Oelegem 1G (142) - Klein Boom 10G (121))
DESCRIPTION:Je hebt 36 uur na aanvang om een thuismatch op Badmintonvlaande
 ren in te vullen. Match info: Oelegem 1G (142) - Klein Boom 10G (121) - Li
 nk: https://www.badmintonvlaanderen.be/sport/teammatch.aspx?id=952A42C0-E0
 6A-400D-BAE7-1F26DE702556&match=1217
DTSTART;TZID=Europe/Brussels:20240206T080000
DTEND;TZID=Europe/Brussels:20240206T080000
END:VEVENT
BEGIN:VEVENT
UID:952A42C0-E06A-400D-BAE7-1F26DE702556-27-1186_homereminder@2007.badminto
 nners.net
DTSTAMP:20260420T055134Z
SUMMARY:Thuismatch ingevuld? (Oelegem 1G (142) - Plumula 4G (119))
DESCRIPTION:Je hebt 36 uur na aanvang om een thuismatch op Badmintonvlaande
 ren in te vullen. Match info: Oelegem 1G (142) - Plumula 4G (119) - Link: 
 https://www.badmintonvlaanderen.be/sport/teammatch.aspx?id=952A42C0-E06A-4
 00D-BAE7-1F26DE702556&match=1186
DTSTART;TZID=Europe/Brussels:20240305T080000
DTEND;TZID=Europe/Brussels:20240305T080000
END:VEVENT
BEGIN:VEVENT
UID:952A42C0-E06A-400D-BAE7-1F26DE702556-27-1198_homereminder@2007.badminto
 nners.net
DTSTAMP:20260420T055134Z
SUMMARY:Thuismatch ingevuld? (Oelegem 1G (142) - Spinners 1G (131))
DESCRIPTION:Je hebt 36 uur na aanvang om een thuismatch op Badmintonvlaande
 ren in te vullen. Match info: Oelegem 1G (142) - Spinners 1G (131) - Link:
  https://www.badmintonvlaanderen.be/sport/teammatch.aspx?id=952A42C0-E06A-
 400D-BAE7-1F26DE702556&match=1198
DTSTART;TZID=Europe/Brussels:20240319T080000
DTEND;TZID=Europe/Brussels:20240319T080000
END:VEVENT
BEGIN:VEVENT
UID:952A42C0-E06A-400D-BAE7-1F26DE702556-27-1206_awayreminder@2007.badminto
 nners.net
DTSTAMP:20260420T055134Z
SUMMARY:Uitmatch bevestigd? (Klein Boom 10G (121) - Oelegem 1G (142))
DESCRIPTION:Je hebt 72 uur na aanvang om een uitmatch op Badmintonvlaandere
 n in te vullen. Match info: Klein Boom 10G (121) - Oelegem 1G (142) - Link
 : https://www.badmintonvlaanderen.be/sport/teammatch.aspx?id=952A42C0-E06A
 -400D-BAE7-1F26DE702556&match=1206
DTSTART;TZID=Europe/Brussels:20231004T190000
DTEND;TZID=Europe/Brussels:20231004T190000
END:VEVENT
BEGIN:VEVENT
UID:952A42C0-E06A-400D-BAE7-1F26DE702556-27-1202_awayreminder@2007.badminto
 nners.net
DTSTAMP:20260420T055134Z
SUMMARY:Uitmatch bevestigd? (Plumula 4G (119) - Oelegem 1G (142))
DESCRIPTION:Je hebt 72 uur na aanvang om een uitmatch op Badmintonvlaandere
 n in te vullen. Match info: Plumula 4G (119) - Oelegem 1G (142) - Link: ht
 tps://www.badmintonvlaanderen.be/sport/teammatch.aspx?id=952A42C0-E06A-400
 D-BAE7-1F26DE702556&match=1202
DTSTART;TZID=Europe/Brussels:20231101T173000
DTEND;TZID=Europe/Brussels:20231101T173000
END:VEVENT
BEGIN:VEVENT
UID:952A42C0-E06A-400D-BAE7-1F26DE702556-27-1204_awayreminder@2007.badminto
 nners.net
DTSTAMP:20260420T055134Z
SUMMARY:Uitmatch bevestigd? (Spinners 1G (131) - Oelegem 1G (142))
DESCRIPTION:Je hebt 72 uur na aanvang om een uitmatch op Badmintonvlaandere
 n in te vullen. Match info: Spinners 1G (131) - Oelegem 1G (142) - Link: h
 ttps://www.badmintonvlaanderen.be/sport/teammatch.aspx?id=952A42C0-E06A-40
 0D-BAE7-1F26DE702556&match=1204
DTSTART;TZID=Europe/Brussels:20231211T210000
DTEND;TZID=Europe/Brussels:20231211T210000
END:VEVENT
BEGIN:VEVENT
UID:952A42C0-E06A-400D-BAE7-1F26DE702556-27-1203_awayreminder@2007.badminto
 nners.net
DTSTAMP:20260420T055134Z
SUMMARY:Uitmatch bevestigd? (Berlaar 3G (118) - Oelegem 1G (142))
DESCRIPTION:Je hebt 72 uur na aanvang om een uitmatch op Badmintonvlaandere
 n in te vullen. Match info: Berlaar 3G (118) - Oelegem 1G (142) - Link: ht
 tps://www.badmintonvlaanderen.be/sport/teammatch.aspx?id=952A42C0-E06A-400
 D-BAE7-1F26DE702556&match=1203
DTSTART;TZID=Europe/Brussels:20240117T100000
DTEND;TZID=Europe/Brussels:20240117T100000
END:VEVENT
BEGIN:VEVENT
UID:952A42C0-E06A-400D-BAE7-1F26DE702556-27-1207_awayreminder@2007.badminto
 nners.net
DTSTAMP:20260420T055134Z
SUMMARY:Uitmatch bevestigd? (Baret 1G (126) - Oelegem 1G (142))
DESCRIPTION:Je hebt 72 uur na aanvang om een uitmatch op Badmintonvlaandere
 n in te vullen. Match info: Baret 1G (126) - Oelegem 1G (142) - Link: http
 s://www.badmintonvlaanderen.be/sport/teammatch.aspx?id=952A42C0-E06A-400D-
 BAE7-1F26DE702556&match=1207
DTSTART;TZID=Europe/Brussels:20240314T200000
DTEND;TZID=Europe/Brussels:20240314T200000
END:VEVENT
BEGIN:VEVENT
UID:952A42C0-E06A-400D-BAE7-1F26DE702556-27-1205_awayreminder@2007.badminto
 nners.net
DTSTAMP:20260420T055134Z
SUMMARY:Uitmatch bevestigd? (Opslag 5G (110) - Oelegem 1G (142))
DESCRIPTION:Je hebt 72 uur na aanvang om een uitmatch op Badmintonvlaandere
 n in te vullen. Match info: Opslag 5G (110) - Oelegem 1G (142) - Link: htt
 ps://www.badmintonvlaanderen.be/sport/teammatch.aspx?id=952A42C0-E06A-400D
 -BAE7-1F26DE702556&match=1205
DTSTART;TZID=Europe/Brussels:20240501T163000
DTEND;TZID=Europe/Brussels:20240501T163000
END:VEVENT
END:VCALENDAR