BEGIN:VCALENDAR
VERSION:2.0
PRODID:spatie/icalendar-generator
NAME:baret_1g_126_reminders
X-WR-CALNAME:baret_1g_126_reminders
BEGIN:VTIMEZONE
TZID:Europe/Brussels
BEGIN:DAYLIGHT
DTSTART:20230326T010000
TZOFFSETFROM:+0100
TZOFFSETTO:+0200
END:DAYLIGHT
BEGIN:STANDARD
DTSTART:20231029T030000
TZOFFSETFROM:+0200
TZOFFSETTO:+0100
END:STANDARD
BEGIN:DAYLIGHT
DTSTART:20240331T010000
TZOFFSETFROM:+0100
TZOFFSETTO:+0200
END:DAYLIGHT
END:VTIMEZONE
BEGIN:VTIMEZONE
TZID:UTC
BEGIN:STANDARD
DTSTART:20250724T073623
TZOFFSETFROM:+0000
TZOFFSETTO:+0000
END:STANDARD
END:VTIMEZONE
BEGIN:VEVENT
UID:952A42C0-E06A-400D-BAE7-1F26DE702556-27-1213_homereminder@2010.badminto
 nners.net
DTSTAMP:20260420T073623Z
SUMMARY:Thuismatch ingevuld? (Baret 1G (126) - Opslag 5G (110))
DESCRIPTION:Je hebt 36 uur na aanvang om een thuismatch op Badmintonvlaande
 ren in te vullen. Match info: Baret 1G (126) - Opslag 5G (110) - Link: htt
 ps://www.badmintonvlaanderen.be/sport/teammatch.aspx?id=952A42C0-E06A-400D
 -BAE7-1F26DE702556&match=1213
DTSTART;TZID=Europe/Brussels:20231025T080000
DTEND;TZID=Europe/Brussels:20231025T080000
END:VEVENT
BEGIN:VEVENT
UID:952A42C0-E06A-400D-BAE7-1F26DE702556-27-1201_homereminder@2010.badminto
 nners.net
DTSTAMP:20260420T073623Z
SUMMARY:Thuismatch ingevuld? (Baret 1G (126) - Spinners 1G (131))
DESCRIPTION:Je hebt 36 uur na aanvang om een thuismatch op Badmintonvlaande
 ren in te vullen. Match info: Baret 1G (126) - Spinners 1G (131) - Link: h
 ttps://www.badmintonvlaanderen.be/sport/teammatch.aspx?id=952A42C0-E06A-40
 0D-BAE7-1F26DE702556&match=1201
DTSTART;TZID=Europe/Brussels:20231108T080000
DTEND;TZID=Europe/Brussels:20231108T080000
END:VEVENT
BEGIN:VEVENT
UID:952A42C0-E06A-400D-BAE7-1F26DE702556-27-1189_homereminder@2010.badminto
 nners.net
DTSTAMP:20260420T073623Z
SUMMARY:Thuismatch ingevuld? (Baret 1G (126) - Plumula 4G (119))
DESCRIPTION:Je hebt 36 uur na aanvang om een thuismatch op Badmintonvlaande
 ren in te vullen. Match info: Baret 1G (126) - Plumula 4G (119) - Link: ht
 tps://www.badmintonvlaanderen.be/sport/teammatch.aspx?id=952A42C0-E06A-400
 D-BAE7-1F26DE702556&match=1189
DTSTART;TZID=Europe/Brussels:20231206T080000
DTEND;TZID=Europe/Brussels:20231206T080000
END:VEVENT
BEGIN:VEVENT
UID:952A42C0-E06A-400D-BAE7-1F26DE702556-27-1219_homereminder@2010.badminto
 nners.net
DTSTAMP:20260420T073623Z
SUMMARY:Thuismatch ingevuld? (Baret 1G (126) - Klein Boom 10G (121))
DESCRIPTION:Je hebt 36 uur na aanvang om een thuismatch op Badmintonvlaande
 ren in te vullen. Match info: Baret 1G (126) - Klein Boom 10G (121) - Link
 : https://www.badmintonvlaanderen.be/sport/teammatch.aspx?id=952A42C0-E06A
 -400D-BAE7-1F26DE702556&match=1219
DTSTART;TZID=Europe/Brussels:20240124T080000
DTEND;TZID=Europe/Brussels:20240124T080000
END:VEVENT
BEGIN:VEVENT
UID:952A42C0-E06A-400D-BAE7-1F26DE702556-27-1207_homereminder@2010.badminto
 nners.net
DTSTAMP:20260420T073623Z
SUMMARY:Thuismatch ingevuld? (Baret 1G (126) - Oelegem 1G (142))
DESCRIPTION:Je hebt 36 uur na aanvang om een thuismatch op Badmintonvlaande
 ren in te vullen. Match info: Baret 1G (126) - Oelegem 1G (142) - Link: ht
 tps://www.badmintonvlaanderen.be/sport/teammatch.aspx?id=952A42C0-E06A-400
 D-BAE7-1F26DE702556&match=1207
DTSTART;TZID=Europe/Brussels:20240313T080000
DTEND;TZID=Europe/Brussels:20240313T080000
END:VEVENT
BEGIN:VEVENT
UID:952A42C0-E06A-400D-BAE7-1F26DE702556-27-1195_homereminder@2010.badminto
 nners.net
DTSTAMP:20260420T073623Z
SUMMARY:Thuismatch ingevuld? (Baret 1G (126) - Berlaar 3G (118))
DESCRIPTION:Je hebt 36 uur na aanvang om een thuismatch op Badmintonvlaande
 ren in te vullen. Match info: Baret 1G (126) - Berlaar 3G (118) - Link: ht
 tps://www.badmintonvlaanderen.be/sport/teammatch.aspx?id=952A42C0-E06A-400
 D-BAE7-1F26DE702556&match=1195
DTSTART;TZID=Europe/Brussels:20240424T080000
DTEND;TZID=Europe/Brussels:20240424T080000
END:VEVENT
BEGIN:VEVENT
UID:952A42C0-E06A-400D-BAE7-1F26DE702556-27-1225_awayreminder@2010.badminto
 nners.net
DTSTAMP:20260420T073623Z
SUMMARY:Uitmatch bevestigd? (Klein Boom 10G (121) - Baret 1G (126))
DESCRIPTION:Je hebt 72 uur na aanvang om een uitmatch op Badmintonvlaandere
 n in te vullen. Match info: Klein Boom 10G (121) - Baret 1G (126) - Link: 
 https://www.badmintonvlaanderen.be/sport/teammatch.aspx?id=952A42C0-E06A-4
 00D-BAE7-1F26DE702556&match=1225
DTSTART;TZID=Europe/Brussels:20230906T190000
DTEND;TZID=Europe/Brussels:20230906T190000
END:VEVENT
BEGIN:VEVENT
UID:952A42C0-E06A-400D-BAE7-1F26DE702556-27-1223_awayreminder@2010.badminto
 nners.net
DTSTAMP:20260420T073623Z
SUMMARY:Uitmatch bevestigd? (Oelegem 1G (142) - Baret 1G (126))
DESCRIPTION:Je hebt 72 uur na aanvang om een uitmatch op Badmintonvlaandere
 n in te vullen. Match info: Oelegem 1G (142) - Baret 1G (126) - Link: http
 s://www.badmintonvlaanderen.be/sport/teammatch.aspx?id=952A42C0-E06A-400D-
 BAE7-1F26DE702556&match=1223
DTSTART;TZID=Europe/Brussels:20231018T200000
DTEND;TZID=Europe/Brussels:20231018T200000
END:VEVENT
BEGIN:VEVENT
UID:952A42C0-E06A-400D-BAE7-1F26DE702556-27-1221_awayreminder@2010.badminto
 nners.net
DTSTAMP:20260420T073623Z
SUMMARY:Uitmatch bevestigd? (Berlaar 3G (118) - Baret 1G (126))
DESCRIPTION:Je hebt 72 uur na aanvang om een uitmatch op Badmintonvlaandere
 n in te vullen. Match info: Berlaar 3G (118) - Baret 1G (126) - Link: http
 s://www.badmintonvlaanderen.be/sport/teammatch.aspx?id=952A42C0-E06A-400D-
 BAE7-1F26DE702556&match=1221
DTSTART;TZID=Europe/Brussels:20231220T100000
DTEND;TZID=Europe/Brussels:20231220T100000
END:VEVENT
BEGIN:VEVENT
UID:952A42C0-E06A-400D-BAE7-1F26DE702556-27-1220_awayreminder@2010.badminto
 nners.net
DTSTAMP:20260420T073623Z
SUMMARY:Uitmatch bevestigd? (Plumula 4G (119) - Baret 1G (126))
DESCRIPTION:Je hebt 72 uur na aanvang om een uitmatch op Badmintonvlaandere
 n in te vullen. Match info: Plumula 4G (119) - Baret 1G (126) - Link: http
 s://www.badmintonvlaanderen.be/sport/teammatch.aspx?id=952A42C0-E06A-400D-
 BAE7-1F26DE702556&match=1220
DTSTART;TZID=Europe/Brussels:20240110T173000
DTEND;TZID=Europe/Brussels:20240110T173000
END:VEVENT
BEGIN:VEVENT
UID:952A42C0-E06A-400D-BAE7-1F26DE702556-27-1222_awayreminder@2010.badminto
 nners.net
DTSTAMP:20260420T073623Z
SUMMARY:Uitmatch bevestigd? (Spinners 1G (131) - Baret 1G (126))
DESCRIPTION:Je hebt 72 uur na aanvang om een uitmatch op Badmintonvlaandere
 n in te vullen. Match info: Spinners 1G (131) - Baret 1G (126) - Link: htt
 ps://www.badmintonvlaanderen.be/sport/teammatch.aspx?id=952A42C0-E06A-400D
 -BAE7-1F26DE702556&match=1222
DTSTART;TZID=Europe/Brussels:20240205T210000
DTEND;TZID=Europe/Brussels:20240205T210000
END:VEVENT
BEGIN:VEVENT
UID:952A42C0-E06A-400D-BAE7-1F26DE702556-27-1224_awayreminder@2010.badminto
 nners.net
DTSTAMP:20260420T073623Z
SUMMARY:Uitmatch bevestigd? (Opslag 5G (110) - Baret 1G (126))
DESCRIPTION:Je hebt 72 uur na aanvang om een uitmatch op Badmintonvlaandere
 n in te vullen. Match info: Opslag 5G (110) - Baret 1G (126) - Link: https
 ://www.badmintonvlaanderen.be/sport/teammatch.aspx?id=952A42C0-E06A-400D-B
 AE7-1F26DE702556&match=1224
DTSTART;TZID=Europe/Brussels:20240306T163000
DTEND;TZID=Europe/Brussels:20240306T163000
END:VEVENT
END:VCALENDAR