BEGIN:VCALENDAR
VERSION:2.0
PRODID:spatie/icalendar-generator
NAME:klein_boom_10g_121_reminders
X-WR-CALNAME:klein_boom_10g_121_reminders
BEGIN:VTIMEZONE
TZID:Europe/Brussels
BEGIN:DAYLIGHT
DTSTART:20230326T010000
TZOFFSETFROM:+0100
TZOFFSETTO:+0200
END:DAYLIGHT
BEGIN:STANDARD
DTSTART:20231029T030000
TZOFFSETFROM:+0200
TZOFFSETTO:+0100
END:STANDARD
BEGIN:DAYLIGHT
DTSTART:20240331T010000
TZOFFSETFROM:+0100
TZOFFSETTO:+0200
END:DAYLIGHT
END:VTIMEZONE
BEGIN:VTIMEZONE
TZID:UTC
BEGIN:STANDARD
DTSTART:20250724T055136
TZOFFSETFROM:+0000
TZOFFSETTO:+0000
END:STANDARD
END:VTIMEZONE
BEGIN:VEVENT
UID:952A42C0-E06A-400D-BAE7-1F26DE702556-27-1225_homereminder@2011.badminto
 nners.net
DTSTAMP:20260420T055136Z
SUMMARY:Thuismatch ingevuld? (Klein Boom 10G (121) - Baret 1G (126))
DESCRIPTION:Je hebt 36 uur na aanvang om een thuismatch op Badmintonvlaande
 ren in te vullen. Match info: Klein Boom 10G (121) - Baret 1G (126) - Link
 : https://www.badmintonvlaanderen.be/sport/teammatch.aspx?id=952A42C0-E06A
 -400D-BAE7-1F26DE702556&match=1225
DTSTART;TZID=Europe/Brussels:20230905T070000
DTEND;TZID=Europe/Brussels:20230905T070000
END:VEVENT
BEGIN:VEVENT
UID:952A42C0-E06A-400D-BAE7-1F26DE702556-27-1206_homereminder@2011.badminto
 nners.net
DTSTAMP:20260420T055136Z
SUMMARY:Thuismatch ingevuld? (Klein Boom 10G (121) - Oelegem 1G (142))
DESCRIPTION:Je hebt 36 uur na aanvang om een thuismatch op Badmintonvlaande
 ren in te vullen. Match info: Klein Boom 10G (121) - Oelegem 1G (142) - Li
 nk: https://www.badmintonvlaanderen.be/sport/teammatch.aspx?id=952A42C0-E0
 6A-400D-BAE7-1F26DE702556&match=1206
DTSTART;TZID=Europe/Brussels:20231003T070000
DTEND;TZID=Europe/Brussels:20231003T070000
END:VEVENT
BEGIN:VEVENT
UID:952A42C0-E06A-400D-BAE7-1F26DE702556-27-1194_homereminder@2011.badminto
 nners.net
DTSTAMP:20260420T055136Z
SUMMARY:Thuismatch ingevuld? (Klein Boom 10G (121) - Berlaar 3G (118))
DESCRIPTION:Je hebt 36 uur na aanvang om een thuismatch op Badmintonvlaande
 ren in te vullen. Match info: Klein Boom 10G (121) - Berlaar 3G (118) - Li
 nk: https://www.badmintonvlaanderen.be/sport/teammatch.aspx?id=952A42C0-E0
 6A-400D-BAE7-1F26DE702556&match=1194
DTSTART;TZID=Europe/Brussels:20231212T070000
DTEND;TZID=Europe/Brussels:20231212T070000
END:VEVENT
BEGIN:VEVENT
UID:952A42C0-E06A-400D-BAE7-1F26DE702556-27-1212_homereminder@2011.badminto
 nners.net
DTSTAMP:20260420T055136Z
SUMMARY:Thuismatch ingevuld? (Klein Boom 10G (121) - Opslag 5G (110))
DESCRIPTION:Je hebt 36 uur na aanvang om een thuismatch op Badmintonvlaande
 ren in te vullen. Match info: Klein Boom 10G (121) - Opslag 5G (110) - Lin
 k: https://www.badmintonvlaanderen.be/sport/teammatch.aspx?id=952A42C0-E06
 A-400D-BAE7-1F26DE702556&match=1212
DTSTART;TZID=Europe/Brussels:20240220T070000
DTEND;TZID=Europe/Brussels:20240220T070000
END:VEVENT
BEGIN:VEVENT
UID:952A42C0-E06A-400D-BAE7-1F26DE702556-27-1200_homereminder@2011.badminto
 nners.net
DTSTAMP:20260420T055136Z
SUMMARY:Thuismatch ingevuld? (Klein Boom 10G (121) - Spinners 1G (131))
DESCRIPTION:Je hebt 36 uur na aanvang om een thuismatch op Badmintonvlaande
 ren in te vullen. Match info: Klein Boom 10G (121) - Spinners 1G (131) - L
 ink: https://www.badmintonvlaanderen.be/sport/teammatch.aspx?id=952A42C0-E
 06A-400D-BAE7-1F26DE702556&match=1200
DTSTART;TZID=Europe/Brussels:20240227T070000
DTEND;TZID=Europe/Brussels:20240227T070000
END:VEVENT
BEGIN:VEVENT
UID:952A42C0-E06A-400D-BAE7-1F26DE702556-27-1188_homereminder@2011.badminto
 nners.net
DTSTAMP:20260420T055136Z
SUMMARY:Thuismatch ingevuld? (Klein Boom 10G (121) - Plumula 4G (119))
DESCRIPTION:Je hebt 36 uur na aanvang om een thuismatch op Badmintonvlaande
 ren in te vullen. Match info: Klein Boom 10G (121) - Plumula 4G (119) - Li
 nk: https://www.badmintonvlaanderen.be/sport/teammatch.aspx?id=952A42C0-E0
 6A-400D-BAE7-1F26DE702556&match=1188
DTSTART;TZID=Europe/Brussels:20240319T070000
DTEND;TZID=Europe/Brussels:20240319T070000
END:VEVENT
BEGIN:VEVENT
UID:952A42C0-E06A-400D-BAE7-1F26DE702556-27-1216_awayreminder@2011.badminto
 nners.net
DTSTAMP:20260420T055136Z
SUMMARY:Uitmatch bevestigd? (Spinners 1G (131) - Klein Boom 10G (121))
DESCRIPTION:Je hebt 72 uur na aanvang om een uitmatch op Badmintonvlaandere
 n in te vullen. Match info: Spinners 1G (131) - Klein Boom 10G (121) - Lin
 k: https://www.badmintonvlaanderen.be/sport/teammatch.aspx?id=952A42C0-E06
 A-400D-BAE7-1F26DE702556&match=1216
DTSTART;TZID=Europe/Brussels:20231009T200000
DTEND;TZID=Europe/Brussels:20231009T200000
END:VEVENT
BEGIN:VEVENT
UID:952A42C0-E06A-400D-BAE7-1F26DE702556-27-1218_awayreminder@2011.badminto
 nners.net
DTSTAMP:20260420T055136Z
SUMMARY:Uitmatch bevestigd? (Opslag 5G (110) - Klein Boom 10G (121))
DESCRIPTION:Je hebt 72 uur na aanvang om een uitmatch op Badmintonvlaandere
 n in te vullen. Match info: Opslag 5G (110) - Klein Boom 10G (121) - Link:
  https://www.badmintonvlaanderen.be/sport/teammatch.aspx?id=952A42C0-E06A-
 400D-BAE7-1F26DE702556&match=1218
DTSTART;TZID=Europe/Brussels:20231108T191500
DTEND;TZID=Europe/Brussels:20231108T191500
END:VEVENT
BEGIN:VEVENT
UID:952A42C0-E06A-400D-BAE7-1F26DE702556-27-1214_awayreminder@2011.badminto
 nners.net
DTSTAMP:20260420T055136Z
SUMMARY:Uitmatch bevestigd? (Plumula 4G (119) - Klein Boom 10G (121))
DESCRIPTION:Je hebt 72 uur na aanvang om een uitmatch op Badmintonvlaandere
 n in te vullen. Match info: Plumula 4G (119) - Klein Boom 10G (121) - Link
 : https://www.badmintonvlaanderen.be/sport/teammatch.aspx?id=952A42C0-E06A
 -400D-BAE7-1F26DE702556&match=1214
DTSTART;TZID=Europe/Brussels:20231129T173000
DTEND;TZID=Europe/Brussels:20231129T173000
END:VEVENT
BEGIN:VEVENT
UID:952A42C0-E06A-400D-BAE7-1F26DE702556-27-1219_awayreminder@2011.badminto
 nners.net
DTSTAMP:20260420T055136Z
SUMMARY:Uitmatch bevestigd? (Baret 1G (126) - Klein Boom 10G (121))
DESCRIPTION:Je hebt 72 uur na aanvang om een uitmatch op Badmintonvlaandere
 n in te vullen. Match info: Baret 1G (126) - Klein Boom 10G (121) - Link: 
 https://www.badmintonvlaanderen.be/sport/teammatch.aspx?id=952A42C0-E06A-4
 00D-BAE7-1F26DE702556&match=1219
DTSTART;TZID=Europe/Brussels:20240125T200000
DTEND;TZID=Europe/Brussels:20240125T200000
END:VEVENT
BEGIN:VEVENT
UID:952A42C0-E06A-400D-BAE7-1F26DE702556-27-1217_awayreminder@2011.badminto
 nners.net
DTSTAMP:20260420T055136Z
SUMMARY:Uitmatch bevestigd? (Oelegem 1G (142) - Klein Boom 10G (121))
DESCRIPTION:Je hebt 72 uur na aanvang om een uitmatch op Badmintonvlaandere
 n in te vullen. Match info: Oelegem 1G (142) - Klein Boom 10G (121) - Link
 : https://www.badmintonvlaanderen.be/sport/teammatch.aspx?id=952A42C0-E06A
 -400D-BAE7-1F26DE702556&match=1217
DTSTART;TZID=Europe/Brussels:20240207T200000
DTEND;TZID=Europe/Brussels:20240207T200000
END:VEVENT
BEGIN:VEVENT
UID:952A42C0-E06A-400D-BAE7-1F26DE702556-27-1215_awayreminder@2011.badminto
 nners.net
DTSTAMP:20260420T055136Z
SUMMARY:Uitmatch bevestigd? (Berlaar 3G (118) - Klein Boom 10G (121))
DESCRIPTION:Je hebt 72 uur na aanvang om een uitmatch op Badmintonvlaandere
 n in te vullen. Match info: Berlaar 3G (118) - Klein Boom 10G (121) - Link
 : https://www.badmintonvlaanderen.be/sport/teammatch.aspx?id=952A42C0-E06A
 -400D-BAE7-1F26DE702556&match=1215
DTSTART;TZID=Europe/Brussels:20240417T100000
DTEND;TZID=Europe/Brussels:20240417T100000
END:VEVENT
END:VCALENDAR