BEGIN:VCALENDAR
VERSION:2.0
PRODID:spatie/icalendar-generator
NAME:opslag_5g_110_reminders
X-WR-CALNAME:opslag_5g_110_reminders
BEGIN:VTIMEZONE
TZID:Europe/Brussels
BEGIN:DAYLIGHT
DTSTART:20230326T010000
TZOFFSETFROM:+0100
TZOFFSETTO:+0200
END:DAYLIGHT
BEGIN:STANDARD
DTSTART:20231029T030000
TZOFFSETFROM:+0200
TZOFFSETTO:+0100
END:STANDARD
BEGIN:DAYLIGHT
DTSTART:20240331T010000
TZOFFSETFROM:+0100
TZOFFSETTO:+0200
END:DAYLIGHT
BEGIN:STANDARD
DTSTART:20241027T030000
TZOFFSETFROM:+0200
TZOFFSETTO:+0100
END:STANDARD
END:VTIMEZONE
BEGIN:VTIMEZONE
TZID:UTC
BEGIN:STANDARD
DTSTART:20250724T055131
TZOFFSETFROM:+0000
TZOFFSETTO:+0000
END:STANDARD
END:VTIMEZONE
BEGIN:VEVENT
UID:952A42C0-E06A-400D-BAE7-1F26DE702556-27-1218_homereminder@2013.badminto
 nners.net
DTSTAMP:20260420T055131Z
SUMMARY:Thuismatch ingevuld? (Opslag 5G (110) - Klein Boom 10G (121))
DESCRIPTION:Je hebt 36 uur na aanvang om een thuismatch op Badmintonvlaande
 ren in te vullen. Match info: Opslag 5G (110) - Klein Boom 10G (121) - Lin
 k: https://www.badmintonvlaanderen.be/sport/teammatch.aspx?id=952A42C0-E06
 A-400D-BAE7-1F26DE702556&match=1218
DTSTART;TZID=Europe/Brussels:20231107T071500
DTEND;TZID=Europe/Brussels:20231107T071500
END:VEVENT
BEGIN:VEVENT
UID:952A42C0-E06A-400D-BAE7-1F26DE702556-27-1187_homereminder@2013.badminto
 nners.net
DTSTAMP:20260420T055131Z
SUMMARY:Thuismatch ingevuld? (Opslag 5G (110) - Plumula 4G (119))
DESCRIPTION:Je hebt 36 uur na aanvang om een thuismatch op Badmintonvlaande
 ren in te vullen. Match info: Opslag 5G (110) - Plumula 4G (119) - Link: h
 ttps://www.badmintonvlaanderen.be/sport/teammatch.aspx?id=952A42C0-E06A-40
 0D-BAE7-1F26DE702556&match=1187
DTSTART;TZID=Europe/Brussels:20231114T043000
DTEND;TZID=Europe/Brussels:20231114T043000
END:VEVENT
BEGIN:VEVENT
UID:952A42C0-E06A-400D-BAE7-1F26DE702556-27-1199_homereminder@2013.badminto
 nners.net
DTSTAMP:20260420T055131Z
SUMMARY:Thuismatch ingevuld? (Opslag 5G (110) - Spinners 1G (131))
DESCRIPTION:Je hebt 36 uur na aanvang om een thuismatch op Badmintonvlaande
 ren in te vullen. Match info: Opslag 5G (110) - Spinners 1G (131) - Link: 
 https://www.badmintonvlaanderen.be/sport/teammatch.aspx?id=952A42C0-E06A-4
 00D-BAE7-1F26DE702556&match=1199
DTSTART;TZID=Europe/Brussels:20231212T043000
DTEND;TZID=Europe/Brussels:20231212T043000
END:VEVENT
BEGIN:VEVENT
UID:952A42C0-E06A-400D-BAE7-1F26DE702556-27-1224_homereminder@2013.badminto
 nners.net
DTSTAMP:20260420T055131Z
SUMMARY:Thuismatch ingevuld? (Opslag 5G (110) - Baret 1G (126))
DESCRIPTION:Je hebt 36 uur na aanvang om een thuismatch op Badmintonvlaande
 ren in te vullen. Match info: Opslag 5G (110) - Baret 1G (126) - Link: htt
 ps://www.badmintonvlaanderen.be/sport/teammatch.aspx?id=952A42C0-E06A-400D
 -BAE7-1F26DE702556&match=1224
DTSTART;TZID=Europe/Brussels:20240305T043000
DTEND;TZID=Europe/Brussels:20240305T043000
END:VEVENT
BEGIN:VEVENT
UID:952A42C0-E06A-400D-BAE7-1F26DE702556-27-1193_homereminder@2013.badminto
 nners.net
DTSTAMP:20260420T055131Z
SUMMARY:Thuismatch ingevuld? (Opslag 5G (110) - Berlaar 3G (118))
DESCRIPTION:Je hebt 36 uur na aanvang om een thuismatch op Badmintonvlaande
 ren in te vullen. Match info: Opslag 5G (110) - Berlaar 3G (118) - Link: h
 ttps://www.badmintonvlaanderen.be/sport/teammatch.aspx?id=952A42C0-E06A-40
 0D-BAE7-1F26DE702556&match=1193
DTSTART;TZID=Europe/Brussels:20240319T043000
DTEND;TZID=Europe/Brussels:20240319T043000
END:VEVENT
BEGIN:VEVENT
UID:952A42C0-E06A-400D-BAE7-1F26DE702556-27-1205_homereminder@2013.badminto
 nners.net
DTSTAMP:20260420T055131Z
SUMMARY:Thuismatch ingevuld? (Opslag 5G (110) - Oelegem 1G (142))
DESCRIPTION:Je hebt 36 uur na aanvang om een thuismatch op Badmintonvlaande
 ren in te vullen. Match info: Opslag 5G (110) - Oelegem 1G (142) - Link: h
 ttps://www.badmintonvlaanderen.be/sport/teammatch.aspx?id=952A42C0-E06A-40
 0D-BAE7-1F26DE702556&match=1205
DTSTART;TZID=Europe/Brussels:20240430T043000
DTEND;TZID=Europe/Brussels:20240430T043000
END:VEVENT
BEGIN:VEVENT
UID:952A42C0-E06A-400D-BAE7-1F26DE702556-27-1211_awayreminder@2013.badminto
 nners.net
DTSTAMP:20260420T055131Z
SUMMARY:Uitmatch bevestigd? (Oelegem 1G (142) - Opslag 5G (110))
DESCRIPTION:Je hebt 72 uur na aanvang om een uitmatch op Badmintonvlaandere
 n in te vullen. Match info: Oelegem 1G (142) - Opslag 5G (110) - Link: htt
 ps://www.badmintonvlaanderen.be/sport/teammatch.aspx?id=952A42C0-E06A-400D
 -BAE7-1F26DE702556&match=1211
DTSTART;TZID=Europe/Brussels:20230920T200000
DTEND;TZID=Europe/Brussels:20230920T200000
END:VEVENT
BEGIN:VEVENT
UID:952A42C0-E06A-400D-BAE7-1F26DE702556-27-1213_awayreminder@2013.badminto
 nners.net
DTSTAMP:20260420T055131Z
SUMMARY:Uitmatch bevestigd? (Baret 1G (126) - Opslag 5G (110))
DESCRIPTION:Je hebt 72 uur na aanvang om een uitmatch op Badmintonvlaandere
 n in te vullen. Match info: Baret 1G (126) - Opslag 5G (110) - Link: https
 ://www.badmintonvlaanderen.be/sport/teammatch.aspx?id=952A42C0-E06A-400D-B
 AE7-1F26DE702556&match=1213
DTSTART;TZID=Europe/Brussels:20231026T200000
DTEND;TZID=Europe/Brussels:20231026T200000
END:VEVENT
BEGIN:VEVENT
UID:952A42C0-E06A-400D-BAE7-1F26DE702556-27-1209_awayreminder@2013.badminto
 nners.net
DTSTAMP:20260420T055131Z
SUMMARY:Uitmatch bevestigd? (Berlaar 3G (118) - Opslag 5G (110))
DESCRIPTION:Je hebt 72 uur na aanvang om een uitmatch op Badmintonvlaandere
 n in te vullen. Match info: Berlaar 3G (118) - Opslag 5G (110) - Link: htt
 ps://www.badmintonvlaanderen.be/sport/teammatch.aspx?id=952A42C0-E06A-400D
 -BAE7-1F26DE702556&match=1209
DTSTART;TZID=Europe/Brussels:20231129T100000
DTEND;TZID=Europe/Brussels:20231129T100000
END:VEVENT
BEGIN:VEVENT
UID:952A42C0-E06A-400D-BAE7-1F26DE702556-27-1208_awayreminder@2013.badminto
 nners.net
DTSTAMP:20260420T055131Z
SUMMARY:Uitmatch bevestigd? (Plumula 4G (119) - Opslag 5G (110))
DESCRIPTION:Je hebt 72 uur na aanvang om een uitmatch op Badmintonvlaandere
 n in te vullen. Match info: Plumula 4G (119) - Opslag 5G (110) - Link: htt
 ps://www.badmintonvlaanderen.be/sport/teammatch.aspx?id=952A42C0-E06A-400D
 -BAE7-1F26DE702556&match=1208
DTSTART;TZID=Europe/Brussels:20240124T173000
DTEND;TZID=Europe/Brussels:20240124T173000
END:VEVENT
BEGIN:VEVENT
UID:952A42C0-E06A-400D-BAE7-1F26DE702556-27-1212_awayreminder@2013.badminto
 nners.net
DTSTAMP:20260420T055131Z
SUMMARY:Uitmatch bevestigd? (Klein Boom 10G (121) - Opslag 5G (110))
DESCRIPTION:Je hebt 72 uur na aanvang om een uitmatch op Badmintonvlaandere
 n in te vullen. Match info: Klein Boom 10G (121) - Opslag 5G (110) - Link:
  https://www.badmintonvlaanderen.be/sport/teammatch.aspx?id=952A42C0-E06A-
 400D-BAE7-1F26DE702556&match=1212
DTSTART;TZID=Europe/Brussels:20240221T190000
DTEND;TZID=Europe/Brussels:20240221T190000
END:VEVENT
BEGIN:VEVENT
UID:952A42C0-E06A-400D-BAE7-1F26DE702556-27-1210_awayreminder@2013.badminto
 nners.net
DTSTAMP:20260420T055131Z
SUMMARY:Uitmatch bevestigd? (Spinners 1G (131) - Opslag 5G (110))
DESCRIPTION:Je hebt 72 uur na aanvang om een uitmatch op Badmintonvlaandere
 n in te vullen. Match info: Spinners 1G (131) - Opslag 5G (110) - Link: ht
 tps://www.badmintonvlaanderen.be/sport/teammatch.aspx?id=952A42C0-E06A-400
 D-BAE7-1F26DE702556&match=1210
DTSTART;TZID=Europe/Brussels:20240415T210000
DTEND;TZID=Europe/Brussels:20240415T210000
END:VEVENT
END:VCALENDAR