BEGIN:VCALENDAR
VERSION:2.0
PRODID:spatie/icalendar-generator
NAME:berlaar_3g_118_reminders
X-WR-CALNAME:berlaar_3g_118_reminders
BEGIN:VTIMEZONE
TZID:Europe/Brussels
BEGIN:DAYLIGHT
DTSTART:20230326T010000
TZOFFSETFROM:+0100
TZOFFSETTO:+0200
END:DAYLIGHT
BEGIN:STANDARD
DTSTART:20231029T030000
TZOFFSETFROM:+0200
TZOFFSETTO:+0100
END:STANDARD
BEGIN:DAYLIGHT
DTSTART:20240331T010000
TZOFFSETFROM:+0100
TZOFFSETTO:+0200
END:DAYLIGHT
BEGIN:STANDARD
DTSTART:20241027T030000
TZOFFSETFROM:+0200
TZOFFSETTO:+0100
END:STANDARD
END:VTIMEZONE
BEGIN:VTIMEZONE
TZID:UTC
BEGIN:STANDARD
DTSTART:20250724T055129
TZOFFSETFROM:+0000
TZOFFSETTO:+0000
END:STANDARD
END:VTIMEZONE
BEGIN:VEVENT
UID:952A42C0-E06A-400D-BAE7-1F26DE702556-27-1197_homereminder@2015.badminto
 nners.net
DTSTAMP:20260420T055129Z
SUMMARY:Thuismatch ingevuld? (Berlaar 3G (118) - Spinners 1G (131))
DESCRIPTION:Je hebt 36 uur na aanvang om een thuismatch op Badmintonvlaande
 ren in te vullen. Match info: Berlaar 3G (118) - Spinners 1G (131) - Link:
  https://www.badmintonvlaanderen.be/sport/teammatch.aspx?id=952A42C0-E06A-
 400D-BAE7-1F26DE702556&match=1197
DTSTART;TZID=Europe/Brussels:20231120T220000
DTEND;TZID=Europe/Brussels:20231120T220000
END:VEVENT
BEGIN:VEVENT
UID:952A42C0-E06A-400D-BAE7-1F26DE702556-27-1209_homereminder@2015.badminto
 nners.net
DTSTAMP:20260420T055129Z
SUMMARY:Thuismatch ingevuld? (Berlaar 3G (118) - Opslag 5G (110))
DESCRIPTION:Je hebt 36 uur na aanvang om een thuismatch op Badmintonvlaande
 ren in te vullen. Match info: Berlaar 3G (118) - Opslag 5G (110) - Link: h
 ttps://www.badmintonvlaanderen.be/sport/teammatch.aspx?id=952A42C0-E06A-40
 0D-BAE7-1F26DE702556&match=1209
DTSTART;TZID=Europe/Brussels:20231127T220000
DTEND;TZID=Europe/Brussels:20231127T220000
END:VEVENT
BEGIN:VEVENT
UID:952A42C0-E06A-400D-BAE7-1F26DE702556-27-1221_homereminder@2015.badminto
 nners.net
DTSTAMP:20260420T055129Z
SUMMARY:Thuismatch ingevuld? (Berlaar 3G (118) - Baret 1G (126))
DESCRIPTION:Je hebt 36 uur na aanvang om een thuismatch op Badmintonvlaande
 ren in te vullen. Match info: Berlaar 3G (118) - Baret 1G (126) - Link: ht
 tps://www.badmintonvlaanderen.be/sport/teammatch.aspx?id=952A42C0-E06A-400
 D-BAE7-1F26DE702556&match=1221
DTSTART;TZID=Europe/Brussels:20231218T220000
DTEND;TZID=Europe/Brussels:20231218T220000
END:VEVENT
BEGIN:VEVENT
UID:952A42C0-E06A-400D-BAE7-1F26DE702556-27-1203_homereminder@2015.badminto
 nners.net
DTSTAMP:20260420T055129Z
SUMMARY:Thuismatch ingevuld? (Berlaar 3G (118) - Oelegem 1G (142))
DESCRIPTION:Je hebt 36 uur na aanvang om een thuismatch op Badmintonvlaande
 ren in te vullen. Match info: Berlaar 3G (118) - Oelegem 1G (142) - Link: 
 https://www.badmintonvlaanderen.be/sport/teammatch.aspx?id=952A42C0-E06A-4
 00D-BAE7-1F26DE702556&match=1203
DTSTART;TZID=Europe/Brussels:20240115T220000
DTEND;TZID=Europe/Brussels:20240115T220000
END:VEVENT
BEGIN:VEVENT
UID:952A42C0-E06A-400D-BAE7-1F26DE702556-27-1184_homereminder@2015.badminto
 nners.net
DTSTAMP:20260420T055129Z
SUMMARY:Thuismatch ingevuld? (Berlaar 3G (118) - Plumula 4G (119))
DESCRIPTION:Je hebt 36 uur na aanvang om een thuismatch op Badmintonvlaande
 ren in te vullen. Match info: Berlaar 3G (118) - Plumula 4G (119) - Link: 
 https://www.badmintonvlaanderen.be/sport/teammatch.aspx?id=952A42C0-E06A-4
 00D-BAE7-1F26DE702556&match=1184
DTSTART;TZID=Europe/Brussels:20240205T220000
DTEND;TZID=Europe/Brussels:20240205T220000
END:VEVENT
BEGIN:VEVENT
UID:952A42C0-E06A-400D-BAE7-1F26DE702556-27-1215_homereminder@2015.badminto
 nners.net
DTSTAMP:20260420T055129Z
SUMMARY:Thuismatch ingevuld? (Berlaar 3G (118) - Klein Boom 10G (121))
DESCRIPTION:Je hebt 36 uur na aanvang om een thuismatch op Badmintonvlaande
 ren in te vullen. Match info: Berlaar 3G (118) - Klein Boom 10G (121) - Li
 nk: https://www.badmintonvlaanderen.be/sport/teammatch.aspx?id=952A42C0-E0
 6A-400D-BAE7-1F26DE702556&match=1215
DTSTART;TZID=Europe/Brussels:20240415T220000
DTEND;TZID=Europe/Brussels:20240415T220000
END:VEVENT
BEGIN:VEVENT
UID:952A42C0-E06A-400D-BAE7-1F26DE702556-27-1190_awayreminder@2015.badminto
 nners.net
DTSTAMP:20260420T055129Z
SUMMARY:Uitmatch bevestigd? (Plumula 4G (119) - Berlaar 3G (118))
DESCRIPTION:Je hebt 72 uur na aanvang om een uitmatch op Badmintonvlaandere
 n in te vullen. Match info: Plumula 4G (119) - Berlaar 3G (118) - Link: ht
 tps://www.badmintonvlaanderen.be/sport/teammatch.aspx?id=952A42C0-E06A-400
 D-BAE7-1F26DE702556&match=1190
DTSTART;TZID=Europe/Brussels:20231004T173000
DTEND;TZID=Europe/Brussels:20231004T173000
END:VEVENT
BEGIN:VEVENT
UID:952A42C0-E06A-400D-BAE7-1F26DE702556-27-1192_awayreminder@2015.badminto
 nners.net
DTSTAMP:20260420T055129Z
SUMMARY:Uitmatch bevestigd? (Oelegem 1G (142) - Berlaar 3G (118))
DESCRIPTION:Je hebt 72 uur na aanvang om een uitmatch op Badmintonvlaandere
 n in te vullen. Match info: Oelegem 1G (142) - Berlaar 3G (118) - Link: ht
 tps://www.badmintonvlaanderen.be/sport/teammatch.aspx?id=952A42C0-E06A-400
 D-BAE7-1F26DE702556&match=1192
DTSTART;TZID=Europe/Brussels:20231115T200000
DTEND;TZID=Europe/Brussels:20231115T200000
END:VEVENT
BEGIN:VEVENT
UID:952A42C0-E06A-400D-BAE7-1F26DE702556-27-1194_awayreminder@2015.badminto
 nners.net
DTSTAMP:20260420T055129Z
SUMMARY:Uitmatch bevestigd? (Klein Boom 10G (121) - Berlaar 3G (118))
DESCRIPTION:Je hebt 72 uur na aanvang om een uitmatch op Badmintonvlaandere
 n in te vullen. Match info: Klein Boom 10G (121) - Berlaar 3G (118) - Link
 : https://www.badmintonvlaanderen.be/sport/teammatch.aspx?id=952A42C0-E06A
 -400D-BAE7-1F26DE702556&match=1194
DTSTART;TZID=Europe/Brussels:20231213T190000
DTEND;TZID=Europe/Brussels:20231213T190000
END:VEVENT
BEGIN:VEVENT
UID:952A42C0-E06A-400D-BAE7-1F26DE702556-27-1191_awayreminder@2015.badminto
 nners.net
DTSTAMP:20260420T055129Z
SUMMARY:Uitmatch bevestigd? (Spinners 1G (131) - Berlaar 3G (118))
DESCRIPTION:Je hebt 72 uur na aanvang om een uitmatch op Badmintonvlaandere
 n in te vullen. Match info: Spinners 1G (131) - Berlaar 3G (118) - Link: h
 ttps://www.badmintonvlaanderen.be/sport/teammatch.aspx?id=952A42C0-E06A-40
 0D-BAE7-1F26DE702556&match=1191
DTSTART;TZID=Europe/Brussels:20240304T210000
DTEND;TZID=Europe/Brussels:20240304T210000
END:VEVENT
BEGIN:VEVENT
UID:952A42C0-E06A-400D-BAE7-1F26DE702556-27-1193_awayreminder@2015.badminto
 nners.net
DTSTAMP:20260420T055129Z
SUMMARY:Uitmatch bevestigd? (Opslag 5G (110) - Berlaar 3G (118))
DESCRIPTION:Je hebt 72 uur na aanvang om een uitmatch op Badmintonvlaandere
 n in te vullen. Match info: Opslag 5G (110) - Berlaar 3G (118) - Link: htt
 ps://www.badmintonvlaanderen.be/sport/teammatch.aspx?id=952A42C0-E06A-400D
 -BAE7-1F26DE702556&match=1193
DTSTART;TZID=Europe/Brussels:20240320T163000
DTEND;TZID=Europe/Brussels:20240320T163000
END:VEVENT
BEGIN:VEVENT
UID:952A42C0-E06A-400D-BAE7-1F26DE702556-27-1195_awayreminder@2015.badminto
 nners.net
DTSTAMP:20260420T055129Z
SUMMARY:Uitmatch bevestigd? (Baret 1G (126) - Berlaar 3G (118))
DESCRIPTION:Je hebt 72 uur na aanvang om een uitmatch op Badmintonvlaandere
 n in te vullen. Match info: Baret 1G (126) - Berlaar 3G (118) - Link: http
 s://www.badmintonvlaanderen.be/sport/teammatch.aspx?id=952A42C0-E06A-400D-
 BAE7-1F26DE702556&match=1195
DTSTART;TZID=Europe/Brussels:20240425T200000
DTEND;TZID=Europe/Brussels:20240425T200000
END:VEVENT
END:VCALENDAR