BEGIN:VCALENDAR
VERSION:2.0
PRODID:spatie/icalendar-generator
NAME:poona_1d_52_reminders
X-WR-CALNAME:poona_1d_52_reminders
BEGIN:VTIMEZONE
TZID:Europe/Brussels
BEGIN:DAYLIGHT
DTSTART:20230326T010000
TZOFFSETFROM:+0100
TZOFFSETTO:+0200
END:DAYLIGHT
BEGIN:STANDARD
DTSTART:20231029T030000
TZOFFSETFROM:+0200
TZOFFSETTO:+0100
END:STANDARD
BEGIN:DAYLIGHT
DTSTART:20240331T010000
TZOFFSETFROM:+0100
TZOFFSETTO:+0200
END:DAYLIGHT
END:VTIMEZONE
BEGIN:VTIMEZONE
TZID:UTC
BEGIN:STANDARD
DTSTART:20250724T073623
TZOFFSETFROM:+0000
TZOFFSETTO:+0000
END:STANDARD
END:VTIMEZONE
BEGIN:VEVENT
UID:952A42C0-E06A-400D-BAE7-1F26DE702556-29-1282_homereminder@1838.badminto
 nners.net
DTSTAMP:20260420T073623Z
SUMMARY:Thuismatch ingevuld? (Poona 1D (52) - Herentals 1D (59))
DESCRIPTION:Je hebt 36 uur na aanvang om een thuismatch op Badmintonvlaande
 ren in te vullen. Match info: Poona 1D (52) - Herentals 1D (59) - Link: ht
 tps://www.badmintonvlaanderen.be/sport/teammatch.aspx?id=952A42C0-E06A-400
 D-BAE7-1F26DE702556&match=1282
DTSTART;TZID=Europe/Brussels:20231004T080000
DTEND;TZID=Europe/Brussels:20231004T080000
END:VEVENT
BEGIN:VEVENT
UID:952A42C0-E06A-400D-BAE7-1F26DE702556-29-1308_homereminder@1838.badminto
 nners.net
DTSTAMP:20260420T073623Z
SUMMARY:Thuismatch ingevuld? (Poona 1D (52) - Klein Boom 2D (60))
DESCRIPTION:Je hebt 36 uur na aanvang om een thuismatch op Badmintonvlaande
 ren in te vullen. Match info: Poona 1D (52) - Klein Boom 2D (60) - Link: h
 ttps://www.badmintonvlaanderen.be/sport/teammatch.aspx?id=952A42C0-E06A-40
 0D-BAE7-1F26DE702556&match=1308
DTSTART;TZID=Europe/Brussels:20231115T080000
DTEND;TZID=Europe/Brussels:20231115T080000
END:VEVENT
BEGIN:VEVENT
UID:952A42C0-E06A-400D-BAE7-1F26DE702556-29-1298_homereminder@1838.badminto
 nners.net
DTSTAMP:20260420T073623Z
SUMMARY:Thuismatch ingevuld? (Poona 1D (52) - Zandhoven 1D (66))
DESCRIPTION:Je hebt 36 uur na aanvang om een thuismatch op Badmintonvlaande
 ren in te vullen. Match info: Poona 1D (52) - Zandhoven 1D (66) - Link: ht
 tps://www.badmintonvlaanderen.be/sport/teammatch.aspx?id=952A42C0-E06A-400
 D-BAE7-1F26DE702556&match=1298
DTSTART;TZID=Europe/Brussels:20231129T080000
DTEND;TZID=Europe/Brussels:20231129T080000
END:VEVENT
BEGIN:VEVENT
UID:952A42C0-E06A-400D-BAE7-1F26DE702556-29-1303_homereminder@1838.badminto
 nners.net
DTSTAMP:20260420T073623Z
SUMMARY:Thuismatch ingevuld? (Poona 1D (52) - Bacss 1D (56))
DESCRIPTION:Je hebt 36 uur na aanvang om een thuismatch op Badmintonvlaande
 ren in te vullen. Match info: Poona 1D (52) - Bacss 1D (56) - Link: https:
 //www.badmintonvlaanderen.be/sport/teammatch.aspx?id=952A42C0-E06A-400D-BA
 E7-1F26DE702556&match=1303
DTSTART;TZID=Europe/Brussels:20240207T080000
DTEND;TZID=Europe/Brussels:20240207T080000
END:VEVENT
BEGIN:VEVENT
UID:952A42C0-E06A-400D-BAE7-1F26DE702556-29-1287_homereminder@1838.badminto
 nners.net
DTSTAMP:20260420T073623Z
SUMMARY:Thuismatch ingevuld? (Poona 1D (52) - Spinshuttle 1D (55))
DESCRIPTION:Je hebt 36 uur na aanvang om een thuismatch op Badmintonvlaande
 ren in te vullen. Match info: Poona 1D (52) - Spinshuttle 1D (55) - Link: 
 https://www.badmintonvlaanderen.be/sport/teammatch.aspx?id=952A42C0-E06A-4
 00D-BAE7-1F26DE702556&match=1287
DTSTART;TZID=Europe/Brussels:20240320T080000
DTEND;TZID=Europe/Brussels:20240320T080000
END:VEVENT
BEGIN:VEVENT
UID:952A42C0-E06A-400D-BAE7-1F26DE702556-29-1294_awayreminder@1838.badminto
 nners.net
DTSTAMP:20260420T073623Z
SUMMARY:Uitmatch bevestigd? (Bacss 1D (56) - Poona 1D (52))
DESCRIPTION:Je hebt 72 uur na aanvang om een uitmatch op Badmintonvlaandere
 n in te vullen. Match info: Bacss 1D (56) - Poona 1D (52) - Link: https://
 www.badmintonvlaanderen.be/sport/teammatch.aspx?id=952A42C0-E06A-400D-BAE7
 -1F26DE702556&match=1294
DTSTART;TZID=Europe/Brussels:20230911T201500
DTEND;TZID=Europe/Brussels:20230911T201500
END:VEVENT
BEGIN:VEVENT
UID:952A42C0-E06A-400D-BAE7-1F26DE702556-29-1292_awayreminder@1838.badminto
 nners.net
DTSTAMP:20260420T073623Z
SUMMARY:Uitmatch bevestigd? (Spinshuttle 1D (55) - Poona 1D (52))
DESCRIPTION:Je hebt 72 uur na aanvang om een uitmatch op Badmintonvlaandere
 n in te vullen. Match info: Spinshuttle 1D (55) - Poona 1D (52) - Link: ht
 tps://www.badmintonvlaanderen.be/sport/teammatch.aspx?id=952A42C0-E06A-400
 D-BAE7-1F26DE702556&match=1292
DTSTART;TZID=Europe/Brussels:20231011T093000
DTEND;TZID=Europe/Brussels:20231011T093000
END:VEVENT
BEGIN:VEVENT
UID:952A42C0-E06A-400D-BAE7-1F26DE702556-29-1293_awayreminder@1838.badminto
 nners.net
DTSTAMP:20260420T073623Z
SUMMARY:Uitmatch bevestigd? (Zandhoven 1D (66) - Poona 1D (52))
DESCRIPTION:Je hebt 72 uur na aanvang om een uitmatch op Badmintonvlaandere
 n in te vullen. Match info: Zandhoven 1D (66) - Poona 1D (52) - Link: http
 s://www.badmintonvlaanderen.be/sport/teammatch.aspx?id=952A42C0-E06A-400D-
 BAE7-1F26DE702556&match=1293
DTSTART;TZID=Europe/Brussels:20240125T200000
DTEND;TZID=Europe/Brussels:20240125T200000
END:VEVENT
BEGIN:VEVENT
UID:952A42C0-E06A-400D-BAE7-1F26DE702556-29-1291_awayreminder@1838.badminto
 nners.net
DTSTAMP:20260420T073623Z
SUMMARY:Uitmatch bevestigd? (Herentals 1D (59) - Poona 1D (52))
DESCRIPTION:Je hebt 72 uur na aanvang om een uitmatch op Badmintonvlaandere
 n in te vullen. Match info: Herentals 1D (59) - Poona 1D (52) - Link: http
 s://www.badmintonvlaanderen.be/sport/teammatch.aspx?id=952A42C0-E06A-400D-
 BAE7-1F26DE702556&match=1291
DTSTART;TZID=Europe/Brussels:20240225T210000
DTEND;TZID=Europe/Brussels:20240225T210000
END:VEVENT
BEGIN:VEVENT
UID:952A42C0-E06A-400D-BAE7-1F26DE702556-29-1295_awayreminder@1838.badminto
 nners.net
DTSTAMP:20260420T073623Z
SUMMARY:Uitmatch bevestigd? (Klein Boom 2D (60) - Poona 1D (52))
DESCRIPTION:Je hebt 72 uur na aanvang om een uitmatch op Badmintonvlaandere
 n in te vullen. Match info: Klein Boom 2D (60) - Poona 1D (52) - Link: htt
 ps://www.badmintonvlaanderen.be/sport/teammatch.aspx?id=952A42C0-E06A-400D
 -BAE7-1F26DE702556&match=1295
DTSTART;TZID=Europe/Brussels:20240424T190000
DTEND;TZID=Europe/Brussels:20240424T190000
END:VEVENT
END:VCALENDAR