BEGIN:VCALENDAR
VERSION:2.0
PRODID:spatie/icalendar-generator
NAME:zandhoven_1d_66_reminders
X-WR-CALNAME:zandhoven_1d_66_reminders
BEGIN:VTIMEZONE
TZID:Europe/Brussels
BEGIN:DAYLIGHT
DTSTART:20230326T010000
TZOFFSETFROM:+0100
TZOFFSETTO:+0200
END:DAYLIGHT
BEGIN:STANDARD
DTSTART:20231029T030000
TZOFFSETFROM:+0200
TZOFFSETTO:+0100
END:STANDARD
BEGIN:DAYLIGHT
DTSTART:20240331T010000
TZOFFSETFROM:+0100
TZOFFSETTO:+0200
END:DAYLIGHT
END:VTIMEZONE
BEGIN:VTIMEZONE
TZID:UTC
BEGIN:STANDARD
DTSTART:20250724T073518
TZOFFSETFROM:+0000
TZOFFSETTO:+0000
END:STANDARD
END:VTIMEZONE
BEGIN:VEVENT
UID:952A42C0-E06A-400D-BAE7-1F26DE702556-29-1288_homereminder@1840.badminto
 nners.net
DTSTAMP:20260420T073518Z
SUMMARY:Thuismatch ingevuld? (Zandhoven 1D (66) - Spinshuttle 1D (55))
DESCRIPTION:Je hebt 36 uur na aanvang om een thuismatch op Badmintonvlaande
 ren in te vullen. Match info: Zandhoven 1D (66) - Spinshuttle 1D (55) - Li
 nk: https://www.badmintonvlaanderen.be/sport/teammatch.aspx?id=952A42C0-E0
 6A-400D-BAE7-1F26DE702556&match=1288
DTSTART;TZID=Europe/Brussels:20231115T080000
DTEND;TZID=Europe/Brussels:20231115T080000
END:VEVENT
BEGIN:VEVENT
UID:952A42C0-E06A-400D-BAE7-1F26DE702556-29-1304_homereminder@1840.badminto
 nners.net
DTSTAMP:20260420T073518Z
SUMMARY:Thuismatch ingevuld? (Zandhoven 1D (66) - Bacss 1D (56))
DESCRIPTION:Je hebt 36 uur na aanvang om een thuismatch op Badmintonvlaande
 ren in te vullen. Match info: Zandhoven 1D (66) - Bacss 1D (56) - Link: ht
 tps://www.badmintonvlaanderen.be/sport/teammatch.aspx?id=952A42C0-E06A-400
 D-BAE7-1F26DE702556&match=1304
DTSTART;TZID=Europe/Brussels:20231213T080000
DTEND;TZID=Europe/Brussels:20231213T080000
END:VEVENT
BEGIN:VEVENT
UID:952A42C0-E06A-400D-BAE7-1F26DE702556-29-1293_homereminder@1840.badminto
 nners.net
DTSTAMP:20260420T073518Z
SUMMARY:Thuismatch ingevuld? (Zandhoven 1D (66) - Poona 1D (52))
DESCRIPTION:Je hebt 36 uur na aanvang om een thuismatch op Badmintonvlaande
 ren in te vullen. Match info: Zandhoven 1D (66) - Poona 1D (52) - Link: ht
 tps://www.badmintonvlaanderen.be/sport/teammatch.aspx?id=952A42C0-E06A-400
 D-BAE7-1F26DE702556&match=1293
DTSTART;TZID=Europe/Brussels:20240124T080000
DTEND;TZID=Europe/Brussels:20240124T080000
END:VEVENT
BEGIN:VEVENT
UID:952A42C0-E06A-400D-BAE7-1F26DE702556-29-1309_homereminder@1840.badminto
 nners.net
DTSTAMP:20260420T073518Z
SUMMARY:Thuismatch ingevuld? (Zandhoven 1D (66) - Klein Boom 2D (60))
DESCRIPTION:Je hebt 36 uur na aanvang om een thuismatch op Badmintonvlaande
 ren in te vullen. Match info: Zandhoven 1D (66) - Klein Boom 2D (60) - Lin
 k: https://www.badmintonvlaanderen.be/sport/teammatch.aspx?id=952A42C0-E06
 A-400D-BAE7-1F26DE702556&match=1309
DTSTART;TZID=Europe/Brussels:20240207T080000
DTEND;TZID=Europe/Brussels:20240207T080000
END:VEVENT
BEGIN:VEVENT
UID:952A42C0-E06A-400D-BAE7-1F26DE702556-29-1283_homereminder@1840.badminto
 nners.net
DTSTAMP:20260420T073518Z
SUMMARY:Thuismatch ingevuld? (Zandhoven 1D (66) - Herentals 1D (59))
DESCRIPTION:Je hebt 36 uur na aanvang om een thuismatch op Badmintonvlaande
 ren in te vullen. Match info: Zandhoven 1D (66) - Herentals 1D (59) - Link
 : https://www.badmintonvlaanderen.be/sport/teammatch.aspx?id=952A42C0-E06A
 -400D-BAE7-1F26DE702556&match=1283
DTSTART;TZID=Europe/Brussels:20240320T080000
DTEND;TZID=Europe/Brussels:20240320T080000
END:VEVENT
BEGIN:VEVENT
UID:952A42C0-E06A-400D-BAE7-1F26DE702556-29-1300_awayreminder@1840.badminto
 nners.net
DTSTAMP:20260420T073518Z
SUMMARY:Uitmatch bevestigd? (Klein Boom 2D (60) - Zandhoven 1D (66))
DESCRIPTION:Je hebt 72 uur na aanvang om een uitmatch op Badmintonvlaandere
 n in te vullen. Match info: Klein Boom 2D (60) - Zandhoven 1D (66) - Link:
  https://www.badmintonvlaanderen.be/sport/teammatch.aspx?id=952A42C0-E06A-
 400D-BAE7-1F26DE702556&match=1300
DTSTART;TZID=Europe/Brussels:20230913T190000
DTEND;TZID=Europe/Brussels:20230913T190000
END:VEVENT
BEGIN:VEVENT
UID:952A42C0-E06A-400D-BAE7-1F26DE702556-29-1296_awayreminder@1840.badminto
 nners.net
DTSTAMP:20260420T073518Z
SUMMARY:Uitmatch bevestigd? (Herentals 1D (59) - Zandhoven 1D (66))
DESCRIPTION:Je hebt 72 uur na aanvang om een uitmatch op Badmintonvlaandere
 n in te vullen. Match info: Herentals 1D (59) - Zandhoven 1D (66) - Link: 
 https://www.badmintonvlaanderen.be/sport/teammatch.aspx?id=952A42C0-E06A-4
 00D-BAE7-1F26DE702556&match=1296
DTSTART;TZID=Europe/Brussels:20231119T210000
DTEND;TZID=Europe/Brussels:20231119T210000
END:VEVENT
BEGIN:VEVENT
UID:952A42C0-E06A-400D-BAE7-1F26DE702556-29-1298_awayreminder@1840.badminto
 nners.net
DTSTAMP:20260420T073518Z
SUMMARY:Uitmatch bevestigd? (Poona 1D (52) - Zandhoven 1D (66))
DESCRIPTION:Je hebt 72 uur na aanvang om een uitmatch op Badmintonvlaandere
 n in te vullen. Match info: Poona 1D (52) - Zandhoven 1D (66) - Link: http
 s://www.badmintonvlaanderen.be/sport/teammatch.aspx?id=952A42C0-E06A-400D-
 BAE7-1F26DE702556&match=1298
DTSTART;TZID=Europe/Brussels:20231130T200000
DTEND;TZID=Europe/Brussels:20231130T200000
END:VEVENT
BEGIN:VEVENT
UID:952A42C0-E06A-400D-BAE7-1F26DE702556-29-1299_awayreminder@1840.badminto
 nners.net
DTSTAMP:20260420T073518Z
SUMMARY:Uitmatch bevestigd? (Bacss 1D (56) - Zandhoven 1D (66))
DESCRIPTION:Je hebt 72 uur na aanvang om een uitmatch op Badmintonvlaandere
 n in te vullen. Match info: Bacss 1D (56) - Zandhoven 1D (66) - Link: http
 s://www.badmintonvlaanderen.be/sport/teammatch.aspx?id=952A42C0-E06A-400D-
 BAE7-1F26DE702556&match=1299
DTSTART;TZID=Europe/Brussels:20240311T201500
DTEND;TZID=Europe/Brussels:20240311T201500
END:VEVENT
BEGIN:VEVENT
UID:952A42C0-E06A-400D-BAE7-1F26DE702556-29-1297_awayreminder@1840.badminto
 nners.net
DTSTAMP:20260420T073518Z
SUMMARY:Uitmatch bevestigd? (Spinshuttle 1D (55) - Zandhoven 1D (66))
DESCRIPTION:Je hebt 72 uur na aanvang om een uitmatch op Badmintonvlaandere
 n in te vullen. Match info: Spinshuttle 1D (55) - Zandhoven 1D (66) - Link
 : https://www.badmintonvlaanderen.be/sport/teammatch.aspx?id=952A42C0-E06A
 -400D-BAE7-1F26DE702556&match=1297
DTSTART;TZID=Europe/Brussels:20240424T093000
DTEND;TZID=Europe/Brussels:20240424T093000
END:VEVENT
END:VCALENDAR