BEGIN:VCALENDAR
VERSION:2.0
PRODID:spatie/icalendar-generator
NAME:herentals_1d_59_reminders
X-WR-CALNAME:herentals_1d_59_reminders
BEGIN:VTIMEZONE
TZID:Europe/Brussels
BEGIN:DAYLIGHT
DTSTART:20230326T010000
TZOFFSETFROM:+0100
TZOFFSETTO:+0200
END:DAYLIGHT
BEGIN:STANDARD
DTSTART:20231029T030000
TZOFFSETFROM:+0200
TZOFFSETTO:+0100
END:STANDARD
BEGIN:DAYLIGHT
DTSTART:20240331T010000
TZOFFSETFROM:+0100
TZOFFSETTO:+0200
END:DAYLIGHT
END:VTIMEZONE
BEGIN:VTIMEZONE
TZID:UTC
BEGIN:STANDARD
DTSTART:20250724T073655
TZOFFSETFROM:+0000
TZOFFSETTO:+0000
END:STANDARD
END:VTIMEZONE
BEGIN:VEVENT
UID:952A42C0-E06A-400D-BAE7-1F26DE702556-29-1286_homereminder@1842.badminto
 nners.net
DTSTAMP:20260420T073655Z
SUMMARY:Thuismatch ingevuld? (Herentals 1D (59) - Spinshuttle 1D (55))
DESCRIPTION:Je hebt 36 uur na aanvang om een thuismatch op Badmintonvlaande
 ren in te vullen. Match info: Herentals 1D (59) - Spinshuttle 1D (55) - Li
 nk: https://www.badmintonvlaanderen.be/sport/teammatch.aspx?id=952A42C0-E0
 6A-400D-BAE7-1F26DE702556&match=1286
DTSTART;TZID=Europe/Brussels:20230923T090000
DTEND;TZID=Europe/Brussels:20230923T090000
END:VEVENT
BEGIN:VEVENT
UID:952A42C0-E06A-400D-BAE7-1F26DE702556-29-1296_homereminder@1842.badminto
 nners.net
DTSTAMP:20260420T073655Z
SUMMARY:Thuismatch ingevuld? (Herentals 1D (59) - Zandhoven 1D (66))
DESCRIPTION:Je hebt 36 uur na aanvang om een thuismatch op Badmintonvlaande
 ren in te vullen. Match info: Herentals 1D (59) - Zandhoven 1D (66) - Link
 : https://www.badmintonvlaanderen.be/sport/teammatch.aspx?id=952A42C0-E06A
 -400D-BAE7-1F26DE702556&match=1296
DTSTART;TZID=Europe/Brussels:20231118T090000
DTEND;TZID=Europe/Brussels:20231118T090000
END:VEVENT
BEGIN:VEVENT
UID:952A42C0-E06A-400D-BAE7-1F26DE702556-29-1306_homereminder@1842.badminto
 nners.net
DTSTAMP:20260420T073655Z
SUMMARY:Thuismatch ingevuld? (Herentals 1D (59) - Klein Boom 2D (60))
DESCRIPTION:Je hebt 36 uur na aanvang om een thuismatch op Badmintonvlaande
 ren in te vullen. Match info: Herentals 1D (59) - Klein Boom 2D (60) - Lin
 k: https://www.badmintonvlaanderen.be/sport/teammatch.aspx?id=952A42C0-E06
 A-400D-BAE7-1F26DE702556&match=1306
DTSTART;TZID=Europe/Brussels:20231202T090000
DTEND;TZID=Europe/Brussels:20231202T090000
END:VEVENT
BEGIN:VEVENT
UID:952A42C0-E06A-400D-BAE7-1F26DE702556-29-1301_homereminder@1842.badminto
 nners.net
DTSTAMP:20260420T073655Z
SUMMARY:Thuismatch ingevuld? (Herentals 1D (59) - Bacss 1D (56))
DESCRIPTION:Je hebt 36 uur na aanvang om een thuismatch op Badmintonvlaande
 ren in te vullen. Match info: Herentals 1D (59) - Bacss 1D (56) - Link: ht
 tps://www.badmintonvlaanderen.be/sport/teammatch.aspx?id=952A42C0-E06A-400
 D-BAE7-1F26DE702556&match=1301
DTSTART;TZID=Europe/Brussels:20240106T090000
DTEND;TZID=Europe/Brussels:20240106T090000
END:VEVENT
BEGIN:VEVENT
UID:952A42C0-E06A-400D-BAE7-1F26DE702556-29-1291_homereminder@1842.badminto
 nners.net
DTSTAMP:20260420T073655Z
SUMMARY:Thuismatch ingevuld? (Herentals 1D (59) - Poona 1D (52))
DESCRIPTION:Je hebt 36 uur na aanvang om een thuismatch op Badmintonvlaande
 ren in te vullen. Match info: Herentals 1D (59) - Poona 1D (52) - Link: ht
 tps://www.badmintonvlaanderen.be/sport/teammatch.aspx?id=952A42C0-E06A-400
 D-BAE7-1F26DE702556&match=1291
DTSTART;TZID=Europe/Brussels:20240224T090000
DTEND;TZID=Europe/Brussels:20240224T090000
END:VEVENT
BEGIN:VEVENT
UID:952A42C0-E06A-400D-BAE7-1F26DE702556-29-1282_awayreminder@1842.badminto
 nners.net
DTSTAMP:20260420T073655Z
SUMMARY:Uitmatch bevestigd? (Poona 1D (52) - Herentals 1D (59))
DESCRIPTION:Je hebt 72 uur na aanvang om een uitmatch op Badmintonvlaandere
 n in te vullen. Match info: Poona 1D (52) - Herentals 1D (59) - Link: http
 s://www.badmintonvlaanderen.be/sport/teammatch.aspx?id=952A42C0-E06A-400D-
 BAE7-1F26DE702556&match=1282
DTSTART;TZID=Europe/Brussels:20231005T200000
DTEND;TZID=Europe/Brussels:20231005T200000
END:VEVENT
BEGIN:VEVENT
UID:952A42C0-E06A-400D-BAE7-1F26DE702556-29-1284_awayreminder@1842.badminto
 nners.net
DTSTAMP:20260420T073655Z
SUMMARY:Uitmatch bevestigd? (Bacss 1D (56) - Herentals 1D (59))
DESCRIPTION:Je hebt 72 uur na aanvang om een uitmatch op Badmintonvlaandere
 n in te vullen. Match info: Bacss 1D (56) - Herentals 1D (59) - Link: http
 s://www.badmintonvlaanderen.be/sport/teammatch.aspx?id=952A42C0-E06A-400D-
 BAE7-1F26DE702556&match=1284
DTSTART;TZID=Europe/Brussels:20231120T201500
DTEND;TZID=Europe/Brussels:20231120T201500
END:VEVENT
BEGIN:VEVENT
UID:952A42C0-E06A-400D-BAE7-1F26DE702556-29-1285_awayreminder@1842.badminto
 nners.net
DTSTAMP:20260420T073655Z
SUMMARY:Uitmatch bevestigd? (Klein Boom 2D (60) - Herentals 1D (59))
DESCRIPTION:Je hebt 72 uur na aanvang om een uitmatch op Badmintonvlaandere
 n in te vullen. Match info: Klein Boom 2D (60) - Herentals 1D (59) - Link:
  https://www.badmintonvlaanderen.be/sport/teammatch.aspx?id=952A42C0-E06A-
 400D-BAE7-1F26DE702556&match=1285
DTSTART;TZID=Europe/Brussels:20240131T190000
DTEND;TZID=Europe/Brussels:20240131T190000
END:VEVENT
BEGIN:VEVENT
UID:952A42C0-E06A-400D-BAE7-1F26DE702556-29-1281_awayreminder@1842.badminto
 nners.net
DTSTAMP:20260420T073655Z
SUMMARY:Uitmatch bevestigd? (Spinshuttle 1D (55) - Herentals 1D (59))
DESCRIPTION:Je hebt 72 uur na aanvang om een uitmatch op Badmintonvlaandere
 n in te vullen. Match info: Spinshuttle 1D (55) - Herentals 1D (59) - Link
 : https://www.badmintonvlaanderen.be/sport/teammatch.aspx?id=952A42C0-E06A
 -400D-BAE7-1F26DE702556&match=1281
DTSTART;TZID=Europe/Brussels:20240214T093000
DTEND;TZID=Europe/Brussels:20240214T093000
END:VEVENT
BEGIN:VEVENT
UID:952A42C0-E06A-400D-BAE7-1F26DE702556-29-1283_awayreminder@1842.badminto
 nners.net
DTSTAMP:20260420T073655Z
SUMMARY:Uitmatch bevestigd? (Zandhoven 1D (66) - Herentals 1D (59))
DESCRIPTION:Je hebt 72 uur na aanvang om een uitmatch op Badmintonvlaandere
 n in te vullen. Match info: Zandhoven 1D (66) - Herentals 1D (59) - Link: 
 https://www.badmintonvlaanderen.be/sport/teammatch.aspx?id=952A42C0-E06A-4
 00D-BAE7-1F26DE702556&match=1283
DTSTART;TZID=Europe/Brussels:20240321T200000
DTEND;TZID=Europe/Brussels:20240321T200000
END:VEVENT
END:VCALENDAR