BEGIN:VCALENDAR
VERSION:2.0
PRODID:spatie/icalendar-generator
NAME:klein_boom_2d_60_reminders
X-WR-CALNAME:klein_boom_2d_60_reminders
BEGIN:VTIMEZONE
TZID:Europe/Brussels
BEGIN:DAYLIGHT
DTSTART:20230326T010000
TZOFFSETFROM:+0100
TZOFFSETTO:+0200
END:DAYLIGHT
BEGIN:STANDARD
DTSTART:20231029T030000
TZOFFSETFROM:+0200
TZOFFSETTO:+0100
END:STANDARD
BEGIN:DAYLIGHT
DTSTART:20240331T010000
TZOFFSETFROM:+0100
TZOFFSETTO:+0200
END:DAYLIGHT
END:VTIMEZONE
BEGIN:VTIMEZONE
TZID:UTC
BEGIN:STANDARD
DTSTART:20250724T073529
TZOFFSETFROM:+0000
TZOFFSETTO:+0000
END:STANDARD
END:VTIMEZONE
BEGIN:VEVENT
UID:952A42C0-E06A-400D-BAE7-1F26DE702556-29-1300_homereminder@1843.badminto
 nners.net
DTSTAMP:20260420T073529Z
SUMMARY:Thuismatch ingevuld? (Klein Boom 2D (60) - Zandhoven 1D (66))
DESCRIPTION:Je hebt 36 uur na aanvang om een thuismatch op Badmintonvlaande
 ren in te vullen. Match info: Klein Boom 2D (60) - Zandhoven 1D (66) - Lin
 k: https://www.badmintonvlaanderen.be/sport/teammatch.aspx?id=952A42C0-E06
 A-400D-BAE7-1F26DE702556&match=1300
DTSTART;TZID=Europe/Brussels:20230912T070000
DTEND;TZID=Europe/Brussels:20230912T070000
END:VEVENT
BEGIN:VEVENT
UID:952A42C0-E06A-400D-BAE7-1F26DE702556-29-1305_homereminder@1843.badminto
 nners.net
DTSTAMP:20260420T073529Z
SUMMARY:Thuismatch ingevuld? (Klein Boom 2D (60) - Bacss 1D (56))
DESCRIPTION:Je hebt 36 uur na aanvang om een thuismatch op Badmintonvlaande
 ren in te vullen. Match info: Klein Boom 2D (60) - Bacss 1D (56) - Link: h
 ttps://www.badmintonvlaanderen.be/sport/teammatch.aspx?id=952A42C0-E06A-40
 0D-BAE7-1F26DE702556&match=1305
DTSTART;TZID=Europe/Brussels:20231024T070000
DTEND;TZID=Europe/Brussels:20231024T070000
END:VEVENT
BEGIN:VEVENT
UID:952A42C0-E06A-400D-BAE7-1F26DE702556-29-1285_homereminder@1843.badminto
 nners.net
DTSTAMP:20260420T073529Z
SUMMARY:Thuismatch ingevuld? (Klein Boom 2D (60) - Herentals 1D (59))
DESCRIPTION:Je hebt 36 uur na aanvang om een thuismatch op Badmintonvlaande
 ren in te vullen. Match info: Klein Boom 2D (60) - Herentals 1D (59) - Lin
 k: https://www.badmintonvlaanderen.be/sport/teammatch.aspx?id=952A42C0-E06
 A-400D-BAE7-1F26DE702556&match=1285
DTSTART;TZID=Europe/Brussels:20240130T070000
DTEND;TZID=Europe/Brussels:20240130T070000
END:VEVENT
BEGIN:VEVENT
UID:952A42C0-E06A-400D-BAE7-1F26DE702556-29-1290_homereminder@1843.badminto
 nners.net
DTSTAMP:20260420T073529Z
SUMMARY:Thuismatch ingevuld? (Klein Boom 2D (60) - Spinshuttle 1D (55))
DESCRIPTION:Je hebt 36 uur na aanvang om een thuismatch op Badmintonvlaande
 ren in te vullen. Match info: Klein Boom 2D (60) - Spinshuttle 1D (55) - L
 ink: https://www.badmintonvlaanderen.be/sport/teammatch.aspx?id=952A42C0-E
 06A-400D-BAE7-1F26DE702556&match=1290
DTSTART;TZID=Europe/Brussels:20240227T070000
DTEND;TZID=Europe/Brussels:20240227T070000
END:VEVENT
BEGIN:VEVENT
UID:952A42C0-E06A-400D-BAE7-1F26DE702556-29-1295_homereminder@1843.badminto
 nners.net
DTSTAMP:20260420T073529Z
SUMMARY:Thuismatch ingevuld? (Klein Boom 2D (60) - Poona 1D (52))
DESCRIPTION:Je hebt 36 uur na aanvang om een thuismatch op Badmintonvlaande
 ren in te vullen. Match info: Klein Boom 2D (60) - Poona 1D (52) - Link: h
 ttps://www.badmintonvlaanderen.be/sport/teammatch.aspx?id=952A42C0-E06A-40
 0D-BAE7-1F26DE702556&match=1295
DTSTART;TZID=Europe/Brussels:20240423T070000
DTEND;TZID=Europe/Brussels:20240423T070000
END:VEVENT
BEGIN:VEVENT
UID:952A42C0-E06A-400D-BAE7-1F26DE702556-29-1308_awayreminder@1843.badminto
 nners.net
DTSTAMP:20260420T073529Z
SUMMARY:Uitmatch bevestigd? (Poona 1D (52) - Klein Boom 2D (60))
DESCRIPTION:Je hebt 72 uur na aanvang om een uitmatch op Badmintonvlaandere
 n in te vullen. Match info: Poona 1D (52) - Klein Boom 2D (60) - Link: htt
 ps://www.badmintonvlaanderen.be/sport/teammatch.aspx?id=952A42C0-E06A-400D
 -BAE7-1F26DE702556&match=1308
DTSTART;TZID=Europe/Brussels:20231116T200000
DTEND;TZID=Europe/Brussels:20231116T200000
END:VEVENT
BEGIN:VEVENT
UID:952A42C0-E06A-400D-BAE7-1F26DE702556-29-1307_awayreminder@1843.badminto
 nners.net
DTSTAMP:20260420T073529Z
SUMMARY:Uitmatch bevestigd? (Spinshuttle 1D (55) - Klein Boom 2D (60))
DESCRIPTION:Je hebt 72 uur na aanvang om een uitmatch op Badmintonvlaandere
 n in te vullen. Match info: Spinshuttle 1D (55) - Klein Boom 2D (60) - Lin
 k: https://www.badmintonvlaanderen.be/sport/teammatch.aspx?id=952A42C0-E06
 A-400D-BAE7-1F26DE702556&match=1307
DTSTART;TZID=Europe/Brussels:20231129T093000
DTEND;TZID=Europe/Brussels:20231129T093000
END:VEVENT
BEGIN:VEVENT
UID:952A42C0-E06A-400D-BAE7-1F26DE702556-29-1306_awayreminder@1843.badminto
 nners.net
DTSTAMP:20260420T073529Z
SUMMARY:Uitmatch bevestigd? (Herentals 1D (59) - Klein Boom 2D (60))
DESCRIPTION:Je hebt 72 uur na aanvang om een uitmatch op Badmintonvlaandere
 n in te vullen. Match info: Herentals 1D (59) - Klein Boom 2D (60) - Link:
  https://www.badmintonvlaanderen.be/sport/teammatch.aspx?id=952A42C0-E06A-
 400D-BAE7-1F26DE702556&match=1306
DTSTART;TZID=Europe/Brussels:20231203T210000
DTEND;TZID=Europe/Brussels:20231203T210000
END:VEVENT
BEGIN:VEVENT
UID:952A42C0-E06A-400D-BAE7-1F26DE702556-29-1309_awayreminder@1843.badminto
 nners.net
DTSTAMP:20260420T073529Z
SUMMARY:Uitmatch bevestigd? (Zandhoven 1D (66) - Klein Boom 2D (60))
DESCRIPTION:Je hebt 72 uur na aanvang om een uitmatch op Badmintonvlaandere
 n in te vullen. Match info: Zandhoven 1D (66) - Klein Boom 2D (60) - Link:
  https://www.badmintonvlaanderen.be/sport/teammatch.aspx?id=952A42C0-E06A-
 400D-BAE7-1F26DE702556&match=1309
DTSTART;TZID=Europe/Brussels:20240208T200000
DTEND;TZID=Europe/Brussels:20240208T200000
END:VEVENT
BEGIN:VEVENT
UID:952A42C0-E06A-400D-BAE7-1F26DE702556-29-1310_awayreminder@1843.badminto
 nners.net
DTSTAMP:20260420T073529Z
SUMMARY:Uitmatch bevestigd? (Bacss 1D (56) - Klein Boom 2D (60))
DESCRIPTION:Je hebt 72 uur na aanvang om een uitmatch op Badmintonvlaandere
 n in te vullen. Match info: Bacss 1D (56) - Klein Boom 2D (60) - Link: htt
 ps://www.badmintonvlaanderen.be/sport/teammatch.aspx?id=952A42C0-E06A-400D
 -BAE7-1F26DE702556&match=1310
DTSTART;TZID=Europe/Brussels:20240325T201500
DTEND;TZID=Europe/Brussels:20240325T201500
END:VEVENT
END:VCALENDAR