BEGIN:VCALENDAR
VERSION:2.0
PRODID:spatie/icalendar-generator
NAME:bacss_1d_56_reminders
X-WR-CALNAME:bacss_1d_56_reminders
BEGIN:VTIMEZONE
TZID:Europe/Brussels
BEGIN:DAYLIGHT
DTSTART:20230326T010000
TZOFFSETFROM:+0100
TZOFFSETTO:+0200
END:DAYLIGHT
BEGIN:STANDARD
DTSTART:20231029T030000
TZOFFSETFROM:+0200
TZOFFSETTO:+0100
END:STANDARD
BEGIN:DAYLIGHT
DTSTART:20240331T010000
TZOFFSETFROM:+0100
TZOFFSETTO:+0200
END:DAYLIGHT
END:VTIMEZONE
BEGIN:VTIMEZONE
TZID:UTC
BEGIN:STANDARD
DTSTART:20250724T073518
TZOFFSETFROM:+0000
TZOFFSETTO:+0000
END:STANDARD
END:VTIMEZONE
BEGIN:VEVENT
UID:952A42C0-E06A-400D-BAE7-1F26DE702556-29-1294_homereminder@1844.badminto
 nners.net
DTSTAMP:20260420T073518Z
SUMMARY:Thuismatch ingevuld? (Bacss 1D (56) - Poona 1D (52))
DESCRIPTION:Je hebt 36 uur na aanvang om een thuismatch op Badmintonvlaande
 ren in te vullen. Match info: Bacss 1D (56) - Poona 1D (52) - Link: https:
 //www.badmintonvlaanderen.be/sport/teammatch.aspx?id=952A42C0-E06A-400D-BA
 E7-1F26DE702556&match=1294
DTSTART;TZID=Europe/Brussels:20230910T081500
DTEND;TZID=Europe/Brussels:20230910T081500
END:VEVENT
BEGIN:VEVENT
UID:952A42C0-E06A-400D-BAE7-1F26DE702556-29-1284_homereminder@1844.badminto
 nners.net
DTSTAMP:20260420T073518Z
SUMMARY:Thuismatch ingevuld? (Bacss 1D (56) - Herentals 1D (59))
DESCRIPTION:Je hebt 36 uur na aanvang om een thuismatch op Badmintonvlaande
 ren in te vullen. Match info: Bacss 1D (56) - Herentals 1D (59) - Link: ht
 tps://www.badmintonvlaanderen.be/sport/teammatch.aspx?id=952A42C0-E06A-400
 D-BAE7-1F26DE702556&match=1284
DTSTART;TZID=Europe/Brussels:20231119T081500
DTEND;TZID=Europe/Brussels:20231119T081500
END:VEVENT
BEGIN:VEVENT
UID:952A42C0-E06A-400D-BAE7-1F26DE702556-29-1289_homereminder@1844.badminto
 nners.net
DTSTAMP:20260420T073518Z
SUMMARY:Thuismatch ingevuld? (Bacss 1D (56) - Spinshuttle 1D (55))
DESCRIPTION:Je hebt 36 uur na aanvang om een thuismatch op Badmintonvlaande
 ren in te vullen. Match info: Bacss 1D (56) - Spinshuttle 1D (55) - Link: 
 https://www.badmintonvlaanderen.be/sport/teammatch.aspx?id=952A42C0-E06A-4
 00D-BAE7-1F26DE702556&match=1289
DTSTART;TZID=Europe/Brussels:20240128T081500
DTEND;TZID=Europe/Brussels:20240128T081500
END:VEVENT
BEGIN:VEVENT
UID:952A42C0-E06A-400D-BAE7-1F26DE702556-29-1299_homereminder@1844.badminto
 nners.net
DTSTAMP:20260420T073518Z
SUMMARY:Thuismatch ingevuld? (Bacss 1D (56) - Zandhoven 1D (66))
DESCRIPTION:Je hebt 36 uur na aanvang om een thuismatch op Badmintonvlaande
 ren in te vullen. Match info: Bacss 1D (56) - Zandhoven 1D (66) - Link: ht
 tps://www.badmintonvlaanderen.be/sport/teammatch.aspx?id=952A42C0-E06A-400
 D-BAE7-1F26DE702556&match=1299
DTSTART;TZID=Europe/Brussels:20240310T081500
DTEND;TZID=Europe/Brussels:20240310T081500
END:VEVENT
BEGIN:VEVENT
UID:952A42C0-E06A-400D-BAE7-1F26DE702556-29-1310_homereminder@1844.badminto
 nners.net
DTSTAMP:20260420T073518Z
SUMMARY:Thuismatch ingevuld? (Bacss 1D (56) - Klein Boom 2D (60))
DESCRIPTION:Je hebt 36 uur na aanvang om een thuismatch op Badmintonvlaande
 ren in te vullen. Match info: Bacss 1D (56) - Klein Boom 2D (60) - Link: h
 ttps://www.badmintonvlaanderen.be/sport/teammatch.aspx?id=952A42C0-E06A-40
 0D-BAE7-1F26DE702556&match=1310
DTSTART;TZID=Europe/Brussels:20240324T081500
DTEND;TZID=Europe/Brussels:20240324T081500
END:VEVENT
BEGIN:VEVENT
UID:952A42C0-E06A-400D-BAE7-1F26DE702556-29-1305_awayreminder@1844.badminto
 nners.net
DTSTAMP:20260420T073518Z
SUMMARY:Uitmatch bevestigd? (Klein Boom 2D (60) - Bacss 1D (56))
DESCRIPTION:Je hebt 72 uur na aanvang om een uitmatch op Badmintonvlaandere
 n in te vullen. Match info: Klein Boom 2D (60) - Bacss 1D (56) - Link: htt
 ps://www.badmintonvlaanderen.be/sport/teammatch.aspx?id=952A42C0-E06A-400D
 -BAE7-1F26DE702556&match=1305
DTSTART;TZID=Europe/Brussels:20231025T190000
DTEND;TZID=Europe/Brussels:20231025T190000
END:VEVENT
BEGIN:VEVENT
UID:952A42C0-E06A-400D-BAE7-1F26DE702556-29-1302_awayreminder@1844.badminto
 nners.net
DTSTAMP:20260420T073518Z
SUMMARY:Uitmatch bevestigd? (Spinshuttle 1D (55) - Bacss 1D (56))
DESCRIPTION:Je hebt 72 uur na aanvang om een uitmatch op Badmintonvlaandere
 n in te vullen. Match info: Spinshuttle 1D (55) - Bacss 1D (56) - Link: ht
 tps://www.badmintonvlaanderen.be/sport/teammatch.aspx?id=952A42C0-E06A-400
 D-BAE7-1F26DE702556&match=1302
DTSTART;TZID=Europe/Brussels:20231206T093000
DTEND;TZID=Europe/Brussels:20231206T093000
END:VEVENT
BEGIN:VEVENT
UID:952A42C0-E06A-400D-BAE7-1F26DE702556-29-1304_awayreminder@1844.badminto
 nners.net
DTSTAMP:20260420T073518Z
SUMMARY:Uitmatch bevestigd? (Zandhoven 1D (66) - Bacss 1D (56))
DESCRIPTION:Je hebt 72 uur na aanvang om een uitmatch op Badmintonvlaandere
 n in te vullen. Match info: Zandhoven 1D (66) - Bacss 1D (56) - Link: http
 s://www.badmintonvlaanderen.be/sport/teammatch.aspx?id=952A42C0-E06A-400D-
 BAE7-1F26DE702556&match=1304
DTSTART;TZID=Europe/Brussels:20231214T200000
DTEND;TZID=Europe/Brussels:20231214T200000
END:VEVENT
BEGIN:VEVENT
UID:952A42C0-E06A-400D-BAE7-1F26DE702556-29-1301_awayreminder@1844.badminto
 nners.net
DTSTAMP:20260420T073518Z
SUMMARY:Uitmatch bevestigd? (Herentals 1D (59) - Bacss 1D (56))
DESCRIPTION:Je hebt 72 uur na aanvang om een uitmatch op Badmintonvlaandere
 n in te vullen. Match info: Herentals 1D (59) - Bacss 1D (56) - Link: http
 s://www.badmintonvlaanderen.be/sport/teammatch.aspx?id=952A42C0-E06A-400D-
 BAE7-1F26DE702556&match=1301
DTSTART;TZID=Europe/Brussels:20240107T210000
DTEND;TZID=Europe/Brussels:20240107T210000
END:VEVENT
BEGIN:VEVENT
UID:952A42C0-E06A-400D-BAE7-1F26DE702556-29-1303_awayreminder@1844.badminto
 nners.net
DTSTAMP:20260420T073518Z
SUMMARY:Uitmatch bevestigd? (Poona 1D (52) - Bacss 1D (56))
DESCRIPTION:Je hebt 72 uur na aanvang om een uitmatch op Badmintonvlaandere
 n in te vullen. Match info: Poona 1D (52) - Bacss 1D (56) - Link: https://
 www.badmintonvlaanderen.be/sport/teammatch.aspx?id=952A42C0-E06A-400D-BAE7
 -1F26DE702556&match=1303
DTSTART;TZID=Europe/Brussels:20240208T200000
DTEND;TZID=Europe/Brussels:20240208T200000
END:VEVENT
END:VCALENDAR