BEGIN:VCALENDAR
VERSION:2.0
PRODID:spatie/icalendar-generator
NAME:spinshuttle_1d_55_reminders
X-WR-CALNAME:spinshuttle_1d_55_reminders
BEGIN:VTIMEZONE
TZID:Europe/Brussels
BEGIN:DAYLIGHT
DTSTART:20230326T010000
TZOFFSETFROM:+0100
TZOFFSETTO:+0200
END:DAYLIGHT
BEGIN:STANDARD
DTSTART:20231029T030000
TZOFFSETFROM:+0200
TZOFFSETTO:+0100
END:STANDARD
BEGIN:DAYLIGHT
DTSTART:20240331T010000
TZOFFSETFROM:+0100
TZOFFSETTO:+0200
END:DAYLIGHT
END:VTIMEZONE
BEGIN:VTIMEZONE
TZID:UTC
BEGIN:STANDARD
DTSTART:20250724T055217
TZOFFSETFROM:+0000
TZOFFSETTO:+0000
END:STANDARD
END:VTIMEZONE
BEGIN:VEVENT
UID:952A42C0-E06A-400D-BAE7-1F26DE702556-29-1292_homereminder@1870.badminto
 nners.net
DTSTAMP:20260420T055217Z
SUMMARY:Thuismatch ingevuld? (Spinshuttle 1D (55) - Poona 1D (52))
DESCRIPTION:Je hebt 36 uur na aanvang om een thuismatch op Badmintonvlaande
 ren in te vullen. Match info: Spinshuttle 1D (55) - Poona 1D (52) - Link: 
 https://www.badmintonvlaanderen.be/sport/teammatch.aspx?id=952A42C0-E06A-4
 00D-BAE7-1F26DE702556&match=1292
DTSTART;TZID=Europe/Brussels:20231009T213000
DTEND;TZID=Europe/Brussels:20231009T213000
END:VEVENT
BEGIN:VEVENT
UID:952A42C0-E06A-400D-BAE7-1F26DE702556-29-1307_homereminder@1870.badminto
 nners.net
DTSTAMP:20260420T055217Z
SUMMARY:Thuismatch ingevuld? (Spinshuttle 1D (55) - Klein Boom 2D (60))
DESCRIPTION:Je hebt 36 uur na aanvang om een thuismatch op Badmintonvlaande
 ren in te vullen. Match info: Spinshuttle 1D (55) - Klein Boom 2D (60) - L
 ink: https://www.badmintonvlaanderen.be/sport/teammatch.aspx?id=952A42C0-E
 06A-400D-BAE7-1F26DE702556&match=1307
DTSTART;TZID=Europe/Brussels:20231127T213000
DTEND;TZID=Europe/Brussels:20231127T213000
END:VEVENT
BEGIN:VEVENT
UID:952A42C0-E06A-400D-BAE7-1F26DE702556-29-1302_homereminder@1870.badminto
 nners.net
DTSTAMP:20260420T055217Z
SUMMARY:Thuismatch ingevuld? (Spinshuttle 1D (55) - Bacss 1D (56))
DESCRIPTION:Je hebt 36 uur na aanvang om een thuismatch op Badmintonvlaande
 ren in te vullen. Match info: Spinshuttle 1D (55) - Bacss 1D (56) - Link: 
 https://www.badmintonvlaanderen.be/sport/teammatch.aspx?id=952A42C0-E06A-4
 00D-BAE7-1F26DE702556&match=1302
DTSTART;TZID=Europe/Brussels:20231204T213000
DTEND;TZID=Europe/Brussels:20231204T213000
END:VEVENT
BEGIN:VEVENT
UID:952A42C0-E06A-400D-BAE7-1F26DE702556-29-1281_homereminder@1870.badminto
 nners.net
DTSTAMP:20260420T055217Z
SUMMARY:Thuismatch ingevuld? (Spinshuttle 1D (55) - Herentals 1D (59))
DESCRIPTION:Je hebt 36 uur na aanvang om een thuismatch op Badmintonvlaande
 ren in te vullen. Match info: Spinshuttle 1D (55) - Herentals 1D (59) - Li
 nk: https://www.badmintonvlaanderen.be/sport/teammatch.aspx?id=952A42C0-E0
 6A-400D-BAE7-1F26DE702556&match=1281
DTSTART;TZID=Europe/Brussels:20240212T213000
DTEND;TZID=Europe/Brussels:20240212T213000
END:VEVENT
BEGIN:VEVENT
UID:952A42C0-E06A-400D-BAE7-1F26DE702556-29-1297_homereminder@1870.badminto
 nners.net
DTSTAMP:20260420T055217Z
SUMMARY:Thuismatch ingevuld? (Spinshuttle 1D (55) - Zandhoven 1D (66))
DESCRIPTION:Je hebt 36 uur na aanvang om een thuismatch op Badmintonvlaande
 ren in te vullen. Match info: Spinshuttle 1D (55) - Zandhoven 1D (66) - Li
 nk: https://www.badmintonvlaanderen.be/sport/teammatch.aspx?id=952A42C0-E0
 6A-400D-BAE7-1F26DE702556&match=1297
DTSTART;TZID=Europe/Brussels:20240422T213000
DTEND;TZID=Europe/Brussels:20240422T213000
END:VEVENT
BEGIN:VEVENT
UID:952A42C0-E06A-400D-BAE7-1F26DE702556-29-1286_awayreminder@1870.badminto
 nners.net
DTSTAMP:20260420T055217Z
SUMMARY:Uitmatch bevestigd? (Herentals 1D (59) - Spinshuttle 1D (55))
DESCRIPTION:Je hebt 72 uur na aanvang om een uitmatch op Badmintonvlaandere
 n in te vullen. Match info: Herentals 1D (59) - Spinshuttle 1D (55) - Link
 : https://www.badmintonvlaanderen.be/sport/teammatch.aspx?id=952A42C0-E06A
 -400D-BAE7-1F26DE702556&match=1286
DTSTART;TZID=Europe/Brussels:20230924T210000
DTEND;TZID=Europe/Brussels:20230924T210000
END:VEVENT
BEGIN:VEVENT
UID:952A42C0-E06A-400D-BAE7-1F26DE702556-29-1288_awayreminder@1870.badminto
 nners.net
DTSTAMP:20260420T055217Z
SUMMARY:Uitmatch bevestigd? (Zandhoven 1D (66) - Spinshuttle 1D (55))
DESCRIPTION:Je hebt 72 uur na aanvang om een uitmatch op Badmintonvlaandere
 n in te vullen. Match info: Zandhoven 1D (66) - Spinshuttle 1D (55) - Link
 : https://www.badmintonvlaanderen.be/sport/teammatch.aspx?id=952A42C0-E06A
 -400D-BAE7-1F26DE702556&match=1288
DTSTART;TZID=Europe/Brussels:20231116T200000
DTEND;TZID=Europe/Brussels:20231116T200000
END:VEVENT
BEGIN:VEVENT
UID:952A42C0-E06A-400D-BAE7-1F26DE702556-29-1289_awayreminder@1870.badminto
 nners.net
DTSTAMP:20260420T055217Z
SUMMARY:Uitmatch bevestigd? (Bacss 1D (56) - Spinshuttle 1D (55))
DESCRIPTION:Je hebt 72 uur na aanvang om een uitmatch op Badmintonvlaandere
 n in te vullen. Match info: Bacss 1D (56) - Spinshuttle 1D (55) - Link: ht
 tps://www.badmintonvlaanderen.be/sport/teammatch.aspx?id=952A42C0-E06A-400
 D-BAE7-1F26DE702556&match=1289
DTSTART;TZID=Europe/Brussels:20240129T201500
DTEND;TZID=Europe/Brussels:20240129T201500
END:VEVENT
BEGIN:VEVENT
UID:952A42C0-E06A-400D-BAE7-1F26DE702556-29-1290_awayreminder@1870.badminto
 nners.net
DTSTAMP:20260420T055217Z
SUMMARY:Uitmatch bevestigd? (Klein Boom 2D (60) - Spinshuttle 1D (55))
DESCRIPTION:Je hebt 72 uur na aanvang om een uitmatch op Badmintonvlaandere
 n in te vullen. Match info: Klein Boom 2D (60) - Spinshuttle 1D (55) - Lin
 k: https://www.badmintonvlaanderen.be/sport/teammatch.aspx?id=952A42C0-E06
 A-400D-BAE7-1F26DE702556&match=1290
DTSTART;TZID=Europe/Brussels:20240228T190000
DTEND;TZID=Europe/Brussels:20240228T190000
END:VEVENT
BEGIN:VEVENT
UID:952A42C0-E06A-400D-BAE7-1F26DE702556-29-1287_awayreminder@1870.badminto
 nners.net
DTSTAMP:20260420T055217Z
SUMMARY:Uitmatch bevestigd? (Poona 1D (52) - Spinshuttle 1D (55))
DESCRIPTION:Je hebt 72 uur na aanvang om een uitmatch op Badmintonvlaandere
 n in te vullen. Match info: Poona 1D (52) - Spinshuttle 1D (55) - Link: ht
 tps://www.badmintonvlaanderen.be/sport/teammatch.aspx?id=952A42C0-E06A-400
 D-BAE7-1F26DE702556&match=1287
DTSTART;TZID=Europe/Brussels:20240321T200000
DTEND;TZID=Europe/Brussels:20240321T200000
END:VEVENT
END:VCALENDAR