BEGIN:VCALENDAR
VERSION:2.0
PRODID:spatie/icalendar-generator
NAME:brasschaat_2h_44_reminders
X-WR-CALNAME:brasschaat_2h_44_reminders
BEGIN:VTIMEZONE
TZID:Europe/Brussels
BEGIN:DAYLIGHT
DTSTART:20230326T010000
TZOFFSETFROM:+0100
TZOFFSETTO:+0200
END:DAYLIGHT
BEGIN:STANDARD
DTSTART:20231029T030000
TZOFFSETFROM:+0200
TZOFFSETTO:+0100
END:STANDARD
BEGIN:DAYLIGHT
DTSTART:20240331T010000
TZOFFSETFROM:+0100
TZOFFSETTO:+0200
END:DAYLIGHT
END:VTIMEZONE
BEGIN:VTIMEZONE
TZID:UTC
BEGIN:STANDARD
DTSTART:20250724T072409
TZOFFSETFROM:+0000
TZOFFSETTO:+0000
END:STANDARD
END:VTIMEZONE
BEGIN:VEVENT
UID:952A42C0-E06A-400D-BAE7-1F26DE702556-3-97_homereminder@1848.badmintonne
 rs.net
DTSTAMP:20260420T072409Z
SUMMARY:Thuismatch ingevuld? (Brasschaat 2H (44) - Klein Boom 2H (54))
DESCRIPTION:Je hebt 36 uur na aanvang om een thuismatch op Badmintonvlaande
 ren in te vullen. Match info: Brasschaat 2H (44) - Klein Boom 2H (54) - Li
 nk: https://www.badmintonvlaanderen.be/sport/teammatch.aspx?id=952A42C0-E0
 6A-400D-BAE7-1F26DE702556&match=97
DTSTART;TZID=Europe/Brussels:20231205T070000
DTEND;TZID=Europe/Brussels:20231205T070000
END:VEVENT
BEGIN:VEVENT
UID:952A42C0-E06A-400D-BAE7-1F26DE702556-3-103_homereminder@1848.badmintonn
 ers.net
DTSTAMP:20260420T072409Z
SUMMARY:Thuismatch ingevuld? (Brasschaat 2H (44) - Huirtuits Dropke 1H (35)
 )
DESCRIPTION:Je hebt 36 uur na aanvang om een thuismatch op Badmintonvlaande
 ren in te vullen. Match info: Brasschaat 2H (44) - Huirtuits Dropke 1H (35
 ) - Link: https://www.badmintonvlaanderen.be/sport/teammatch.aspx?id=952A4
 2C0-E06A-400D-BAE7-1F26DE702556&match=103
DTSTART;TZID=Europe/Brussels:20231216T080000
DTEND;TZID=Europe/Brussels:20231216T080000
END:VEVENT
BEGIN:VEVENT
UID:952A42C0-E06A-400D-BAE7-1F26DE702556-3-109_homereminder@1848.badmintonn
 ers.net
DTSTAMP:20260420T072409Z
SUMMARY:Thuismatch ingevuld? (Brasschaat 2H (44) - Zoersel 1H (51))
DESCRIPTION:Je hebt 36 uur na aanvang om een thuismatch op Badmintonvlaande
 ren in te vullen. Match info: Brasschaat 2H (44) - Zoersel 1H (51) - Link:
  https://www.badmintonvlaanderen.be/sport/teammatch.aspx?id=952A42C0-E06A-
 400D-BAE7-1F26DE702556&match=109
DTSTART;TZID=Europe/Brussels:20231219T070000
DTEND;TZID=Europe/Brussels:20231219T070000
END:VEVENT
BEGIN:VEVENT
UID:952A42C0-E06A-400D-BAE7-1F26DE702556-3-115_homereminder@1848.badmintonn
 ers.net
DTSTAMP:20260420T072409Z
SUMMARY:Thuismatch ingevuld? (Brasschaat 2H (44) - Rita Serveert 2H (48))
DESCRIPTION:Je hebt 36 uur na aanvang om een thuismatch op Badmintonvlaande
 ren in te vullen. Match info: Brasschaat 2H (44) - Rita Serveert 2H (48) -
  Link: https://www.badmintonvlaanderen.be/sport/teammatch.aspx?id=952A42C0
 -E06A-400D-BAE7-1F26DE702556&match=115
DTSTART;TZID=Europe/Brussels:20240116T070000
DTEND;TZID=Europe/Brussels:20240116T070000
END:VEVENT
BEGIN:VEVENT
UID:952A42C0-E06A-400D-BAE7-1F26DE702556-3-91_homereminder@1848.badmintonne
 rs.net
DTSTAMP:20260420T072409Z
SUMMARY:Thuismatch ingevuld? (Brasschaat 2H (44) - Smash 1H (53))
DESCRIPTION:Je hebt 36 uur na aanvang om een thuismatch op Badmintonvlaande
 ren in te vullen. Match info: Brasschaat 2H (44) - Smash 1H (53) - Link: h
 ttps://www.badmintonvlaanderen.be/sport/teammatch.aspx?id=952A42C0-E06A-40
 0D-BAE7-1F26DE702556&match=91
DTSTART;TZID=Europe/Brussels:20240123T070000
DTEND;TZID=Europe/Brussels:20240123T070000
END:VEVENT
BEGIN:VEVENT
UID:952A42C0-E06A-400D-BAE7-1F26DE702556-3-85_homereminder@1848.badmintonne
 rs.net
DTSTAMP:20260420T072409Z
SUMMARY:Thuismatch ingevuld? (Brasschaat 2H (44) - Olve 4H (48))
DESCRIPTION:Je hebt 36 uur na aanvang om een thuismatch op Badmintonvlaande
 ren in te vullen. Match info: Brasschaat 2H (44) - Olve 4H (48) - Link: ht
 tps://www.badmintonvlaanderen.be/sport/teammatch.aspx?id=952A42C0-E06A-400
 D-BAE7-1F26DE702556&match=85
DTSTART;TZID=Europe/Brussels:20240312T070000
DTEND;TZID=Europe/Brussels:20240312T070000
END:VEVENT
BEGIN:VEVENT
UID:952A42C0-E06A-400D-BAE7-1F26DE702556-3-116_awayreminder@1848.badmintonn
 ers.net
DTSTAMP:20260420T072409Z
SUMMARY:Uitmatch bevestigd? (Olve 4H (48) - Brasschaat 2H (44))
DESCRIPTION:Je hebt 72 uur na aanvang om een uitmatch op Badmintonvlaandere
 n in te vullen. Match info: Olve 4H (48) - Brasschaat 2H (44) - Link: http
 s://www.badmintonvlaanderen.be/sport/teammatch.aspx?id=952A42C0-E06A-400D-
 BAE7-1F26DE702556&match=116
DTSTART;TZID=Europe/Brussels:20231003T103000
DTEND;TZID=Europe/Brussels:20231003T103000
END:VEVENT
BEGIN:VEVENT
UID:952A42C0-E06A-400D-BAE7-1F26DE702556-3-121_awayreminder@1848.badmintonn
 ers.net
DTSTAMP:20260420T072409Z
SUMMARY:Uitmatch bevestigd? (Rita Serveert 2H (48) - Brasschaat 2H (44))
DESCRIPTION:Je hebt 72 uur na aanvang om een uitmatch op Badmintonvlaandere
 n in te vullen. Match info: Rita Serveert 2H (48) - Brasschaat 2H (44) - L
 ink: https://www.badmintonvlaanderen.be/sport/teammatch.aspx?id=952A42C0-E
 06A-400D-BAE7-1F26DE702556&match=121
DTSTART;TZID=Europe/Brussels:20231122T190000
DTEND;TZID=Europe/Brussels:20231122T190000
END:VEVENT
BEGIN:VEVENT
UID:952A42C0-E06A-400D-BAE7-1F26DE702556-3-117_awayreminder@1848.badmintonn
 ers.net
DTSTAMP:20260420T072409Z
SUMMARY:Uitmatch bevestigd? (Smash 1H (53) - Brasschaat 2H (44))
DESCRIPTION:Je hebt 72 uur na aanvang om een uitmatch op Badmintonvlaandere
 n in te vullen. Match info: Smash 1H (53) - Brasschaat 2H (44) - Link: htt
 ps://www.badmintonvlaanderen.be/sport/teammatch.aspx?id=952A42C0-E06A-400D
 -BAE7-1F26DE702556&match=117
DTSTART;TZID=Europe/Brussels:20231213T100000
DTEND;TZID=Europe/Brussels:20231213T100000
END:VEVENT
BEGIN:VEVENT
UID:952A42C0-E06A-400D-BAE7-1F26DE702556-3-120_awayreminder@1848.badmintonn
 ers.net
DTSTAMP:20260420T072409Z
SUMMARY:Uitmatch bevestigd? (Zoersel 1H (51) - Brasschaat 2H (44))
DESCRIPTION:Je hebt 72 uur na aanvang om een uitmatch op Badmintonvlaandere
 n in te vullen. Match info: Zoersel 1H (51) - Brasschaat 2H (44) - Link: h
 ttps://www.badmintonvlaanderen.be/sport/teammatch.aspx?id=952A42C0-E06A-40
 0D-BAE7-1F26DE702556&match=120
DTSTART;TZID=Europe/Brussels:20240117T120000
DTEND;TZID=Europe/Brussels:20240117T120000
END:VEVENT
BEGIN:VEVENT
UID:952A42C0-E06A-400D-BAE7-1F26DE702556-3-119_awayreminder@1848.badmintonn
 ers.net
DTSTAMP:20260420T072409Z
SUMMARY:Uitmatch bevestigd? (Huirtuits Dropke 1H (35) - Brasschaat 2H (44))
DESCRIPTION:Je hebt 72 uur na aanvang om een uitmatch op Badmintonvlaandere
 n in te vullen. Match info: Huirtuits Dropke 1H (35) - Brasschaat 2H (44) 
 - Link: https://www.badmintonvlaanderen.be/sport/teammatch.aspx?id=952A42C
 0-E06A-400D-BAE7-1F26DE702556&match=119
DTSTART;TZID=Europe/Brussels:20240131T183000
DTEND;TZID=Europe/Brussels:20240131T183000
END:VEVENT
BEGIN:VEVENT
UID:952A42C0-E06A-400D-BAE7-1F26DE702556-3-118_awayreminder@1848.badmintonn
 ers.net
DTSTAMP:20260420T072409Z
SUMMARY:Uitmatch bevestigd? (Klein Boom 2H (54) - Brasschaat 2H (44))
DESCRIPTION:Je hebt 72 uur na aanvang om een uitmatch op Badmintonvlaandere
 n in te vullen. Match info: Klein Boom 2H (54) - Brasschaat 2H (44) - Link
 : https://www.badmintonvlaanderen.be/sport/teammatch.aspx?id=952A42C0-E06A
 -400D-BAE7-1F26DE702556&match=118
DTSTART;TZID=Europe/Brussels:20240208T200000
DTEND;TZID=Europe/Brussels:20240208T200000
END:VEVENT
END:VCALENDAR