BEGIN:VCALENDAR
VERSION:2.0
PRODID:spatie/icalendar-generator
NAME:zoersel_1h_51_reminders
X-WR-CALNAME:zoersel_1h_51_reminders
BEGIN:VTIMEZONE
TZID:Europe/Brussels
BEGIN:DAYLIGHT
DTSTART:20230326T010000
TZOFFSETFROM:+0100
TZOFFSETTO:+0200
END:DAYLIGHT
BEGIN:STANDARD
DTSTART:20231029T030000
TZOFFSETFROM:+0200
TZOFFSETTO:+0100
END:STANDARD
BEGIN:DAYLIGHT
DTSTART:20240331T010000
TZOFFSETFROM:+0100
TZOFFSETTO:+0200
END:DAYLIGHT
END:VTIMEZONE
BEGIN:VTIMEZONE
TZID:UTC
BEGIN:STANDARD
DTSTART:20250724T055132
TZOFFSETFROM:+0000
TZOFFSETTO:+0000
END:STANDARD
END:VTIMEZONE
BEGIN:VEVENT
UID:952A42C0-E06A-400D-BAE7-1F26DE702556-3-95_homereminder@1850.badmintonne
 rs.net
DTSTAMP:20260420T055132Z
SUMMARY:Thuismatch ingevuld? (Zoersel 1H (51) - Klein Boom 2H (54))
DESCRIPTION:Je hebt 36 uur na aanvang om een thuismatch op Badmintonvlaande
 ren in te vullen. Match info: Zoersel 1H (51) - Klein Boom 2H (54) - Link:
  https://www.badmintonvlaanderen.be/sport/teammatch.aspx?id=952A42C0-E06A-
 400D-BAE7-1F26DE702556&match=95
DTSTART;TZID=Europe/Brussels:20230926T000000
DTEND;TZID=Europe/Brussels:20230926T000000
END:VEVENT
BEGIN:VEVENT
UID:952A42C0-E06A-400D-BAE7-1F26DE702556-3-114_homereminder@1850.badmintonn
 ers.net
DTSTAMP:20260420T055132Z
SUMMARY:Thuismatch ingevuld? (Zoersel 1H (51) - Rita Serveert 2H (48))
DESCRIPTION:Je hebt 36 uur na aanvang om een thuismatch op Badmintonvlaande
 ren in te vullen. Match info: Zoersel 1H (51) - Rita Serveert 2H (48) - Li
 nk: https://www.badmintonvlaanderen.be/sport/teammatch.aspx?id=952A42C0-E0
 6A-400D-BAE7-1F26DE702556&match=114
DTSTART;TZID=Europe/Brussels:20231017T000000
DTEND;TZID=Europe/Brussels:20231017T000000
END:VEVENT
BEGIN:VEVENT
UID:952A42C0-E06A-400D-BAE7-1F26DE702556-3-83_homereminder@1850.badmintonne
 rs.net
DTSTAMP:20260420T055132Z
SUMMARY:Thuismatch ingevuld? (Zoersel 1H (51) - Olve 4H (48))
DESCRIPTION:Je hebt 36 uur na aanvang om een thuismatch op Badmintonvlaande
 ren in te vullen. Match info: Zoersel 1H (51) - Olve 4H (48) - Link: https
 ://www.badmintonvlaanderen.be/sport/teammatch.aspx?id=952A42C0-E06A-400D-B
 AE7-1F26DE702556&match=83
DTSTART;TZID=Europe/Brussels:20231205T000000
DTEND;TZID=Europe/Brussels:20231205T000000
END:VEVENT
BEGIN:VEVENT
UID:952A42C0-E06A-400D-BAE7-1F26DE702556-3-120_homereminder@1850.badmintonn
 ers.net
DTSTAMP:20260420T055132Z
SUMMARY:Thuismatch ingevuld? (Zoersel 1H (51) - Brasschaat 2H (44))
DESCRIPTION:Je hebt 36 uur na aanvang om een thuismatch op Badmintonvlaande
 ren in te vullen. Match info: Zoersel 1H (51) - Brasschaat 2H (44) - Link:
  https://www.badmintonvlaanderen.be/sport/teammatch.aspx?id=952A42C0-E06A-
 400D-BAE7-1F26DE702556&match=120
DTSTART;TZID=Europe/Brussels:20240116T000000
DTEND;TZID=Europe/Brussels:20240116T000000
END:VEVENT
BEGIN:VEVENT
UID:952A42C0-E06A-400D-BAE7-1F26DE702556-3-101_homereminder@1850.badmintonn
 ers.net
DTSTAMP:20260420T055132Z
SUMMARY:Thuismatch ingevuld? (Zoersel 1H (51) - Huirtuits Dropke 1H (35))
DESCRIPTION:Je hebt 36 uur na aanvang om een thuismatch op Badmintonvlaande
 ren in te vullen. Match info: Zoersel 1H (51) - Huirtuits Dropke 1H (35) -
  Link: https://www.badmintonvlaanderen.be/sport/teammatch.aspx?id=952A42C0
 -E06A-400D-BAE7-1F26DE702556&match=101
DTSTART;TZID=Europe/Brussels:20240227T000000
DTEND;TZID=Europe/Brussels:20240227T000000
END:VEVENT
BEGIN:VEVENT
UID:952A42C0-E06A-400D-BAE7-1F26DE702556-3-89_homereminder@1850.badmintonne
 rs.net
DTSTAMP:20260420T055132Z
SUMMARY:Thuismatch ingevuld? (Zoersel 1H (51) - Smash 1H (53))
DESCRIPTION:Je hebt 36 uur na aanvang om een thuismatch op Badmintonvlaande
 ren in te vullen. Match info: Zoersel 1H (51) - Smash 1H (53) - Link: http
 s://www.badmintonvlaanderen.be/sport/teammatch.aspx?id=952A42C0-E06A-400D-
 BAE7-1F26DE702556&match=89
DTSTART;TZID=Europe/Brussels:20240409T000000
DTEND;TZID=Europe/Brussels:20240409T000000
END:VEVENT
BEGIN:VEVENT
UID:952A42C0-E06A-400D-BAE7-1F26DE702556-3-105_awayreminder@1850.badmintonn
 ers.net
DTSTAMP:20260420T055132Z
SUMMARY:Uitmatch bevestigd? (Smash 1H (53) - Zoersel 1H (51))
DESCRIPTION:Je hebt 72 uur na aanvang om een uitmatch op Badmintonvlaandere
 n in te vullen. Match info: Smash 1H (53) - Zoersel 1H (51) - Link: https:
 //www.badmintonvlaanderen.be/sport/teammatch.aspx?id=952A42C0-E06A-400D-BA
 E7-1F26DE702556&match=105
DTSTART;TZID=Europe/Brussels:20231011T100000
DTEND;TZID=Europe/Brussels:20231011T100000
END:VEVENT
BEGIN:VEVENT
UID:952A42C0-E06A-400D-BAE7-1F26DE702556-3-107_awayreminder@1850.badmintonn
 ers.net
DTSTAMP:20260420T055132Z
SUMMARY:Uitmatch bevestigd? (Huirtuits Dropke 1H (35) - Zoersel 1H (51))
DESCRIPTION:Je hebt 72 uur na aanvang om een uitmatch op Badmintonvlaandere
 n in te vullen. Match info: Huirtuits Dropke 1H (35) - Zoersel 1H (51) - L
 ink: https://www.badmintonvlaanderen.be/sport/teammatch.aspx?id=952A42C0-E
 06A-400D-BAE7-1F26DE702556&match=107
DTSTART;TZID=Europe/Brussels:20231122T183000
DTEND;TZID=Europe/Brussels:20231122T183000
END:VEVENT
BEGIN:VEVENT
UID:952A42C0-E06A-400D-BAE7-1F26DE702556-3-109_awayreminder@1850.badmintonn
 ers.net
DTSTAMP:20260420T055132Z
SUMMARY:Uitmatch bevestigd? (Brasschaat 2H (44) - Zoersel 1H (51))
DESCRIPTION:Je hebt 72 uur na aanvang om een uitmatch op Badmintonvlaandere
 n in te vullen. Match info: Brasschaat 2H (44) - Zoersel 1H (51) - Link: h
 ttps://www.badmintonvlaanderen.be/sport/teammatch.aspx?id=952A42C0-E06A-40
 0D-BAE7-1F26DE702556&match=109
DTSTART;TZID=Europe/Brussels:20231220T190000
DTEND;TZID=Europe/Brussels:20231220T190000
END:VEVENT
BEGIN:VEVENT
UID:952A42C0-E06A-400D-BAE7-1F26DE702556-3-108_awayreminder@1850.badmintonn
 ers.net
DTSTAMP:20260420T055132Z
SUMMARY:Uitmatch bevestigd? (Rita Serveert 2H (48) - Zoersel 1H (51))
DESCRIPTION:Je hebt 72 uur na aanvang om een uitmatch op Badmintonvlaandere
 n in te vullen. Match info: Rita Serveert 2H (48) - Zoersel 1H (51) - Link
 : https://www.badmintonvlaanderen.be/sport/teammatch.aspx?id=952A42C0-E06A
 -400D-BAE7-1F26DE702556&match=108
DTSTART;TZID=Europe/Brussels:20240131T190000
DTEND;TZID=Europe/Brussels:20240131T190000
END:VEVENT
BEGIN:VEVENT
UID:952A42C0-E06A-400D-BAE7-1F26DE702556-3-104_awayreminder@1850.badmintonn
 ers.net
DTSTAMP:20260420T055132Z
SUMMARY:Uitmatch bevestigd? (Olve 4H (48) - Zoersel 1H (51))
DESCRIPTION:Je hebt 72 uur na aanvang om een uitmatch op Badmintonvlaandere
 n in te vullen. Match info: Olve 4H (48) - Zoersel 1H (51) - Link: https:/
 /www.badmintonvlaanderen.be/sport/teammatch.aspx?id=952A42C0-E06A-400D-BAE
 7-1F26DE702556&match=104
DTSTART;TZID=Europe/Brussels:20240326T103000
DTEND;TZID=Europe/Brussels:20240326T103000
END:VEVENT
BEGIN:VEVENT
UID:952A42C0-E06A-400D-BAE7-1F26DE702556-3-106_awayreminder@1850.badmintonn
 ers.net
DTSTAMP:20260420T055132Z
SUMMARY:Uitmatch bevestigd? (Klein Boom 2H (54) - Zoersel 1H (51))
DESCRIPTION:Je hebt 72 uur na aanvang om een uitmatch op Badmintonvlaandere
 n in te vullen. Match info: Klein Boom 2H (54) - Zoersel 1H (51) - Link: h
 ttps://www.badmintonvlaanderen.be/sport/teammatch.aspx?id=952A42C0-E06A-40
 0D-BAE7-1F26DE702556&match=106
DTSTART;TZID=Europe/Brussels:20240418T200000
DTEND;TZID=Europe/Brussels:20240418T200000
END:VEVENT
END:VCALENDAR