BEGIN:VCALENDAR
VERSION:2.0
PRODID:spatie/icalendar-generator
NAME:smash_1h_53_reminders
X-WR-CALNAME:smash_1h_53_reminders
BEGIN:VTIMEZONE
TZID:Europe/Brussels
BEGIN:DAYLIGHT
DTSTART:20230326T010000
TZOFFSETFROM:+0100
TZOFFSETTO:+0200
END:DAYLIGHT
BEGIN:STANDARD
DTSTART:20231029T030000
TZOFFSETFROM:+0200
TZOFFSETTO:+0100
END:STANDARD
BEGIN:DAYLIGHT
DTSTART:20240331T010000
TZOFFSETFROM:+0100
TZOFFSETTO:+0200
END:DAYLIGHT
END:VTIMEZONE
BEGIN:VTIMEZONE
TZID:UTC
BEGIN:STANDARD
DTSTART:20250724T072406
TZOFFSETFROM:+0000
TZOFFSETTO:+0000
END:STANDARD
END:VTIMEZONE
BEGIN:VEVENT
UID:952A42C0-E06A-400D-BAE7-1F26DE702556-3-105_homereminder@1852.badmintonn
 ers.net
DTSTAMP:20260420T072406Z
SUMMARY:Thuismatch ingevuld? (Smash 1H (53) - Zoersel 1H (51))
DESCRIPTION:Je hebt 36 uur na aanvang om een thuismatch op Badmintonvlaande
 ren in te vullen. Match info: Smash 1H (53) - Zoersel 1H (51) - Link: http
 s://www.badmintonvlaanderen.be/sport/teammatch.aspx?id=952A42C0-E06A-400D-
 BAE7-1F26DE702556&match=105
DTSTART;TZID=Europe/Brussels:20231009T220000
DTEND;TZID=Europe/Brussels:20231009T220000
END:VEVENT
BEGIN:VEVENT
UID:952A42C0-E06A-400D-BAE7-1F26DE702556-3-117_homereminder@1852.badmintonn
 ers.net
DTSTAMP:20260420T072406Z
SUMMARY:Thuismatch ingevuld? (Smash 1H (53) - Brasschaat 2H (44))
DESCRIPTION:Je hebt 36 uur na aanvang om een thuismatch op Badmintonvlaande
 ren in te vullen. Match info: Smash 1H (53) - Brasschaat 2H (44) - Link: h
 ttps://www.badmintonvlaanderen.be/sport/teammatch.aspx?id=952A42C0-E06A-40
 0D-BAE7-1F26DE702556&match=117
DTSTART;TZID=Europe/Brussels:20231211T220000
DTEND;TZID=Europe/Brussels:20231211T220000
END:VEVENT
BEGIN:VEVENT
UID:952A42C0-E06A-400D-BAE7-1F26DE702556-3-93_homereminder@1852.badmintonne
 rs.net
DTSTAMP:20260420T072406Z
SUMMARY:Thuismatch ingevuld? (Smash 1H (53) - Klein Boom 2H (54))
DESCRIPTION:Je hebt 36 uur na aanvang om een thuismatch op Badmintonvlaande
 ren in te vullen. Match info: Smash 1H (53) - Klein Boom 2H (54) - Link: h
 ttps://www.badmintonvlaanderen.be/sport/teammatch.aspx?id=952A42C0-E06A-40
 0D-BAE7-1F26DE702556&match=93
DTSTART;TZID=Europe/Brussels:20231218T220000
DTEND;TZID=Europe/Brussels:20231218T220000
END:VEVENT
BEGIN:VEVENT
UID:952A42C0-E06A-400D-BAE7-1F26DE702556-3-111_homereminder@1852.badmintonn
 ers.net
DTSTAMP:20260420T072406Z
SUMMARY:Thuismatch ingevuld? (Smash 1H (53) - Rita Serveert 2H (48))
DESCRIPTION:Je hebt 36 uur na aanvang om een thuismatch op Badmintonvlaande
 ren in te vullen. Match info: Smash 1H (53) - Rita Serveert 2H (48) - Link
 : https://www.badmintonvlaanderen.be/sport/teammatch.aspx?id=952A42C0-E06A
 -400D-BAE7-1F26DE702556&match=111
DTSTART;TZID=Europe/Brussels:20240108T220000
DTEND;TZID=Europe/Brussels:20240108T220000
END:VEVENT
BEGIN:VEVENT
UID:952A42C0-E06A-400D-BAE7-1F26DE702556-3-80_homereminder@1852.badmintonne
 rs.net
DTSTAMP:20260420T072406Z
SUMMARY:Thuismatch ingevuld? (Smash 1H (53) - Olve 4H (48))
DESCRIPTION:Je hebt 36 uur na aanvang om een thuismatch op Badmintonvlaande
 ren in te vullen. Match info: Smash 1H (53) - Olve 4H (48) - Link: https:/
 /www.badmintonvlaanderen.be/sport/teammatch.aspx?id=952A42C0-E06A-400D-BAE
 7-1F26DE702556&match=80
DTSTART;TZID=Europe/Brussels:20240212T220000
DTEND;TZID=Europe/Brussels:20240212T220000
END:VEVENT
BEGIN:VEVENT
UID:952A42C0-E06A-400D-BAE7-1F26DE702556-3-99_homereminder@1852.badmintonne
 rs.net
DTSTAMP:20260420T072406Z
SUMMARY:Thuismatch ingevuld? (Smash 1H (53) - Huirtuits Dropke 1H (35))
DESCRIPTION:Je hebt 36 uur na aanvang om een thuismatch op Badmintonvlaande
 ren in te vullen. Match info: Smash 1H (53) - Huirtuits Dropke 1H (35) - L
 ink: https://www.badmintonvlaanderen.be/sport/teammatch.aspx?id=952A42C0-E
 06A-400D-BAE7-1F26DE702556&match=99
DTSTART;TZID=Europe/Brussels:20240325T220000
DTEND;TZID=Europe/Brussels:20240325T220000
END:VEVENT
BEGIN:VEVENT
UID:952A42C0-E06A-400D-BAE7-1F26DE702556-3-90_awayreminder@1852.badmintonne
 rs.net
DTSTAMP:20260420T072406Z
SUMMARY:Uitmatch bevestigd? (Rita Serveert 2H (48) - Smash 1H (53))
DESCRIPTION:Je hebt 72 uur na aanvang om een uitmatch op Badmintonvlaandere
 n in te vullen. Match info: Rita Serveert 2H (48) - Smash 1H (53) - Link: 
 https://www.badmintonvlaanderen.be/sport/teammatch.aspx?id=952A42C0-E06A-4
 00D-BAE7-1F26DE702556&match=90
DTSTART;TZID=Europe/Brussels:20230920T190000
DTEND;TZID=Europe/Brussels:20230920T190000
END:VEVENT
BEGIN:VEVENT
UID:952A42C0-E06A-400D-BAE7-1F26DE702556-3-86_awayreminder@1852.badmintonne
 rs.net
DTSTAMP:20260420T072406Z
SUMMARY:Uitmatch bevestigd? (Olve 4H (48) - Smash 1H (53))
DESCRIPTION:Je hebt 72 uur na aanvang om een uitmatch op Badmintonvlaandere
 n in te vullen. Match info: Olve 4H (48) - Smash 1H (53) - Link: https://w
 ww.badmintonvlaanderen.be/sport/teammatch.aspx?id=952A42C0-E06A-400D-BAE7-
 1F26DE702556&match=86
DTSTART;TZID=Europe/Brussels:20231024T103000
DTEND;TZID=Europe/Brussels:20231024T103000
END:VEVENT
BEGIN:VEVENT
UID:952A42C0-E06A-400D-BAE7-1F26DE702556-3-87_awayreminder@1852.badmintonne
 rs.net
DTSTAMP:20260420T072406Z
SUMMARY:Uitmatch bevestigd? (Klein Boom 2H (54) - Smash 1H (53))
DESCRIPTION:Je hebt 72 uur na aanvang om een uitmatch op Badmintonvlaandere
 n in te vullen. Match info: Klein Boom 2H (54) - Smash 1H (53) - Link: htt
 ps://www.badmintonvlaanderen.be/sport/teammatch.aspx?id=952A42C0-E06A-400D
 -BAE7-1F26DE702556&match=87
DTSTART;TZID=Europe/Brussels:20240111T200000
DTEND;TZID=Europe/Brussels:20240111T200000
END:VEVENT
BEGIN:VEVENT
UID:952A42C0-E06A-400D-BAE7-1F26DE702556-3-88_awayreminder@1852.badmintonne
 rs.net
DTSTAMP:20260420T072406Z
SUMMARY:Uitmatch bevestigd? (Huirtuits Dropke 1H (35) - Smash 1H (53))
DESCRIPTION:Je hebt 72 uur na aanvang om een uitmatch op Badmintonvlaandere
 n in te vullen. Match info: Huirtuits Dropke 1H (35) - Smash 1H (53) - Lin
 k: https://www.badmintonvlaanderen.be/sport/teammatch.aspx?id=952A42C0-E06
 A-400D-BAE7-1F26DE702556&match=88
DTSTART;TZID=Europe/Brussels:20240116T130000
DTEND;TZID=Europe/Brussels:20240116T130000
END:VEVENT
BEGIN:VEVENT
UID:952A42C0-E06A-400D-BAE7-1F26DE702556-3-91_awayreminder@1852.badmintonne
 rs.net
DTSTAMP:20260420T072406Z
SUMMARY:Uitmatch bevestigd? (Brasschaat 2H (44) - Smash 1H (53))
DESCRIPTION:Je hebt 72 uur na aanvang om een uitmatch op Badmintonvlaandere
 n in te vullen. Match info: Brasschaat 2H (44) - Smash 1H (53) - Link: htt
 ps://www.badmintonvlaanderen.be/sport/teammatch.aspx?id=952A42C0-E06A-400D
 -BAE7-1F26DE702556&match=91
DTSTART;TZID=Europe/Brussels:20240124T190000
DTEND;TZID=Europe/Brussels:20240124T190000
END:VEVENT
BEGIN:VEVENT
UID:952A42C0-E06A-400D-BAE7-1F26DE702556-3-89_awayreminder@1852.badmintonne
 rs.net
DTSTAMP:20260420T072406Z
SUMMARY:Uitmatch bevestigd? (Zoersel 1H (51) - Smash 1H (53))
DESCRIPTION:Je hebt 72 uur na aanvang om een uitmatch op Badmintonvlaandere
 n in te vullen. Match info: Zoersel 1H (51) - Smash 1H (53) - Link: https:
 //www.badmintonvlaanderen.be/sport/teammatch.aspx?id=952A42C0-E06A-400D-BA
 E7-1F26DE702556&match=89
DTSTART;TZID=Europe/Brussels:20240410T120000
DTEND;TZID=Europe/Brussels:20240410T120000
END:VEVENT
END:VCALENDAR