BEGIN:VCALENDAR
VERSION:2.0
PRODID:spatie/icalendar-generator
NAME:olve_4h_48_reminders
X-WR-CALNAME:olve_4h_48_reminders
BEGIN:VTIMEZONE
TZID:Europe/Brussels
BEGIN:DAYLIGHT
DTSTART:20230326T010000
TZOFFSETFROM:+0100
TZOFFSETTO:+0200
END:DAYLIGHT
BEGIN:STANDARD
DTSTART:20231029T030000
TZOFFSETFROM:+0200
TZOFFSETTO:+0100
END:STANDARD
BEGIN:DAYLIGHT
DTSTART:20240331T010000
TZOFFSETFROM:+0100
TZOFFSETTO:+0200
END:DAYLIGHT
BEGIN:STANDARD
DTSTART:20241027T030000
TZOFFSETFROM:+0200
TZOFFSETTO:+0100
END:STANDARD
END:VTIMEZONE
BEGIN:VTIMEZONE
TZID:UTC
BEGIN:STANDARD
DTSTART:20250724T072402
TZOFFSETFROM:+0000
TZOFFSETTO:+0000
END:STANDARD
END:VTIMEZONE
BEGIN:VEVENT
UID:952A42C0-E06A-400D-BAE7-1F26DE702556-3-116_homereminder@1853.badmintonn
 ers.net
DTSTAMP:20260420T072402Z
SUMMARY:Thuismatch ingevuld? (Olve 4H (48) - Brasschaat 2H (44))
DESCRIPTION:Je hebt 36 uur na aanvang om een thuismatch op Badmintonvlaande
 ren in te vullen. Match info: Olve 4H (48) - Brasschaat 2H (44) - Link: ht
 tps://www.badmintonvlaanderen.be/sport/teammatch.aspx?id=952A42C0-E06A-400
 D-BAE7-1F26DE702556&match=116
DTSTART;TZID=Europe/Brussels:20231001T223000
DTEND;TZID=Europe/Brussels:20231001T223000
END:VEVENT
BEGIN:VEVENT
UID:952A42C0-E06A-400D-BAE7-1F26DE702556-3-110_homereminder@1853.badmintonn
 ers.net
DTSTAMP:20260420T072402Z
SUMMARY:Thuismatch ingevuld? (Olve 4H (48) - Rita Serveert 2H (48))
DESCRIPTION:Je hebt 36 uur na aanvang om een thuismatch op Badmintonvlaande
 ren in te vullen. Match info: Olve 4H (48) - Rita Serveert 2H (48) - Link:
  https://www.badmintonvlaanderen.be/sport/teammatch.aspx?id=952A42C0-E06A-
 400D-BAE7-1F26DE702556&match=110
DTSTART;TZID=Europe/Brussels:20231008T223000
DTEND;TZID=Europe/Brussels:20231008T223000
END:VEVENT
BEGIN:VEVENT
UID:952A42C0-E06A-400D-BAE7-1F26DE702556-3-86_homereminder@1853.badmintonne
 rs.net
DTSTAMP:20260420T072402Z
SUMMARY:Thuismatch ingevuld? (Olve 4H (48) - Smash 1H (53))
DESCRIPTION:Je hebt 36 uur na aanvang om een thuismatch op Badmintonvlaande
 ren in te vullen. Match info: Olve 4H (48) - Smash 1H (53) - Link: https:/
 /www.badmintonvlaanderen.be/sport/teammatch.aspx?id=952A42C0-E06A-400D-BAE
 7-1F26DE702556&match=86
DTSTART;TZID=Europe/Brussels:20231022T223000
DTEND;TZID=Europe/Brussels:20231022T223000
END:VEVENT
BEGIN:VEVENT
UID:952A42C0-E06A-400D-BAE7-1F26DE702556-3-98_homereminder@1853.badmintonne
 rs.net
DTSTAMP:20260420T072402Z
SUMMARY:Thuismatch ingevuld? (Olve 4H (48) - Huirtuits Dropke 1H (35))
DESCRIPTION:Je hebt 36 uur na aanvang om een thuismatch op Badmintonvlaande
 ren in te vullen. Match info: Olve 4H (48) - Huirtuits Dropke 1H (35) - Li
 nk: https://www.badmintonvlaanderen.be/sport/teammatch.aspx?id=952A42C0-E0
 6A-400D-BAE7-1F26DE702556&match=98
DTSTART;TZID=Europe/Brussels:20231217T223000
DTEND;TZID=Europe/Brussels:20231217T223000
END:VEVENT
BEGIN:VEVENT
UID:952A42C0-E06A-400D-BAE7-1F26DE702556-3-92_homereminder@1853.badmintonne
 rs.net
DTSTAMP:20260420T072402Z
SUMMARY:Thuismatch ingevuld? (Olve 4H (48) - Klein Boom 2H (54))
DESCRIPTION:Je hebt 36 uur na aanvang om een thuismatch op Badmintonvlaande
 ren in te vullen. Match info: Olve 4H (48) - Klein Boom 2H (54) - Link: ht
 tps://www.badmintonvlaanderen.be/sport/teammatch.aspx?id=952A42C0-E06A-400
 D-BAE7-1F26DE702556&match=92
DTSTART;TZID=Europe/Brussels:20240128T223000
DTEND;TZID=Europe/Brussels:20240128T223000
END:VEVENT
BEGIN:VEVENT
UID:952A42C0-E06A-400D-BAE7-1F26DE702556-3-104_homereminder@1853.badmintonn
 ers.net
DTSTAMP:20260420T072402Z
SUMMARY:Thuismatch ingevuld? (Olve 4H (48) - Zoersel 1H (51))
DESCRIPTION:Je hebt 36 uur na aanvang om een thuismatch op Badmintonvlaande
 ren in te vullen. Match info: Olve 4H (48) - Zoersel 1H (51) - Link: https
 ://www.badmintonvlaanderen.be/sport/teammatch.aspx?id=952A42C0-E06A-400D-B
 AE7-1F26DE702556&match=104
DTSTART;TZID=Europe/Brussels:20240324T223000
DTEND;TZID=Europe/Brussels:20240324T223000
END:VEVENT
BEGIN:VEVENT
UID:952A42C0-E06A-400D-BAE7-1F26DE702556-3-81_awayreminder@1853.badmintonne
 rs.net
DTSTAMP:20260420T072402Z
SUMMARY:Uitmatch bevestigd? (Klein Boom 2H (54) - Olve 4H (48))
DESCRIPTION:Je hebt 72 uur na aanvang om een uitmatch op Badmintonvlaandere
 n in te vullen. Match info: Klein Boom 2H (54) - Olve 4H (48) - Link: http
 s://www.badmintonvlaanderen.be/sport/teammatch.aspx?id=952A42C0-E06A-400D-
 BAE7-1F26DE702556&match=81
DTSTART;TZID=Europe/Brussels:20230921T200000
DTEND;TZID=Europe/Brussels:20230921T200000
END:VEVENT
BEGIN:VEVENT
UID:952A42C0-E06A-400D-BAE7-1F26DE702556-3-83_awayreminder@1853.badmintonne
 rs.net
DTSTAMP:20260420T072402Z
SUMMARY:Uitmatch bevestigd? (Zoersel 1H (51) - Olve 4H (48))
DESCRIPTION:Je hebt 72 uur na aanvang om een uitmatch op Badmintonvlaandere
 n in te vullen. Match info: Zoersel 1H (51) - Olve 4H (48) - Link: https:/
 /www.badmintonvlaanderen.be/sport/teammatch.aspx?id=952A42C0-E06A-400D-BAE
 7-1F26DE702556&match=83
DTSTART;TZID=Europe/Brussels:20231206T120000
DTEND;TZID=Europe/Brussels:20231206T120000
END:VEVENT
BEGIN:VEVENT
UID:952A42C0-E06A-400D-BAE7-1F26DE702556-3-82_awayreminder@1853.badmintonne
 rs.net
DTSTAMP:20260420T072402Z
SUMMARY:Uitmatch bevestigd? (Huirtuits Dropke 1H (35) - Olve 4H (48))
DESCRIPTION:Je hebt 72 uur na aanvang om een uitmatch op Badmintonvlaandere
 n in te vullen. Match info: Huirtuits Dropke 1H (35) - Olve 4H (48) - Link
 : https://www.badmintonvlaanderen.be/sport/teammatch.aspx?id=952A42C0-E06A
 -400D-BAE7-1F26DE702556&match=82
DTSTART;TZID=Europe/Brussels:20240117T183000
DTEND;TZID=Europe/Brussels:20240117T183000
END:VEVENT
BEGIN:VEVENT
UID:952A42C0-E06A-400D-BAE7-1F26DE702556-3-80_awayreminder@1853.badmintonne
 rs.net
DTSTAMP:20260420T072402Z
SUMMARY:Uitmatch bevestigd? (Smash 1H (53) - Olve 4H (48))
DESCRIPTION:Je hebt 72 uur na aanvang om een uitmatch op Badmintonvlaandere
 n in te vullen. Match info: Smash 1H (53) - Olve 4H (48) - Link: https://w
 ww.badmintonvlaanderen.be/sport/teammatch.aspx?id=952A42C0-E06A-400D-BAE7-
 1F26DE702556&match=80
DTSTART;TZID=Europe/Brussels:20240214T100000
DTEND;TZID=Europe/Brussels:20240214T100000
END:VEVENT
BEGIN:VEVENT
UID:952A42C0-E06A-400D-BAE7-1F26DE702556-3-85_awayreminder@1853.badmintonne
 rs.net
DTSTAMP:20260420T072402Z
SUMMARY:Uitmatch bevestigd? (Brasschaat 2H (44) - Olve 4H (48))
DESCRIPTION:Je hebt 72 uur na aanvang om een uitmatch op Badmintonvlaandere
 n in te vullen. Match info: Brasschaat 2H (44) - Olve 4H (48) - Link: http
 s://www.badmintonvlaanderen.be/sport/teammatch.aspx?id=952A42C0-E06A-400D-
 BAE7-1F26DE702556&match=85
DTSTART;TZID=Europe/Brussels:20240313T190000
DTEND;TZID=Europe/Brussels:20240313T190000
END:VEVENT
BEGIN:VEVENT
UID:952A42C0-E06A-400D-BAE7-1F26DE702556-3-84_awayreminder@1853.badmintonne
 rs.net
DTSTAMP:20260420T072402Z
SUMMARY:Uitmatch bevestigd? (Rita Serveert 2H (48) - Olve 4H (48))
DESCRIPTION:Je hebt 72 uur na aanvang om een uitmatch op Badmintonvlaandere
 n in te vullen. Match info: Rita Serveert 2H (48) - Olve 4H (48) - Link: h
 ttps://www.badmintonvlaanderen.be/sport/teammatch.aspx?id=952A42C0-E06A-40
 0D-BAE7-1F26DE702556&match=84
DTSTART;TZID=Europe/Brussels:20240501T190000
DTEND;TZID=Europe/Brussels:20240501T190000
END:VEVENT
END:VCALENDAR