BEGIN:VCALENDAR
VERSION:2.0
PRODID:spatie/icalendar-generator
NAME:klein_boom_2h_54_reminders
X-WR-CALNAME:klein_boom_2h_54_reminders
BEGIN:VTIMEZONE
TZID:Europe/Brussels
BEGIN:DAYLIGHT
DTSTART:20230326T010000
TZOFFSETFROM:+0100
TZOFFSETTO:+0200
END:DAYLIGHT
BEGIN:STANDARD
DTSTART:20231029T030000
TZOFFSETFROM:+0200
TZOFFSETTO:+0100
END:STANDARD
BEGIN:DAYLIGHT
DTSTART:20240331T010000
TZOFFSETFROM:+0100
TZOFFSETTO:+0200
END:DAYLIGHT
END:VTIMEZONE
BEGIN:VTIMEZONE
TZID:UTC
BEGIN:STANDARD
DTSTART:20250724T072434
TZOFFSETFROM:+0000
TZOFFSETTO:+0000
END:STANDARD
END:VTIMEZONE
BEGIN:VEVENT
UID:952A42C0-E06A-400D-BAE7-1F26DE702556-3-81_homereminder@1856.badmintonne
 rs.net
DTSTAMP:20260420T072434Z
SUMMARY:Thuismatch ingevuld? (Klein Boom 2H (54) - Olve 4H (48))
DESCRIPTION:Je hebt 36 uur na aanvang om een thuismatch op Badmintonvlaande
 ren in te vullen. Match info: Klein Boom 2H (54) - Olve 4H (48) - Link: ht
 tps://www.badmintonvlaanderen.be/sport/teammatch.aspx?id=952A42C0-E06A-400
 D-BAE7-1F26DE702556&match=81
DTSTART;TZID=Europe/Brussels:20230920T080000
DTEND;TZID=Europe/Brussels:20230920T080000
END:VEVENT
BEGIN:VEVENT
UID:952A42C0-E06A-400D-BAE7-1F26DE702556-3-100_homereminder@1856.badmintonn
 ers.net
DTSTAMP:20260420T072434Z
SUMMARY:Thuismatch ingevuld? (Klein Boom 2H (54) - Huirtuits Dropke 1H (35)
 )
DESCRIPTION:Je hebt 36 uur na aanvang om een thuismatch op Badmintonvlaande
 ren in te vullen. Match info: Klein Boom 2H (54) - Huirtuits Dropke 1H (35
 ) - Link: https://www.badmintonvlaanderen.be/sport/teammatch.aspx?id=952A4
 2C0-E06A-400D-BAE7-1F26DE702556&match=100
DTSTART;TZID=Europe/Brussels:20231004T080000
DTEND;TZID=Europe/Brussels:20231004T080000
END:VEVENT
BEGIN:VEVENT
UID:952A42C0-E06A-400D-BAE7-1F26DE702556-3-112_homereminder@1856.badmintonn
 ers.net
DTSTAMP:20260420T072434Z
SUMMARY:Thuismatch ingevuld? (Klein Boom 2H (54) - Rita Serveert 2H (48))
DESCRIPTION:Je hebt 36 uur na aanvang om een thuismatch op Badmintonvlaande
 ren in te vullen. Match info: Klein Boom 2H (54) - Rita Serveert 2H (48) -
  Link: https://www.badmintonvlaanderen.be/sport/teammatch.aspx?id=952A42C0
 -E06A-400D-BAE7-1F26DE702556&match=112
DTSTART;TZID=Europe/Brussels:20231115T080000
DTEND;TZID=Europe/Brussels:20231115T080000
END:VEVENT
BEGIN:VEVENT
UID:952A42C0-E06A-400D-BAE7-1F26DE702556-3-87_homereminder@1856.badmintonne
 rs.net
DTSTAMP:20260420T072434Z
SUMMARY:Thuismatch ingevuld? (Klein Boom 2H (54) - Smash 1H (53))
DESCRIPTION:Je hebt 36 uur na aanvang om een thuismatch op Badmintonvlaande
 ren in te vullen. Match info: Klein Boom 2H (54) - Smash 1H (53) - Link: h
 ttps://www.badmintonvlaanderen.be/sport/teammatch.aspx?id=952A42C0-E06A-40
 0D-BAE7-1F26DE702556&match=87
DTSTART;TZID=Europe/Brussels:20240110T080000
DTEND;TZID=Europe/Brussels:20240110T080000
END:VEVENT
BEGIN:VEVENT
UID:952A42C0-E06A-400D-BAE7-1F26DE702556-3-118_homereminder@1856.badmintonn
 ers.net
DTSTAMP:20260420T072434Z
SUMMARY:Thuismatch ingevuld? (Klein Boom 2H (54) - Brasschaat 2H (44))
DESCRIPTION:Je hebt 36 uur na aanvang om een thuismatch op Badmintonvlaande
 ren in te vullen. Match info: Klein Boom 2H (54) - Brasschaat 2H (44) - Li
 nk: https://www.badmintonvlaanderen.be/sport/teammatch.aspx?id=952A42C0-E0
 6A-400D-BAE7-1F26DE702556&match=118
DTSTART;TZID=Europe/Brussels:20240207T080000
DTEND;TZID=Europe/Brussels:20240207T080000
END:VEVENT
BEGIN:VEVENT
UID:952A42C0-E06A-400D-BAE7-1F26DE702556-3-106_homereminder@1856.badmintonn
 ers.net
DTSTAMP:20260420T072434Z
SUMMARY:Thuismatch ingevuld? (Klein Boom 2H (54) - Zoersel 1H (51))
DESCRIPTION:Je hebt 36 uur na aanvang om een thuismatch op Badmintonvlaande
 ren in te vullen. Match info: Klein Boom 2H (54) - Zoersel 1H (51) - Link:
  https://www.badmintonvlaanderen.be/sport/teammatch.aspx?id=952A42C0-E06A-
 400D-BAE7-1F26DE702556&match=106
DTSTART;TZID=Europe/Brussels:20240417T080000
DTEND;TZID=Europe/Brussels:20240417T080000
END:VEVENT
BEGIN:VEVENT
UID:952A42C0-E06A-400D-BAE7-1F26DE702556-3-95_awayreminder@1856.badmintonne
 rs.net
DTSTAMP:20260420T072434Z
SUMMARY:Uitmatch bevestigd? (Zoersel 1H (51) - Klein Boom 2H (54))
DESCRIPTION:Je hebt 72 uur na aanvang om een uitmatch op Badmintonvlaandere
 n in te vullen. Match info: Zoersel 1H (51) - Klein Boom 2H (54) - Link: h
 ttps://www.badmintonvlaanderen.be/sport/teammatch.aspx?id=952A42C0-E06A-40
 0D-BAE7-1F26DE702556&match=95
DTSTART;TZID=Europe/Brussels:20230927T120000
DTEND;TZID=Europe/Brussels:20230927T120000
END:VEVENT
BEGIN:VEVENT
UID:952A42C0-E06A-400D-BAE7-1F26DE702556-3-97_awayreminder@1856.badmintonne
 rs.net
DTSTAMP:20260420T072434Z
SUMMARY:Uitmatch bevestigd? (Brasschaat 2H (44) - Klein Boom 2H (54))
DESCRIPTION:Je hebt 72 uur na aanvang om een uitmatch op Badmintonvlaandere
 n in te vullen. Match info: Brasschaat 2H (44) - Klein Boom 2H (54) - Link
 : https://www.badmintonvlaanderen.be/sport/teammatch.aspx?id=952A42C0-E06A
 -400D-BAE7-1F26DE702556&match=97
DTSTART;TZID=Europe/Brussels:20231206T190000
DTEND;TZID=Europe/Brussels:20231206T190000
END:VEVENT
BEGIN:VEVENT
UID:952A42C0-E06A-400D-BAE7-1F26DE702556-3-93_awayreminder@1856.badmintonne
 rs.net
DTSTAMP:20260420T072434Z
SUMMARY:Uitmatch bevestigd? (Smash 1H (53) - Klein Boom 2H (54))
DESCRIPTION:Je hebt 72 uur na aanvang om een uitmatch op Badmintonvlaandere
 n in te vullen. Match info: Smash 1H (53) - Klein Boom 2H (54) - Link: htt
 ps://www.badmintonvlaanderen.be/sport/teammatch.aspx?id=952A42C0-E06A-400D
 -BAE7-1F26DE702556&match=93
DTSTART;TZID=Europe/Brussels:20231220T100000
DTEND;TZID=Europe/Brussels:20231220T100000
END:VEVENT
BEGIN:VEVENT
UID:952A42C0-E06A-400D-BAE7-1F26DE702556-3-92_awayreminder@1856.badmintonne
 rs.net
DTSTAMP:20260420T072434Z
SUMMARY:Uitmatch bevestigd? (Olve 4H (48) - Klein Boom 2H (54))
DESCRIPTION:Je hebt 72 uur na aanvang om een uitmatch op Badmintonvlaandere
 n in te vullen. Match info: Olve 4H (48) - Klein Boom 2H (54) - Link: http
 s://www.badmintonvlaanderen.be/sport/teammatch.aspx?id=952A42C0-E06A-400D-
 BAE7-1F26DE702556&match=92
DTSTART;TZID=Europe/Brussels:20240130T103000
DTEND;TZID=Europe/Brussels:20240130T103000
END:VEVENT
BEGIN:VEVENT
UID:952A42C0-E06A-400D-BAE7-1F26DE702556-3-96_awayreminder@1856.badmintonne
 rs.net
DTSTAMP:20260420T072434Z
SUMMARY:Uitmatch bevestigd? (Rita Serveert 2H (48) - Klein Boom 2H (54))
DESCRIPTION:Je hebt 72 uur na aanvang om een uitmatch op Badmintonvlaandere
 n in te vullen. Match info: Rita Serveert 2H (48) - Klein Boom 2H (54) - L
 ink: https://www.badmintonvlaanderen.be/sport/teammatch.aspx?id=952A42C0-E
 06A-400D-BAE7-1F26DE702556&match=96
DTSTART;TZID=Europe/Brussels:20240228T190000
DTEND;TZID=Europe/Brussels:20240228T190000
END:VEVENT
BEGIN:VEVENT
UID:952A42C0-E06A-400D-BAE7-1F26DE702556-3-94_awayreminder@1856.badmintonne
 rs.net
DTSTAMP:20260420T072434Z
SUMMARY:Uitmatch bevestigd? (Huirtuits Dropke 1H (35) - Klein Boom 2H (54))
DESCRIPTION:Je hebt 72 uur na aanvang om een uitmatch op Badmintonvlaandere
 n in te vullen. Match info: Huirtuits Dropke 1H (35) - Klein Boom 2H (54) 
 - Link: https://www.badmintonvlaanderen.be/sport/teammatch.aspx?id=952A42C
 0-E06A-400D-BAE7-1F26DE702556&match=94
DTSTART;TZID=Europe/Brussels:20240410T183000
DTEND;TZID=Europe/Brussels:20240410T183000
END:VEVENT
END:VCALENDAR