BEGIN:VCALENDAR
VERSION:2.0
PRODID:spatie/icalendar-generator
NAME:huirtuits_dropke_1h_35_reminders
X-WR-CALNAME:huirtuits_dropke_1h_35_reminders
BEGIN:VTIMEZONE
TZID:Europe/Brussels
BEGIN:DAYLIGHT
DTSTART:20230326T010000
TZOFFSETFROM:+0100
TZOFFSETTO:+0200
END:DAYLIGHT
BEGIN:STANDARD
DTSTART:20231029T030000
TZOFFSETFROM:+0200
TZOFFSETTO:+0100
END:STANDARD
BEGIN:DAYLIGHT
DTSTART:20240331T010000
TZOFFSETFROM:+0100
TZOFFSETTO:+0200
END:DAYLIGHT
END:VTIMEZONE
BEGIN:VTIMEZONE
TZID:UTC
BEGIN:STANDARD
DTSTART:20250724T072405
TZOFFSETFROM:+0000
TZOFFSETTO:+0000
END:STANDARD
END:VTIMEZONE
BEGIN:VEVENT
UID:952A42C0-E06A-400D-BAE7-1F26DE702556-3-107_homereminder@1860.badmintonn
 ers.net
DTSTAMP:20260420T072405Z
SUMMARY:Thuismatch ingevuld? (Huirtuits Dropke 1H (35) - Zoersel 1H (51))
DESCRIPTION:Je hebt 36 uur na aanvang om een thuismatch op Badmintonvlaande
 ren in te vullen. Match info: Huirtuits Dropke 1H (35) - Zoersel 1H (51) -
  Link: https://www.badmintonvlaanderen.be/sport/teammatch.aspx?id=952A42C0
 -E06A-400D-BAE7-1F26DE702556&match=107
DTSTART;TZID=Europe/Brussels:20231121T063000
DTEND;TZID=Europe/Brussels:20231121T063000
END:VEVENT
BEGIN:VEVENT
UID:952A42C0-E06A-400D-BAE7-1F26DE702556-3-88_homereminder@1860.badmintonne
 rs.net
DTSTAMP:20260420T072405Z
SUMMARY:Thuismatch ingevuld? (Huirtuits Dropke 1H (35) - Smash 1H (53))
DESCRIPTION:Je hebt 36 uur na aanvang om een thuismatch op Badmintonvlaande
 ren in te vullen. Match info: Huirtuits Dropke 1H (35) - Smash 1H (53) - L
 ink: https://www.badmintonvlaanderen.be/sport/teammatch.aspx?id=952A42C0-E
 06A-400D-BAE7-1F26DE702556&match=88
DTSTART;TZID=Europe/Brussels:20240115T010000
DTEND;TZID=Europe/Brussels:20240115T010000
END:VEVENT
BEGIN:VEVENT
UID:952A42C0-E06A-400D-BAE7-1F26DE702556-3-82_homereminder@1860.badmintonne
 rs.net
DTSTAMP:20260420T072405Z
SUMMARY:Thuismatch ingevuld? (Huirtuits Dropke 1H (35) - Olve 4H (48))
DESCRIPTION:Je hebt 36 uur na aanvang om een thuismatch op Badmintonvlaande
 ren in te vullen. Match info: Huirtuits Dropke 1H (35) - Olve 4H (48) - Li
 nk: https://www.badmintonvlaanderen.be/sport/teammatch.aspx?id=952A42C0-E0
 6A-400D-BAE7-1F26DE702556&match=82
DTSTART;TZID=Europe/Brussels:20240116T063000
DTEND;TZID=Europe/Brussels:20240116T063000
END:VEVENT
BEGIN:VEVENT
UID:952A42C0-E06A-400D-BAE7-1F26DE702556-3-119_homereminder@1860.badmintonn
 ers.net
DTSTAMP:20260420T072405Z
SUMMARY:Thuismatch ingevuld? (Huirtuits Dropke 1H (35) - Brasschaat 2H (44)
 )
DESCRIPTION:Je hebt 36 uur na aanvang om een thuismatch op Badmintonvlaande
 ren in te vullen. Match info: Huirtuits Dropke 1H (35) - Brasschaat 2H (44
 ) - Link: https://www.badmintonvlaanderen.be/sport/teammatch.aspx?id=952A4
 2C0-E06A-400D-BAE7-1F26DE702556&match=119
DTSTART;TZID=Europe/Brussels:20240130T063000
DTEND;TZID=Europe/Brussels:20240130T063000
END:VEVENT
BEGIN:VEVENT
UID:952A42C0-E06A-400D-BAE7-1F26DE702556-3-94_homereminder@1860.badmintonne
 rs.net
DTSTAMP:20260420T072405Z
SUMMARY:Thuismatch ingevuld? (Huirtuits Dropke 1H (35) - Klein Boom 2H (54)
 )
DESCRIPTION:Je hebt 36 uur na aanvang om een thuismatch op Badmintonvlaande
 ren in te vullen. Match info: Huirtuits Dropke 1H (35) - Klein Boom 2H (54
 ) - Link: https://www.badmintonvlaanderen.be/sport/teammatch.aspx?id=952A4
 2C0-E06A-400D-BAE7-1F26DE702556&match=94
DTSTART;TZID=Europe/Brussels:20240409T063000
DTEND;TZID=Europe/Brussels:20240409T063000
END:VEVENT
BEGIN:VEVENT
UID:952A42C0-E06A-400D-BAE7-1F26DE702556-3-113_homereminder@1860.badmintonn
 ers.net
DTSTAMP:20260420T072405Z
SUMMARY:Thuismatch ingevuld? (Huirtuits Dropke 1H (35) - Rita Serveert 2H (
 48))
DESCRIPTION:Je hebt 36 uur na aanvang om een thuismatch op Badmintonvlaande
 ren in te vullen. Match info: Huirtuits Dropke 1H (35) - Rita Serveert 2H 
 (48) - Link: https://www.badmintonvlaanderen.be/sport/teammatch.aspx?id=95
 2A42C0-E06A-400D-BAE7-1F26DE702556&match=113
DTSTART;TZID=Europe/Brussels:20240423T063000
DTEND;TZID=Europe/Brussels:20240423T063000
END:VEVENT
BEGIN:VEVENT
UID:952A42C0-E06A-400D-BAE7-1F26DE702556-3-100_awayreminder@1860.badmintonn
 ers.net
DTSTAMP:20260420T072405Z
SUMMARY:Uitmatch bevestigd? (Klein Boom 2H (54) - Huirtuits Dropke 1H (35))
DESCRIPTION:Je hebt 72 uur na aanvang om een uitmatch op Badmintonvlaandere
 n in te vullen. Match info: Klein Boom 2H (54) - Huirtuits Dropke 1H (35) 
 - Link: https://www.badmintonvlaanderen.be/sport/teammatch.aspx?id=952A42C
 0-E06A-400D-BAE7-1F26DE702556&match=100
DTSTART;TZID=Europe/Brussels:20231005T200000
DTEND;TZID=Europe/Brussels:20231005T200000
END:VEVENT
BEGIN:VEVENT
UID:952A42C0-E06A-400D-BAE7-1F26DE702556-3-102_awayreminder@1860.badmintonn
 ers.net
DTSTAMP:20260420T072405Z
SUMMARY:Uitmatch bevestigd? (Rita Serveert 2H (48) - Huirtuits Dropke 1H (3
 5))
DESCRIPTION:Je hebt 72 uur na aanvang om een uitmatch op Badmintonvlaandere
 n in te vullen. Match info: Rita Serveert 2H (48) - Huirtuits Dropke 1H (3
 5) - Link: https://www.badmintonvlaanderen.be/sport/teammatch.aspx?id=952A
 42C0-E06A-400D-BAE7-1F26DE702556&match=102
DTSTART;TZID=Europe/Brussels:20231025T190000
DTEND;TZID=Europe/Brussels:20231025T190000
END:VEVENT
BEGIN:VEVENT
UID:952A42C0-E06A-400D-BAE7-1F26DE702556-3-103_awayreminder@1860.badmintonn
 ers.net
DTSTAMP:20260420T072405Z
SUMMARY:Uitmatch bevestigd? (Brasschaat 2H (44) - Huirtuits Dropke 1H (35))
DESCRIPTION:Je hebt 72 uur na aanvang om een uitmatch op Badmintonvlaandere
 n in te vullen. Match info: Brasschaat 2H (44) - Huirtuits Dropke 1H (35) 
 - Link: https://www.badmintonvlaanderen.be/sport/teammatch.aspx?id=952A42C
 0-E06A-400D-BAE7-1F26DE702556&match=103
DTSTART;TZID=Europe/Brussels:20231217T200000
DTEND;TZID=Europe/Brussels:20231217T200000
END:VEVENT
BEGIN:VEVENT
UID:952A42C0-E06A-400D-BAE7-1F26DE702556-3-98_awayreminder@1860.badmintonne
 rs.net
DTSTAMP:20260420T072405Z
SUMMARY:Uitmatch bevestigd? (Olve 4H (48) - Huirtuits Dropke 1H (35))
DESCRIPTION:Je hebt 72 uur na aanvang om een uitmatch op Badmintonvlaandere
 n in te vullen. Match info: Olve 4H (48) - Huirtuits Dropke 1H (35) - Link
 : https://www.badmintonvlaanderen.be/sport/teammatch.aspx?id=952A42C0-E06A
 -400D-BAE7-1F26DE702556&match=98
DTSTART;TZID=Europe/Brussels:20231219T103000
DTEND;TZID=Europe/Brussels:20231219T103000
END:VEVENT
BEGIN:VEVENT
UID:952A42C0-E06A-400D-BAE7-1F26DE702556-3-101_awayreminder@1860.badmintonn
 ers.net
DTSTAMP:20260420T072405Z
SUMMARY:Uitmatch bevestigd? (Zoersel 1H (51) - Huirtuits Dropke 1H (35))
DESCRIPTION:Je hebt 72 uur na aanvang om een uitmatch op Badmintonvlaandere
 n in te vullen. Match info: Zoersel 1H (51) - Huirtuits Dropke 1H (35) - L
 ink: https://www.badmintonvlaanderen.be/sport/teammatch.aspx?id=952A42C0-E
 06A-400D-BAE7-1F26DE702556&match=101
DTSTART;TZID=Europe/Brussels:20240228T120000
DTEND;TZID=Europe/Brussels:20240228T120000
END:VEVENT
BEGIN:VEVENT
UID:952A42C0-E06A-400D-BAE7-1F26DE702556-3-99_awayreminder@1860.badmintonne
 rs.net
DTSTAMP:20260420T072405Z
SUMMARY:Uitmatch bevestigd? (Smash 1H (53) - Huirtuits Dropke 1H (35))
DESCRIPTION:Je hebt 72 uur na aanvang om een uitmatch op Badmintonvlaandere
 n in te vullen. Match info: Smash 1H (53) - Huirtuits Dropke 1H (35) - Lin
 k: https://www.badmintonvlaanderen.be/sport/teammatch.aspx?id=952A42C0-E06
 A-400D-BAE7-1F26DE702556&match=99
DTSTART;TZID=Europe/Brussels:20240327T100000
DTEND;TZID=Europe/Brussels:20240327T100000
END:VEVENT
END:VCALENDAR