BEGIN:VCALENDAR
VERSION:2.0
PRODID:spatie/icalendar-generator
NAME:rita_serveert_2h_48_reminders
X-WR-CALNAME:rita_serveert_2h_48_reminders
BEGIN:VTIMEZONE
TZID:Europe/Brussels
BEGIN:DAYLIGHT
DTSTART:20230326T010000
TZOFFSETFROM:+0100
TZOFFSETTO:+0200
END:DAYLIGHT
BEGIN:STANDARD
DTSTART:20231029T030000
TZOFFSETFROM:+0200
TZOFFSETTO:+0100
END:STANDARD
BEGIN:DAYLIGHT
DTSTART:20240331T010000
TZOFFSETFROM:+0100
TZOFFSETTO:+0200
END:DAYLIGHT
BEGIN:STANDARD
DTSTART:20241027T030000
TZOFFSETFROM:+0200
TZOFFSETTO:+0100
END:STANDARD
END:VTIMEZONE
BEGIN:VTIMEZONE
TZID:UTC
BEGIN:STANDARD
DTSTART:20250728T080454
TZOFFSETFROM:+0000
TZOFFSETTO:+0000
END:STANDARD
END:VTIMEZONE
BEGIN:VEVENT
UID:952A42C0-E06A-400D-BAE7-1F26DE702556-3-90_homereminder@1866.badmintonne
 rs.net
DTSTAMP:20260424T080454Z
SUMMARY:Thuismatch ingevuld? (Rita Serveert 2H (48) - Smash 1H (53))
DESCRIPTION:Je hebt 36 uur na aanvang om een thuismatch op Badmintonvlaande
 ren in te vullen. Match info: Rita Serveert 2H (48) - Smash 1H (53) - Link
 : https://www.badmintonvlaanderen.be/sport/teammatch.aspx?id=952A42C0-E06A
 -400D-BAE7-1F26DE702556&match=90
DTSTART;TZID=Europe/Brussels:20230919T070000
DTEND;TZID=Europe/Brussels:20230919T070000
END:VEVENT
BEGIN:VEVENT
UID:952A42C0-E06A-400D-BAE7-1F26DE702556-3-102_homereminder@1866.badmintonn
 ers.net
DTSTAMP:20260424T080454Z
SUMMARY:Thuismatch ingevuld? (Rita Serveert 2H (48) - Huirtuits Dropke 1H (
 35))
DESCRIPTION:Je hebt 36 uur na aanvang om een thuismatch op Badmintonvlaande
 ren in te vullen. Match info: Rita Serveert 2H (48) - Huirtuits Dropke 1H 
 (35) - Link: https://www.badmintonvlaanderen.be/sport/teammatch.aspx?id=95
 2A42C0-E06A-400D-BAE7-1F26DE702556&match=102
DTSTART;TZID=Europe/Brussels:20231024T070000
DTEND;TZID=Europe/Brussels:20231024T070000
END:VEVENT
BEGIN:VEVENT
UID:952A42C0-E06A-400D-BAE7-1F26DE702556-3-121_homereminder@1866.badmintonn
 ers.net
DTSTAMP:20260424T080454Z
SUMMARY:Thuismatch ingevuld? (Rita Serveert 2H (48) - Brasschaat 2H (44))
DESCRIPTION:Je hebt 36 uur na aanvang om een thuismatch op Badmintonvlaande
 ren in te vullen. Match info: Rita Serveert 2H (48) - Brasschaat 2H (44) -
  Link: https://www.badmintonvlaanderen.be/sport/teammatch.aspx?id=952A42C0
 -E06A-400D-BAE7-1F26DE702556&match=121
DTSTART;TZID=Europe/Brussels:20231121T070000
DTEND;TZID=Europe/Brussels:20231121T070000
END:VEVENT
BEGIN:VEVENT
UID:952A42C0-E06A-400D-BAE7-1F26DE702556-3-108_homereminder@1866.badmintonn
 ers.net
DTSTAMP:20260424T080454Z
SUMMARY:Thuismatch ingevuld? (Rita Serveert 2H (48) - Zoersel 1H (51))
DESCRIPTION:Je hebt 36 uur na aanvang om een thuismatch op Badmintonvlaande
 ren in te vullen. Match info: Rita Serveert 2H (48) - Zoersel 1H (51) - Li
 nk: https://www.badmintonvlaanderen.be/sport/teammatch.aspx?id=952A42C0-E0
 6A-400D-BAE7-1F26DE702556&match=108
DTSTART;TZID=Europe/Brussels:20240130T070000
DTEND;TZID=Europe/Brussels:20240130T070000
END:VEVENT
BEGIN:VEVENT
UID:952A42C0-E06A-400D-BAE7-1F26DE702556-3-96_homereminder@1866.badmintonne
 rs.net
DTSTAMP:20260424T080454Z
SUMMARY:Thuismatch ingevuld? (Rita Serveert 2H (48) - Klein Boom 2H (54))
DESCRIPTION:Je hebt 36 uur na aanvang om een thuismatch op Badmintonvlaande
 ren in te vullen. Match info: Rita Serveert 2H (48) - Klein Boom 2H (54) -
  Link: https://www.badmintonvlaanderen.be/sport/teammatch.aspx?id=952A42C0
 -E06A-400D-BAE7-1F26DE702556&match=96
DTSTART;TZID=Europe/Brussels:20240227T070000
DTEND;TZID=Europe/Brussels:20240227T070000
END:VEVENT
BEGIN:VEVENT
UID:952A42C0-E06A-400D-BAE7-1F26DE702556-3-84_homereminder@1866.badmintonne
 rs.net
DTSTAMP:20260424T080454Z
SUMMARY:Thuismatch ingevuld? (Rita Serveert 2H (48) - Olve 4H (48))
DESCRIPTION:Je hebt 36 uur na aanvang om een thuismatch op Badmintonvlaande
 ren in te vullen. Match info: Rita Serveert 2H (48) - Olve 4H (48) - Link:
  https://www.badmintonvlaanderen.be/sport/teammatch.aspx?id=952A42C0-E06A-
 400D-BAE7-1F26DE702556&match=84
DTSTART;TZID=Europe/Brussels:20240430T070000
DTEND;TZID=Europe/Brussels:20240430T070000
END:VEVENT
BEGIN:VEVENT
UID:952A42C0-E06A-400D-BAE7-1F26DE702556-3-110_awayreminder@1866.badmintonn
 ers.net
DTSTAMP:20260424T080454Z
SUMMARY:Uitmatch bevestigd? (Olve 4H (48) - Rita Serveert 2H (48))
DESCRIPTION:Je hebt 72 uur na aanvang om een uitmatch op Badmintonvlaandere
 n in te vullen. Match info: Olve 4H (48) - Rita Serveert 2H (48) - Link: h
 ttps://www.badmintonvlaanderen.be/sport/teammatch.aspx?id=952A42C0-E06A-40
 0D-BAE7-1F26DE702556&match=110
DTSTART;TZID=Europe/Brussels:20231010T103000
DTEND;TZID=Europe/Brussels:20231010T103000
END:VEVENT
BEGIN:VEVENT
UID:952A42C0-E06A-400D-BAE7-1F26DE702556-3-114_awayreminder@1866.badmintonn
 ers.net
DTSTAMP:20260424T080454Z
SUMMARY:Uitmatch bevestigd? (Zoersel 1H (51) - Rita Serveert 2H (48))
DESCRIPTION:Je hebt 72 uur na aanvang om een uitmatch op Badmintonvlaandere
 n in te vullen. Match info: Zoersel 1H (51) - Rita Serveert 2H (48) - Link
 : https://www.badmintonvlaanderen.be/sport/teammatch.aspx?id=952A42C0-E06A
 -400D-BAE7-1F26DE702556&match=114
DTSTART;TZID=Europe/Brussels:20231018T120000
DTEND;TZID=Europe/Brussels:20231018T120000
END:VEVENT
BEGIN:VEVENT
UID:952A42C0-E06A-400D-BAE7-1F26DE702556-3-112_awayreminder@1866.badmintonn
 ers.net
DTSTAMP:20260424T080454Z
SUMMARY:Uitmatch bevestigd? (Klein Boom 2H (54) - Rita Serveert 2H (48))
DESCRIPTION:Je hebt 72 uur na aanvang om een uitmatch op Badmintonvlaandere
 n in te vullen. Match info: Klein Boom 2H (54) - Rita Serveert 2H (48) - L
 ink: https://www.badmintonvlaanderen.be/sport/teammatch.aspx?id=952A42C0-E
 06A-400D-BAE7-1F26DE702556&match=112
DTSTART;TZID=Europe/Brussels:20231116T200000
DTEND;TZID=Europe/Brussels:20231116T200000
END:VEVENT
BEGIN:VEVENT
UID:952A42C0-E06A-400D-BAE7-1F26DE702556-3-111_awayreminder@1866.badmintonn
 ers.net
DTSTAMP:20260424T080454Z
SUMMARY:Uitmatch bevestigd? (Smash 1H (53) - Rita Serveert 2H (48))
DESCRIPTION:Je hebt 72 uur na aanvang om een uitmatch op Badmintonvlaandere
 n in te vullen. Match info: Smash 1H (53) - Rita Serveert 2H (48) - Link: 
 https://www.badmintonvlaanderen.be/sport/teammatch.aspx?id=952A42C0-E06A-4
 00D-BAE7-1F26DE702556&match=111
DTSTART;TZID=Europe/Brussels:20240110T100000
DTEND;TZID=Europe/Brussels:20240110T100000
END:VEVENT
BEGIN:VEVENT
UID:952A42C0-E06A-400D-BAE7-1F26DE702556-3-115_awayreminder@1866.badmintonn
 ers.net
DTSTAMP:20260424T080454Z
SUMMARY:Uitmatch bevestigd? (Brasschaat 2H (44) - Rita Serveert 2H (48))
DESCRIPTION:Je hebt 72 uur na aanvang om een uitmatch op Badmintonvlaandere
 n in te vullen. Match info: Brasschaat 2H (44) - Rita Serveert 2H (48) - L
 ink: https://www.badmintonvlaanderen.be/sport/teammatch.aspx?id=952A42C0-E
 06A-400D-BAE7-1F26DE702556&match=115
DTSTART;TZID=Europe/Brussels:20240117T190000
DTEND;TZID=Europe/Brussels:20240117T190000
END:VEVENT
BEGIN:VEVENT
UID:952A42C0-E06A-400D-BAE7-1F26DE702556-3-113_awayreminder@1866.badmintonn
 ers.net
DTSTAMP:20260424T080454Z
SUMMARY:Uitmatch bevestigd? (Huirtuits Dropke 1H (35) - Rita Serveert 2H (4
 8))
DESCRIPTION:Je hebt 72 uur na aanvang om een uitmatch op Badmintonvlaandere
 n in te vullen. Match info: Huirtuits Dropke 1H (35) - Rita Serveert 2H (4
 8) - Link: https://www.badmintonvlaanderen.be/sport/teammatch.aspx?id=952A
 42C0-E06A-400D-BAE7-1F26DE702556&match=113
DTSTART;TZID=Europe/Brussels:20240424T183000
DTEND;TZID=Europe/Brussels:20240424T183000
END:VEVENT
END:VCALENDAR