BEGIN:VCALENDAR
VERSION:2.0
PRODID:spatie/icalendar-generator
NAME:amateurs_2d_73_reminders
X-WR-CALNAME:amateurs_2d_73_reminders
BEGIN:VTIMEZONE
TZID:Europe/Brussels
BEGIN:DAYLIGHT
DTSTART:20230326T010000
TZOFFSETFROM:+0100
TZOFFSETTO:+0200
END:DAYLIGHT
BEGIN:STANDARD
DTSTART:20231029T030000
TZOFFSETFROM:+0200
TZOFFSETTO:+0100
END:STANDARD
BEGIN:DAYLIGHT
DTSTART:20240331T010000
TZOFFSETFROM:+0100
TZOFFSETTO:+0200
END:DAYLIGHT
END:VTIMEZONE
BEGIN:VTIMEZONE
TZID:UTC
BEGIN:STANDARD
DTSTART:20250724T072405
TZOFFSETFROM:+0000
TZOFFSETTO:+0000
END:STANDARD
END:VTIMEZONE
BEGIN:VEVENT
UID:952A42C0-E06A-400D-BAE7-1F26DE702556-32-1440_homereminder@1868.badminto
 nners.net
DTSTAMP:20260420T072405Z
SUMMARY:Thuismatch ingevuld? (Amateurs 2D (73) - Essen 1D (88))
DESCRIPTION:Je hebt 36 uur na aanvang om een thuismatch op Badmintonvlaande
 ren in te vullen. Match info: Amateurs 2D (73) - Essen 1D (88) - Link: htt
 ps://www.badmintonvlaanderen.be/sport/teammatch.aspx?id=952A42C0-E06A-400D
 -BAE7-1F26DE702556&match=1440
DTSTART;TZID=Europe/Brussels:20231004T080000
DTEND;TZID=Europe/Brussels:20231004T080000
END:VEVENT
BEGIN:VEVENT
UID:952A42C0-E06A-400D-BAE7-1F26DE702556-32-1416_homereminder@1868.badminto
 nners.net
DTSTAMP:20260420T072405Z
SUMMARY:Thuismatch ingevuld? (Amateurs 2D (73) - Smash 1D (68))
DESCRIPTION:Je hebt 36 uur na aanvang om een thuismatch op Badmintonvlaande
 ren in te vullen. Match info: Amateurs 2D (73) - Smash 1D (68) - Link: htt
 ps://www.badmintonvlaanderen.be/sport/teammatch.aspx?id=952A42C0-E06A-400D
 -BAE7-1F26DE702556&match=1416
DTSTART;TZID=Europe/Brussels:20231018T080000
DTEND;TZID=Europe/Brussels:20231018T080000
END:VEVENT
BEGIN:VEVENT
UID:952A42C0-E06A-400D-BAE7-1F26DE702556-32-1428_homereminder@1868.badminto
 nners.net
DTSTAMP:20260420T072405Z
SUMMARY:Thuismatch ingevuld? (Amateurs 2D (73) - Merksplas 2D (90))
DESCRIPTION:Je hebt 36 uur na aanvang om een thuismatch op Badmintonvlaande
 ren in te vullen. Match info: Amateurs 2D (73) - Merksplas 2D (90) - Link:
  https://www.badmintonvlaanderen.be/sport/teammatch.aspx?id=952A42C0-E06A-
 400D-BAE7-1F26DE702556&match=1428
DTSTART;TZID=Europe/Brussels:20231129T080000
DTEND;TZID=Europe/Brussels:20231129T080000
END:VEVENT
BEGIN:VEVENT
UID:952A42C0-E06A-400D-BAE7-1F26DE702556-32-1403_homereminder@1868.badminto
 nners.net
DTSTAMP:20260420T072405Z
SUMMARY:Thuismatch ingevuld? (Amateurs 2D (73) - Klein Boom 3D (63))
DESCRIPTION:Je hebt 36 uur na aanvang om een thuismatch op Badmintonvlaande
 ren in te vullen. Match info: Amateurs 2D (73) - Klein Boom 3D (63) - Link
 : https://www.badmintonvlaanderen.be/sport/teammatch.aspx?id=952A42C0-E06A
 -400D-BAE7-1F26DE702556&match=1403
DTSTART;TZID=Europe/Brussels:20240124T080000
DTEND;TZID=Europe/Brussels:20240124T080000
END:VEVENT
BEGIN:VEVENT
UID:952A42C0-E06A-400D-BAE7-1F26DE702556-32-1422_homereminder@1868.badminto
 nners.net
DTSTAMP:20260420T072405Z
SUMMARY:Thuismatch ingevuld? (Amateurs 2D (73) - Opslag 2D (64))
DESCRIPTION:Je hebt 36 uur na aanvang om een thuismatch op Badmintonvlaande
 ren in te vullen. Match info: Amateurs 2D (73) - Opslag 2D (64) - Link: ht
 tps://www.badmintonvlaanderen.be/sport/teammatch.aspx?id=952A42C0-E06A-400
 D-BAE7-1F26DE702556&match=1422
DTSTART;TZID=Europe/Brussels:20240306T080000
DTEND;TZID=Europe/Brussels:20240306T080000
END:VEVENT
BEGIN:VEVENT
UID:952A42C0-E06A-400D-BAE7-1F26DE702556-32-1434_homereminder@1868.badminto
 nners.net
DTSTAMP:20260420T072405Z
SUMMARY:Thuismatch ingevuld? (Amateurs 2D (73) - Plumula 2D (67))
DESCRIPTION:Je hebt 36 uur na aanvang om een thuismatch op Badmintonvlaande
 ren in te vullen. Match info: Amateurs 2D (73) - Plumula 2D (67) - Link: h
 ttps://www.badmintonvlaanderen.be/sport/teammatch.aspx?id=952A42C0-E06A-40
 0D-BAE7-1F26DE702556&match=1434
DTSTART;TZID=Europe/Brussels:20240417T080000
DTEND;TZID=Europe/Brussels:20240417T080000
END:VEVENT
BEGIN:VEVENT
UID:952A42C0-E06A-400D-BAE7-1F26DE702556-32-1409_awayreminder@1868.badminto
 nners.net
DTSTAMP:20260420T072405Z
SUMMARY:Uitmatch bevestigd? (Klein Boom 3D (63) - Amateurs 2D (73))
DESCRIPTION:Je hebt 72 uur na aanvang om een uitmatch op Badmintonvlaandere
 n in te vullen. Match info: Klein Boom 3D (63) - Amateurs 2D (73) - Link: 
 https://www.badmintonvlaanderen.be/sport/teammatch.aspx?id=952A42C0-E06A-4
 00D-BAE7-1F26DE702556&match=1409
DTSTART;TZID=Europe/Brussels:20231011T190000
DTEND;TZID=Europe/Brussels:20231011T190000
END:VEVENT
BEGIN:VEVENT
UID:952A42C0-E06A-400D-BAE7-1F26DE702556-32-1411_awayreminder@1868.badminto
 nners.net
DTSTAMP:20260420T072405Z
SUMMARY:Uitmatch bevestigd? (Opslag 2D (64) - Amateurs 2D (73))
DESCRIPTION:Je hebt 72 uur na aanvang om een uitmatch op Badmintonvlaandere
 n in te vullen. Match info: Opslag 2D (64) - Amateurs 2D (73) - Link: http
 s://www.badmintonvlaanderen.be/sport/teammatch.aspx?id=952A42C0-E06A-400D-
 BAE7-1F26DE702556&match=1411
DTSTART;TZID=Europe/Brussels:20231122T191500
DTEND;TZID=Europe/Brussels:20231122T191500
END:VEVENT
BEGIN:VEVENT
UID:952A42C0-E06A-400D-BAE7-1F26DE702556-32-1413_awayreminder@1868.badminto
 nners.net
DTSTAMP:20260420T072405Z
SUMMARY:Uitmatch bevestigd? (Plumula 2D (67) - Amateurs 2D (73))
DESCRIPTION:Je hebt 72 uur na aanvang om een uitmatch op Badmintonvlaandere
 n in te vullen. Match info: Plumula 2D (67) - Amateurs 2D (73) - Link: htt
 ps://www.badmintonvlaanderen.be/sport/teammatch.aspx?id=952A42C0-E06A-400D
 -BAE7-1F26DE702556&match=1413
DTSTART;TZID=Europe/Brussels:20231220T173000
DTEND;TZID=Europe/Brussels:20231220T173000
END:VEVENT
BEGIN:VEVENT
UID:952A42C0-E06A-400D-BAE7-1F26DE702556-32-1414_awayreminder@1868.badminto
 nners.net
DTSTAMP:20260420T072405Z
SUMMARY:Uitmatch bevestigd? (Essen 1D (88) - Amateurs 2D (73))
DESCRIPTION:Je hebt 72 uur na aanvang om een uitmatch op Badmintonvlaandere
 n in te vullen. Match info: Essen 1D (88) - Amateurs 2D (73) - Link: https
 ://www.badmintonvlaanderen.be/sport/teammatch.aspx?id=952A42C0-E06A-400D-B
 AE7-1F26DE702556&match=1414
DTSTART;TZID=Europe/Brussels:20240117T190000
DTEND;TZID=Europe/Brussels:20240117T190000
END:VEVENT
BEGIN:VEVENT
UID:952A42C0-E06A-400D-BAE7-1F26DE702556-32-1410_awayreminder@1868.badminto
 nners.net
DTSTAMP:20260420T072405Z
SUMMARY:Uitmatch bevestigd? (Smash 1D (68) - Amateurs 2D (73))
DESCRIPTION:Je hebt 72 uur na aanvang om een uitmatch op Badmintonvlaandere
 n in te vullen. Match info: Smash 1D (68) - Amateurs 2D (73) - Link: https
 ://www.badmintonvlaanderen.be/sport/teammatch.aspx?id=952A42C0-E06A-400D-B
 AE7-1F26DE702556&match=1410
DTSTART;TZID=Europe/Brussels:20240228T100000
DTEND;TZID=Europe/Brussels:20240228T100000
END:VEVENT
BEGIN:VEVENT
UID:952A42C0-E06A-400D-BAE7-1F26DE702556-32-1412_awayreminder@1868.badminto
 nners.net
DTSTAMP:20260420T072405Z
SUMMARY:Uitmatch bevestigd? (Merksplas 2D (90) - Amateurs 2D (73))
DESCRIPTION:Je hebt 72 uur na aanvang om een uitmatch op Badmintonvlaandere
 n in te vullen. Match info: Merksplas 2D (90) - Amateurs 2D (73) - Link: h
 ttps://www.badmintonvlaanderen.be/sport/teammatch.aspx?id=952A42C0-E06A-40
 0D-BAE7-1F26DE702556&match=1412
DTSTART;TZID=Europe/Brussels:20240327T183000
DTEND;TZID=Europe/Brussels:20240327T183000
END:VEVENT
END:VCALENDAR