BEGIN:VCALENDAR
VERSION:2.0
PRODID:spatie/icalendar-generator
NAME:smash_1d_68_reminders
X-WR-CALNAME:smash_1d_68_reminders
BEGIN:VTIMEZONE
TZID:Europe/Brussels
BEGIN:DAYLIGHT
DTSTART:20230326T010000
TZOFFSETFROM:+0100
TZOFFSETTO:+0200
END:DAYLIGHT
BEGIN:STANDARD
DTSTART:20231029T030000
TZOFFSETFROM:+0200
TZOFFSETTO:+0100
END:STANDARD
BEGIN:DAYLIGHT
DTSTART:20240331T010000
TZOFFSETFROM:+0100
TZOFFSETTO:+0200
END:DAYLIGHT
END:VTIMEZONE
BEGIN:VTIMEZONE
TZID:UTC
BEGIN:STANDARD
DTSTART:20250724T072403
TZOFFSETFROM:+0000
TZOFFSETTO:+0000
END:STANDARD
END:VTIMEZONE
BEGIN:VEVENT
UID:952A42C0-E06A-400D-BAE7-1F26DE702556-32-1435_homereminder@1872.badminto
 nners.net
DTSTAMP:20260420T072403Z
SUMMARY:Thuismatch ingevuld? (Smash 1D (68) - Plumula 2D (67))
DESCRIPTION:Je hebt 36 uur na aanvang om een thuismatch op Badmintonvlaande
 ren in te vullen. Match info: Smash 1D (68) - Plumula 2D (67) - Link: http
 s://www.badmintonvlaanderen.be/sport/teammatch.aspx?id=952A42C0-E06A-400D-
 BAE7-1F26DE702556&match=1435
DTSTART;TZID=Europe/Brussels:20231106T220000
DTEND;TZID=Europe/Brussels:20231106T220000
END:VEVENT
BEGIN:VEVENT
UID:952A42C0-E06A-400D-BAE7-1F26DE702556-32-1423_homereminder@1872.badminto
 nners.net
DTSTAMP:20260420T072403Z
SUMMARY:Thuismatch ingevuld? (Smash 1D (68) - Opslag 2D (64))
DESCRIPTION:Je hebt 36 uur na aanvang om een thuismatch op Badmintonvlaande
 ren in te vullen. Match info: Smash 1D (68) - Opslag 2D (64) - Link: https
 ://www.badmintonvlaanderen.be/sport/teammatch.aspx?id=952A42C0-E06A-400D-B
 AE7-1F26DE702556&match=1423
DTSTART;TZID=Europe/Brussels:20231204T220000
DTEND;TZID=Europe/Brussels:20231204T220000
END:VEVENT
BEGIN:VEVENT
UID:952A42C0-E06A-400D-BAE7-1F26DE702556-32-1404_homereminder@1872.badminto
 nners.net
DTSTAMP:20260420T072403Z
SUMMARY:Thuismatch ingevuld? (Smash 1D (68) - Klein Boom 3D (63))
DESCRIPTION:Je hebt 36 uur na aanvang om een thuismatch op Badmintonvlaande
 ren in te vullen. Match info: Smash 1D (68) - Klein Boom 3D (63) - Link: h
 ttps://www.badmintonvlaanderen.be/sport/teammatch.aspx?id=952A42C0-E06A-40
 0D-BAE7-1F26DE702556&match=1404
DTSTART;TZID=Europe/Brussels:20231211T220000
DTEND;TZID=Europe/Brussels:20231211T220000
END:VEVENT
BEGIN:VEVENT
UID:952A42C0-E06A-400D-BAE7-1F26DE702556-32-1441_homereminder@1872.badminto
 nners.net
DTSTAMP:20260420T072403Z
SUMMARY:Thuismatch ingevuld? (Smash 1D (68) - Essen 1D (88))
DESCRIPTION:Je hebt 36 uur na aanvang om een thuismatch op Badmintonvlaande
 ren in te vullen. Match info: Smash 1D (68) - Essen 1D (88) - Link: https:
 //www.badmintonvlaanderen.be/sport/teammatch.aspx?id=952A42C0-E06A-400D-BA
 E7-1F26DE702556&match=1441
DTSTART;TZID=Europe/Brussels:20240129T220000
DTEND;TZID=Europe/Brussels:20240129T220000
END:VEVENT
BEGIN:VEVENT
UID:952A42C0-E06A-400D-BAE7-1F26DE702556-32-1410_homereminder@1872.badminto
 nners.net
DTSTAMP:20260420T072403Z
SUMMARY:Thuismatch ingevuld? (Smash 1D (68) - Amateurs 2D (73))
DESCRIPTION:Je hebt 36 uur na aanvang om een thuismatch op Badmintonvlaande
 ren in te vullen. Match info: Smash 1D (68) - Amateurs 2D (73) - Link: htt
 ps://www.badmintonvlaanderen.be/sport/teammatch.aspx?id=952A42C0-E06A-400D
 -BAE7-1F26DE702556&match=1410
DTSTART;TZID=Europe/Brussels:20240226T220000
DTEND;TZID=Europe/Brussels:20240226T220000
END:VEVENT
BEGIN:VEVENT
UID:952A42C0-E06A-400D-BAE7-1F26DE702556-32-1429_homereminder@1872.badminto
 nners.net
DTSTAMP:20260420T072403Z
SUMMARY:Thuismatch ingevuld? (Smash 1D (68) - Merksplas 2D (90))
DESCRIPTION:Je hebt 36 uur na aanvang om een thuismatch op Badmintonvlaande
 ren in te vullen. Match info: Smash 1D (68) - Merksplas 2D (90) - Link: ht
 tps://www.badmintonvlaanderen.be/sport/teammatch.aspx?id=952A42C0-E06A-400
 D-BAE7-1F26DE702556&match=1429
DTSTART;TZID=Europe/Brussels:20240422T220000
DTEND;TZID=Europe/Brussels:20240422T220000
END:VEVENT
BEGIN:VEVENT
UID:952A42C0-E06A-400D-BAE7-1F26DE702556-32-1420_awayreminder@1872.badminto
 nners.net
DTSTAMP:20260420T072403Z
SUMMARY:Uitmatch bevestigd? (Essen 1D (88) - Smash 1D (68))
DESCRIPTION:Je hebt 72 uur na aanvang om een uitmatch op Badmintonvlaandere
 n in te vullen. Match info: Essen 1D (88) - Smash 1D (68) - Link: https://
 www.badmintonvlaanderen.be/sport/teammatch.aspx?id=952A42C0-E06A-400D-BAE7
 -1F26DE702556&match=1420
DTSTART;TZID=Europe/Brussels:20230927T190000
DTEND;TZID=Europe/Brussels:20230927T190000
END:VEVENT
BEGIN:VEVENT
UID:952A42C0-E06A-400D-BAE7-1F26DE702556-32-1416_awayreminder@1872.badminto
 nners.net
DTSTAMP:20260420T072403Z
SUMMARY:Uitmatch bevestigd? (Amateurs 2D (73) - Smash 1D (68))
DESCRIPTION:Je hebt 72 uur na aanvang om een uitmatch op Badmintonvlaandere
 n in te vullen. Match info: Amateurs 2D (73) - Smash 1D (68) - Link: https
 ://www.badmintonvlaanderen.be/sport/teammatch.aspx?id=952A42C0-E06A-400D-B
 AE7-1F26DE702556&match=1416
DTSTART;TZID=Europe/Brussels:20231019T200000
DTEND;TZID=Europe/Brussels:20231019T200000
END:VEVENT
BEGIN:VEVENT
UID:952A42C0-E06A-400D-BAE7-1F26DE702556-32-1418_awayreminder@1872.badminto
 nners.net
DTSTAMP:20260420T072403Z
SUMMARY:Uitmatch bevestigd? (Merksplas 2D (90) - Smash 1D (68))
DESCRIPTION:Je hebt 72 uur na aanvang om een uitmatch op Badmintonvlaandere
 n in te vullen. Match info: Merksplas 2D (90) - Smash 1D (68) - Link: http
 s://www.badmintonvlaanderen.be/sport/teammatch.aspx?id=952A42C0-E06A-400D-
 BAE7-1F26DE702556&match=1418
DTSTART;TZID=Europe/Brussels:20231220T183000
DTEND;TZID=Europe/Brussels:20231220T183000
END:VEVENT
BEGIN:VEVENT
UID:952A42C0-E06A-400D-BAE7-1F26DE702556-32-1419_awayreminder@1872.badminto
 nners.net
DTSTAMP:20260420T072403Z
SUMMARY:Uitmatch bevestigd? (Plumula 2D (67) - Smash 1D (68))
DESCRIPTION:Je hebt 72 uur na aanvang om een uitmatch op Badmintonvlaandere
 n in te vullen. Match info: Plumula 2D (67) - Smash 1D (68) - Link: https:
 //www.badmintonvlaanderen.be/sport/teammatch.aspx?id=952A42C0-E06A-400D-BA
 E7-1F26DE702556&match=1419
DTSTART;TZID=Europe/Brussels:20240117T173000
DTEND;TZID=Europe/Brussels:20240117T173000
END:VEVENT
BEGIN:VEVENT
UID:952A42C0-E06A-400D-BAE7-1F26DE702556-32-1417_awayreminder@1872.badminto
 nners.net
DTSTAMP:20260420T072403Z
SUMMARY:Uitmatch bevestigd? (Opslag 2D (64) - Smash 1D (68))
DESCRIPTION:Je hebt 72 uur na aanvang om een uitmatch op Badmintonvlaandere
 n in te vullen. Match info: Opslag 2D (64) - Smash 1D (68) - Link: https:/
 /www.badmintonvlaanderen.be/sport/teammatch.aspx?id=952A42C0-E06A-400D-BAE
 7-1F26DE702556&match=1417
DTSTART;TZID=Europe/Brussels:20240313T191500
DTEND;TZID=Europe/Brussels:20240313T191500
END:VEVENT
BEGIN:VEVENT
UID:952A42C0-E06A-400D-BAE7-1F26DE702556-32-1415_awayreminder@1872.badminto
 nners.net
DTSTAMP:20260420T072403Z
SUMMARY:Uitmatch bevestigd? (Klein Boom 3D (63) - Smash 1D (68))
DESCRIPTION:Je hebt 72 uur na aanvang om een uitmatch op Badmintonvlaandere
 n in te vullen. Match info: Klein Boom 3D (63) - Smash 1D (68) - Link: htt
 ps://www.badmintonvlaanderen.be/sport/teammatch.aspx?id=952A42C0-E06A-400D
 -BAE7-1F26DE702556&match=1415
DTSTART;TZID=Europe/Brussels:20240424T190000
DTEND;TZID=Europe/Brussels:20240424T190000
END:VEVENT
END:VCALENDAR