BEGIN:VCALENDAR
VERSION:2.0
PRODID:spatie/icalendar-generator
NAME:klein_boom_3d_63_reminders
X-WR-CALNAME:klein_boom_3d_63_reminders
BEGIN:VTIMEZONE
TZID:Europe/Brussels
BEGIN:DAYLIGHT
DTSTART:20230326T010000
TZOFFSETFROM:+0100
TZOFFSETTO:+0200
END:DAYLIGHT
BEGIN:STANDARD
DTSTART:20231029T030000
TZOFFSETFROM:+0200
TZOFFSETTO:+0100
END:STANDARD
BEGIN:DAYLIGHT
DTSTART:20240331T010000
TZOFFSETFROM:+0100
TZOFFSETTO:+0200
END:DAYLIGHT
END:VTIMEZONE
BEGIN:VTIMEZONE
TZID:UTC
BEGIN:STANDARD
DTSTART:20250724T073705
TZOFFSETFROM:+0000
TZOFFSETTO:+0000
END:STANDARD
END:VTIMEZONE
BEGIN:VEVENT
UID:952A42C0-E06A-400D-BAE7-1F26DE702556-32-1409_homereminder@1873.badminto
 nners.net
DTSTAMP:20260420T073705Z
SUMMARY:Thuismatch ingevuld? (Klein Boom 3D (63) - Amateurs 2D (73))
DESCRIPTION:Je hebt 36 uur na aanvang om een thuismatch op Badmintonvlaande
 ren in te vullen. Match info: Klein Boom 3D (63) - Amateurs 2D (73) - Link
 : https://www.badmintonvlaanderen.be/sport/teammatch.aspx?id=952A42C0-E06A
 -400D-BAE7-1F26DE702556&match=1409
DTSTART;TZID=Europe/Brussels:20231010T070000
DTEND;TZID=Europe/Brussels:20231010T070000
END:VEVENT
BEGIN:VEVENT
UID:952A42C0-E06A-400D-BAE7-1F26DE702556-32-1421_homereminder@1873.badminto
 nners.net
DTSTAMP:20260420T073705Z
SUMMARY:Thuismatch ingevuld? (Klein Boom 3D (63) - Opslag 2D (64))
DESCRIPTION:Je hebt 36 uur na aanvang om een thuismatch op Badmintonvlaande
 ren in te vullen. Match info: Klein Boom 3D (63) - Opslag 2D (64) - Link: 
 https://www.badmintonvlaanderen.be/sport/teammatch.aspx?id=952A42C0-E06A-4
 00D-BAE7-1F26DE702556&match=1421
DTSTART;TZID=Europe/Brussels:20231024T070000
DTEND;TZID=Europe/Brussels:20231024T070000
END:VEVENT
BEGIN:VEVENT
UID:952A42C0-E06A-400D-BAE7-1F26DE702556-32-1433_homereminder@1873.badminto
 nners.net
DTSTAMP:20260420T073705Z
SUMMARY:Thuismatch ingevuld? (Klein Boom 3D (63) - Plumula 2D (67))
DESCRIPTION:Je hebt 36 uur na aanvang om een thuismatch op Badmintonvlaande
 ren in te vullen. Match info: Klein Boom 3D (63) - Plumula 2D (67) - Link:
  https://www.badmintonvlaanderen.be/sport/teammatch.aspx?id=952A42C0-E06A-
 400D-BAE7-1F26DE702556&match=1433
DTSTART;TZID=Europe/Brussels:20231205T070000
DTEND;TZID=Europe/Brussels:20231205T070000
END:VEVENT
BEGIN:VEVENT
UID:952A42C0-E06A-400D-BAE7-1F26DE702556-32-1427_homereminder@1873.badminto
 nners.net
DTSTAMP:20260420T073705Z
SUMMARY:Thuismatch ingevuld? (Klein Boom 3D (63) - Merksplas 2D (90))
DESCRIPTION:Je hebt 36 uur na aanvang om een thuismatch op Badmintonvlaande
 ren in te vullen. Match info: Klein Boom 3D (63) - Merksplas 2D (90) - Lin
 k: https://www.badmintonvlaanderen.be/sport/teammatch.aspx?id=952A42C0-E06
 A-400D-BAE7-1F26DE702556&match=1427
DTSTART;TZID=Europe/Brussels:20240312T070000
DTEND;TZID=Europe/Brussels:20240312T070000
END:VEVENT
BEGIN:VEVENT
UID:952A42C0-E06A-400D-BAE7-1F26DE702556-32-1439_homereminder@1873.badminto
 nners.net
DTSTAMP:20260420T073705Z
SUMMARY:Thuismatch ingevuld? (Klein Boom 3D (63) - Essen 1D (88))
DESCRIPTION:Je hebt 36 uur na aanvang om een thuismatch op Badmintonvlaande
 ren in te vullen. Match info: Klein Boom 3D (63) - Essen 1D (88) - Link: h
 ttps://www.badmintonvlaanderen.be/sport/teammatch.aspx?id=952A42C0-E06A-40
 0D-BAE7-1F26DE702556&match=1439
DTSTART;TZID=Europe/Brussels:20240409T070000
DTEND;TZID=Europe/Brussels:20240409T070000
END:VEVENT
BEGIN:VEVENT
UID:952A42C0-E06A-400D-BAE7-1F26DE702556-32-1415_homereminder@1873.badminto
 nners.net
DTSTAMP:20260420T073705Z
SUMMARY:Thuismatch ingevuld? (Klein Boom 3D (63) - Smash 1D (68))
DESCRIPTION:Je hebt 36 uur na aanvang om een thuismatch op Badmintonvlaande
 ren in te vullen. Match info: Klein Boom 3D (63) - Smash 1D (68) - Link: h
 ttps://www.badmintonvlaanderen.be/sport/teammatch.aspx?id=952A42C0-E06A-40
 0D-BAE7-1F26DE702556&match=1415
DTSTART;TZID=Europe/Brussels:20240423T070000
DTEND;TZID=Europe/Brussels:20240423T070000
END:VEVENT
BEGIN:VEVENT
UID:952A42C0-E06A-400D-BAE7-1F26DE702556-32-1406_awayreminder@1873.badminto
 nners.net
DTSTAMP:20260420T073705Z
SUMMARY:Uitmatch bevestigd? (Merksplas 2D (90) - Klein Boom 3D (63))
DESCRIPTION:Je hebt 72 uur na aanvang om een uitmatch op Badmintonvlaandere
 n in te vullen. Match info: Merksplas 2D (90) - Klein Boom 3D (63) - Link:
  https://www.badmintonvlaanderen.be/sport/teammatch.aspx?id=952A42C0-E06A-
 400D-BAE7-1F26DE702556&match=1406
DTSTART;TZID=Europe/Brussels:20231122T183000
DTEND;TZID=Europe/Brussels:20231122T183000
END:VEVENT
BEGIN:VEVENT
UID:952A42C0-E06A-400D-BAE7-1F26DE702556-32-1404_awayreminder@1873.badminto
 nners.net
DTSTAMP:20260420T073705Z
SUMMARY:Uitmatch bevestigd? (Smash 1D (68) - Klein Boom 3D (63))
DESCRIPTION:Je hebt 72 uur na aanvang om een uitmatch op Badmintonvlaandere
 n in te vullen. Match info: Smash 1D (68) - Klein Boom 3D (63) - Link: htt
 ps://www.badmintonvlaanderen.be/sport/teammatch.aspx?id=952A42C0-E06A-400D
 -BAE7-1F26DE702556&match=1404
DTSTART;TZID=Europe/Brussels:20231213T100000
DTEND;TZID=Europe/Brussels:20231213T100000
END:VEVENT
BEGIN:VEVENT
UID:952A42C0-E06A-400D-BAE7-1F26DE702556-32-1408_awayreminder@1873.badminto
 nners.net
DTSTAMP:20260420T073705Z
SUMMARY:Uitmatch bevestigd? (Essen 1D (88) - Klein Boom 3D (63))
DESCRIPTION:Je hebt 72 uur na aanvang om een uitmatch op Badmintonvlaandere
 n in te vullen. Match info: Essen 1D (88) - Klein Boom 3D (63) - Link: htt
 ps://www.badmintonvlaanderen.be/sport/teammatch.aspx?id=952A42C0-E06A-400D
 -BAE7-1F26DE702556&match=1408
DTSTART;TZID=Europe/Brussels:20231220T190000
DTEND;TZID=Europe/Brussels:20231220T190000
END:VEVENT
BEGIN:VEVENT
UID:952A42C0-E06A-400D-BAE7-1F26DE702556-32-1403_awayreminder@1873.badminto
 nners.net
DTSTAMP:20260420T073705Z
SUMMARY:Uitmatch bevestigd? (Amateurs 2D (73) - Klein Boom 3D (63))
DESCRIPTION:Je hebt 72 uur na aanvang om een uitmatch op Badmintonvlaandere
 n in te vullen. Match info: Amateurs 2D (73) - Klein Boom 3D (63) - Link: 
 https://www.badmintonvlaanderen.be/sport/teammatch.aspx?id=952A42C0-E06A-4
 00D-BAE7-1F26DE702556&match=1403
DTSTART;TZID=Europe/Brussels:20240125T200000
DTEND;TZID=Europe/Brussels:20240125T200000
END:VEVENT
BEGIN:VEVENT
UID:952A42C0-E06A-400D-BAE7-1F26DE702556-32-1405_awayreminder@1873.badminto
 nners.net
DTSTAMP:20260420T073705Z
SUMMARY:Uitmatch bevestigd? (Opslag 2D (64) - Klein Boom 3D (63))
DESCRIPTION:Je hebt 72 uur na aanvang om een uitmatch op Badmintonvlaandere
 n in te vullen. Match info: Opslag 2D (64) - Klein Boom 3D (63) - Link: ht
 tps://www.badmintonvlaanderen.be/sport/teammatch.aspx?id=952A42C0-E06A-400
 D-BAE7-1F26DE702556&match=1405
DTSTART;TZID=Europe/Brussels:20240228T163000
DTEND;TZID=Europe/Brussels:20240228T163000
END:VEVENT
BEGIN:VEVENT
UID:952A42C0-E06A-400D-BAE7-1F26DE702556-32-1407_awayreminder@1873.badminto
 nners.net
DTSTAMP:20260420T073705Z
SUMMARY:Uitmatch bevestigd? (Plumula 2D (67) - Klein Boom 3D (63))
DESCRIPTION:Je hebt 72 uur na aanvang om een uitmatch op Badmintonvlaandere
 n in te vullen. Match info: Plumula 2D (67) - Klein Boom 3D (63) - Link: h
 ttps://www.badmintonvlaanderen.be/sport/teammatch.aspx?id=952A42C0-E06A-40
 0D-BAE7-1F26DE702556&match=1407
DTSTART;TZID=Europe/Brussels:20240327T173000
DTEND;TZID=Europe/Brussels:20240327T173000
END:VEVENT
END:VCALENDAR