BEGIN:VCALENDAR
VERSION:2.0
PRODID:spatie/icalendar-generator
NAME:opslag_2d_64_reminders
X-WR-CALNAME:opslag_2d_64_reminders
BEGIN:VTIMEZONE
TZID:Europe/Brussels
BEGIN:DAYLIGHT
DTSTART:20230326T010000
TZOFFSETFROM:+0100
TZOFFSETTO:+0200
END:DAYLIGHT
BEGIN:STANDARD
DTSTART:20231029T030000
TZOFFSETFROM:+0200
TZOFFSETTO:+0100
END:STANDARD
BEGIN:DAYLIGHT
DTSTART:20240331T010000
TZOFFSETFROM:+0100
TZOFFSETTO:+0200
END:DAYLIGHT
END:VTIMEZONE
BEGIN:VTIMEZONE
TZID:UTC
BEGIN:STANDARD
DTSTART:20250724T072403
TZOFFSETFROM:+0000
TZOFFSETTO:+0000
END:STANDARD
END:VTIMEZONE
BEGIN:VEVENT
UID:952A42C0-E06A-400D-BAE7-1F26DE702556-32-1430_homereminder@1874.badminto
 nners.net
DTSTAMP:20260420T072403Z
SUMMARY:Thuismatch ingevuld? (Opslag 2D (64) - Merksplas 2D (90))
DESCRIPTION:Je hebt 36 uur na aanvang om een thuismatch op Badmintonvlaande
 ren in te vullen. Match info: Opslag 2D (64) - Merksplas 2D (90) - Link: h
 ttps://www.badmintonvlaanderen.be/sport/teammatch.aspx?id=952A42C0-E06A-40
 0D-BAE7-1F26DE702556&match=1430
DTSTART;TZID=Europe/Brussels:20230912T071500
DTEND;TZID=Europe/Brussels:20230912T071500
END:VEVENT
BEGIN:VEVENT
UID:952A42C0-E06A-400D-BAE7-1F26DE702556-32-1442_homereminder@1874.badminto
 nners.net
DTSTAMP:20260420T072403Z
SUMMARY:Thuismatch ingevuld? (Opslag 2D (64) - Essen 1D (88))
DESCRIPTION:Je hebt 36 uur na aanvang om een thuismatch op Badmintonvlaande
 ren in te vullen. Match info: Opslag 2D (64) - Essen 1D (88) - Link: https
 ://www.badmintonvlaanderen.be/sport/teammatch.aspx?id=952A42C0-E06A-400D-B
 AE7-1F26DE702556&match=1442
DTSTART;TZID=Europe/Brussels:20231010T071500
DTEND;TZID=Europe/Brussels:20231010T071500
END:VEVENT
BEGIN:VEVENT
UID:952A42C0-E06A-400D-BAE7-1F26DE702556-32-1411_homereminder@1874.badminto
 nners.net
DTSTAMP:20260420T072403Z
SUMMARY:Thuismatch ingevuld? (Opslag 2D (64) - Amateurs 2D (73))
DESCRIPTION:Je hebt 36 uur na aanvang om een thuismatch op Badmintonvlaande
 ren in te vullen. Match info: Opslag 2D (64) - Amateurs 2D (73) - Link: ht
 tps://www.badmintonvlaanderen.be/sport/teammatch.aspx?id=952A42C0-E06A-400
 D-BAE7-1F26DE702556&match=1411
DTSTART;TZID=Europe/Brussels:20231121T071500
DTEND;TZID=Europe/Brussels:20231121T071500
END:VEVENT
BEGIN:VEVENT
UID:952A42C0-E06A-400D-BAE7-1F26DE702556-32-1436_homereminder@1874.badminto
 nners.net
DTSTAMP:20260420T072403Z
SUMMARY:Thuismatch ingevuld? (Opslag 2D (64) - Plumula 2D (67))
DESCRIPTION:Je hebt 36 uur na aanvang om een thuismatch op Badmintonvlaande
 ren in te vullen. Match info: Opslag 2D (64) - Plumula 2D (67) - Link: htt
 ps://www.badmintonvlaanderen.be/sport/teammatch.aspx?id=952A42C0-E06A-400D
 -BAE7-1F26DE702556&match=1436
DTSTART;TZID=Europe/Brussels:20240130T071500
DTEND;TZID=Europe/Brussels:20240130T071500
END:VEVENT
BEGIN:VEVENT
UID:952A42C0-E06A-400D-BAE7-1F26DE702556-32-1405_homereminder@1874.badminto
 nners.net
DTSTAMP:20260420T072403Z
SUMMARY:Thuismatch ingevuld? (Opslag 2D (64) - Klein Boom 3D (63))
DESCRIPTION:Je hebt 36 uur na aanvang om een thuismatch op Badmintonvlaande
 ren in te vullen. Match info: Opslag 2D (64) - Klein Boom 3D (63) - Link: 
 https://www.badmintonvlaanderen.be/sport/teammatch.aspx?id=952A42C0-E06A-4
 00D-BAE7-1F26DE702556&match=1405
DTSTART;TZID=Europe/Brussels:20240227T043000
DTEND;TZID=Europe/Brussels:20240227T043000
END:VEVENT
BEGIN:VEVENT
UID:952A42C0-E06A-400D-BAE7-1F26DE702556-32-1417_homereminder@1874.badminto
 nners.net
DTSTAMP:20260420T072403Z
SUMMARY:Thuismatch ingevuld? (Opslag 2D (64) - Smash 1D (68))
DESCRIPTION:Je hebt 36 uur na aanvang om een thuismatch op Badmintonvlaande
 ren in te vullen. Match info: Opslag 2D (64) - Smash 1D (68) - Link: https
 ://www.badmintonvlaanderen.be/sport/teammatch.aspx?id=952A42C0-E06A-400D-B
 AE7-1F26DE702556&match=1417
DTSTART;TZID=Europe/Brussels:20240312T071500
DTEND;TZID=Europe/Brussels:20240312T071500
END:VEVENT
BEGIN:VEVENT
UID:952A42C0-E06A-400D-BAE7-1F26DE702556-32-1425_awayreminder@1874.badminto
 nners.net
DTSTAMP:20260420T072403Z
SUMMARY:Uitmatch bevestigd? (Plumula 2D (67) - Opslag 2D (64))
DESCRIPTION:Je hebt 72 uur na aanvang om een uitmatch op Badmintonvlaandere
 n in te vullen. Match info: Plumula 2D (67) - Opslag 2D (64) - Link: https
 ://www.badmintonvlaanderen.be/sport/teammatch.aspx?id=952A42C0-E06A-400D-B
 AE7-1F26DE702556&match=1425
DTSTART;TZID=Europe/Brussels:20230927T173000
DTEND;TZID=Europe/Brussels:20230927T173000
END:VEVENT
BEGIN:VEVENT
UID:952A42C0-E06A-400D-BAE7-1F26DE702556-32-1421_awayreminder@1874.badminto
 nners.net
DTSTAMP:20260420T072403Z
SUMMARY:Uitmatch bevestigd? (Klein Boom 3D (63) - Opslag 2D (64))
DESCRIPTION:Je hebt 72 uur na aanvang om een uitmatch op Badmintonvlaandere
 n in te vullen. Match info: Klein Boom 3D (63) - Opslag 2D (64) - Link: ht
 tps://www.badmintonvlaanderen.be/sport/teammatch.aspx?id=952A42C0-E06A-400
 D-BAE7-1F26DE702556&match=1421
DTSTART;TZID=Europe/Brussels:20231025T190000
DTEND;TZID=Europe/Brussels:20231025T190000
END:VEVENT
BEGIN:VEVENT
UID:952A42C0-E06A-400D-BAE7-1F26DE702556-32-1423_awayreminder@1874.badminto
 nners.net
DTSTAMP:20260420T072403Z
SUMMARY:Uitmatch bevestigd? (Smash 1D (68) - Opslag 2D (64))
DESCRIPTION:Je hebt 72 uur na aanvang om een uitmatch op Badmintonvlaandere
 n in te vullen. Match info: Smash 1D (68) - Opslag 2D (64) - Link: https:/
 /www.badmintonvlaanderen.be/sport/teammatch.aspx?id=952A42C0-E06A-400D-BAE
 7-1F26DE702556&match=1423
DTSTART;TZID=Europe/Brussels:20231206T100000
DTEND;TZID=Europe/Brussels:20231206T100000
END:VEVENT
BEGIN:VEVENT
UID:952A42C0-E06A-400D-BAE7-1F26DE702556-32-1424_awayreminder@1874.badminto
 nners.net
DTSTAMP:20260420T072403Z
SUMMARY:Uitmatch bevestigd? (Merksplas 2D (90) - Opslag 2D (64))
DESCRIPTION:Je hebt 72 uur na aanvang om een uitmatch op Badmintonvlaandere
 n in te vullen. Match info: Merksplas 2D (90) - Opslag 2D (64) - Link: htt
 ps://www.badmintonvlaanderen.be/sport/teammatch.aspx?id=952A42C0-E06A-400D
 -BAE7-1F26DE702556&match=1424
DTSTART;TZID=Europe/Brussels:20240117T183000
DTEND;TZID=Europe/Brussels:20240117T183000
END:VEVENT
BEGIN:VEVENT
UID:952A42C0-E06A-400D-BAE7-1F26DE702556-32-1426_awayreminder@1874.badminto
 nners.net
DTSTAMP:20260420T072403Z
SUMMARY:Uitmatch bevestigd? (Essen 1D (88) - Opslag 2D (64))
DESCRIPTION:Je hebt 72 uur na aanvang om een uitmatch op Badmintonvlaandere
 n in te vullen. Match info: Essen 1D (88) - Opslag 2D (64) - Link: https:/
 /www.badmintonvlaanderen.be/sport/teammatch.aspx?id=952A42C0-E06A-400D-BAE
 7-1F26DE702556&match=1426
DTSTART;TZID=Europe/Brussels:20240214T190000
DTEND;TZID=Europe/Brussels:20240214T190000
END:VEVENT
BEGIN:VEVENT
UID:952A42C0-E06A-400D-BAE7-1F26DE702556-32-1422_awayreminder@1874.badminto
 nners.net
DTSTAMP:20260420T072403Z
SUMMARY:Uitmatch bevestigd? (Amateurs 2D (73) - Opslag 2D (64))
DESCRIPTION:Je hebt 72 uur na aanvang om een uitmatch op Badmintonvlaandere
 n in te vullen. Match info: Amateurs 2D (73) - Opslag 2D (64) - Link: http
 s://www.badmintonvlaanderen.be/sport/teammatch.aspx?id=952A42C0-E06A-400D-
 BAE7-1F26DE702556&match=1422
DTSTART;TZID=Europe/Brussels:20240307T200000
DTEND;TZID=Europe/Brussels:20240307T200000
END:VEVENT
END:VCALENDAR