BEGIN:VCALENDAR
VERSION:2.0
PRODID:spatie/icalendar-generator
NAME:essen_1d_88_reminders
X-WR-CALNAME:essen_1d_88_reminders
BEGIN:VTIMEZONE
TZID:Europe/Brussels
BEGIN:DAYLIGHT
DTSTART:20230326T010000
TZOFFSETFROM:+0100
TZOFFSETTO:+0200
END:DAYLIGHT
BEGIN:STANDARD
DTSTART:20231029T030000
TZOFFSETFROM:+0200
TZOFFSETTO:+0100
END:STANDARD
BEGIN:DAYLIGHT
DTSTART:20240331T010000
TZOFFSETFROM:+0100
TZOFFSETTO:+0200
END:DAYLIGHT
END:VTIMEZONE
BEGIN:VTIMEZONE
TZID:UTC
BEGIN:STANDARD
DTSTART:20250724T072435
TZOFFSETFROM:+0000
TZOFFSETTO:+0000
END:STANDARD
END:VTIMEZONE
BEGIN:VEVENT
UID:952A42C0-E06A-400D-BAE7-1F26DE702556-32-1420_homereminder@1918.badminto
 nners.net
DTSTAMP:20260420T072435Z
SUMMARY:Thuismatch ingevuld? (Essen 1D (88) - Smash 1D (68))
DESCRIPTION:Je hebt 36 uur na aanvang om een thuismatch op Badmintonvlaande
 ren in te vullen. Match info: Essen 1D (88) - Smash 1D (68) - Link: https:
 //www.badmintonvlaanderen.be/sport/teammatch.aspx?id=952A42C0-E06A-400D-BA
 E7-1F26DE702556&match=1420
DTSTART;TZID=Europe/Brussels:20230926T070000
DTEND;TZID=Europe/Brussels:20230926T070000
END:VEVENT
BEGIN:VEVENT
UID:952A42C0-E06A-400D-BAE7-1F26DE702556-32-1432_homereminder@1918.badminto
 nners.net
DTSTAMP:20260420T072435Z
SUMMARY:Thuismatch ingevuld? (Essen 1D (88) - Merksplas 2D (90))
DESCRIPTION:Je hebt 36 uur na aanvang om een thuismatch op Badmintonvlaande
 ren in te vullen. Match info: Essen 1D (88) - Merksplas 2D (90) - Link: ht
 tps://www.badmintonvlaanderen.be/sport/teammatch.aspx?id=952A42C0-E06A-400
 D-BAE7-1F26DE702556&match=1432
DTSTART;TZID=Europe/Brussels:20231024T070000
DTEND;TZID=Europe/Brussels:20231024T070000
END:VEVENT
BEGIN:VEVENT
UID:952A42C0-E06A-400D-BAE7-1F26DE702556-32-1408_homereminder@1918.badminto
 nners.net
DTSTAMP:20260420T072435Z
SUMMARY:Thuismatch ingevuld? (Essen 1D (88) - Klein Boom 3D (63))
DESCRIPTION:Je hebt 36 uur na aanvang om een thuismatch op Badmintonvlaande
 ren in te vullen. Match info: Essen 1D (88) - Klein Boom 3D (63) - Link: h
 ttps://www.badmintonvlaanderen.be/sport/teammatch.aspx?id=952A42C0-E06A-40
 0D-BAE7-1F26DE702556&match=1408
DTSTART;TZID=Europe/Brussels:20231219T070000
DTEND;TZID=Europe/Brussels:20231219T070000
END:VEVENT
BEGIN:VEVENT
UID:952A42C0-E06A-400D-BAE7-1F26DE702556-32-1414_homereminder@1918.badminto
 nners.net
DTSTAMP:20260420T072435Z
SUMMARY:Thuismatch ingevuld? (Essen 1D (88) - Amateurs 2D (73))
DESCRIPTION:Je hebt 36 uur na aanvang om een thuismatch op Badmintonvlaande
 ren in te vullen. Match info: Essen 1D (88) - Amateurs 2D (73) - Link: htt
 ps://www.badmintonvlaanderen.be/sport/teammatch.aspx?id=952A42C0-E06A-400D
 -BAE7-1F26DE702556&match=1414
DTSTART;TZID=Europe/Brussels:20240116T070000
DTEND;TZID=Europe/Brussels:20240116T070000
END:VEVENT
BEGIN:VEVENT
UID:952A42C0-E06A-400D-BAE7-1F26DE702556-32-1426_homereminder@1918.badminto
 nners.net
DTSTAMP:20260420T072435Z
SUMMARY:Thuismatch ingevuld? (Essen 1D (88) - Opslag 2D (64))
DESCRIPTION:Je hebt 36 uur na aanvang om een thuismatch op Badmintonvlaande
 ren in te vullen. Match info: Essen 1D (88) - Opslag 2D (64) - Link: https
 ://www.badmintonvlaanderen.be/sport/teammatch.aspx?id=952A42C0-E06A-400D-B
 AE7-1F26DE702556&match=1426
DTSTART;TZID=Europe/Brussels:20240213T070000
DTEND;TZID=Europe/Brussels:20240213T070000
END:VEVENT
BEGIN:VEVENT
UID:952A42C0-E06A-400D-BAE7-1F26DE702556-32-1438_homereminder@1918.badminto
 nners.net
DTSTAMP:20260420T072435Z
SUMMARY:Thuismatch ingevuld? (Essen 1D (88) - Plumula 2D (67))
DESCRIPTION:Je hebt 36 uur na aanvang om een thuismatch op Badmintonvlaande
 ren in te vullen. Match info: Essen 1D (88) - Plumula 2D (67) - Link: http
 s://www.badmintonvlaanderen.be/sport/teammatch.aspx?id=952A42C0-E06A-400D-
 BAE7-1F26DE702556&match=1438
DTSTART;TZID=Europe/Brussels:20240312T070000
DTEND;TZID=Europe/Brussels:20240312T070000
END:VEVENT
BEGIN:VEVENT
UID:952A42C0-E06A-400D-BAE7-1F26DE702556-32-1440_awayreminder@1918.badminto
 nners.net
DTSTAMP:20260420T072435Z
SUMMARY:Uitmatch bevestigd? (Amateurs 2D (73) - Essen 1D (88))
DESCRIPTION:Je hebt 72 uur na aanvang om een uitmatch op Badmintonvlaandere
 n in te vullen. Match info: Amateurs 2D (73) - Essen 1D (88) - Link: https
 ://www.badmintonvlaanderen.be/sport/teammatch.aspx?id=952A42C0-E06A-400D-B
 AE7-1F26DE702556&match=1440
DTSTART;TZID=Europe/Brussels:20231005T200000
DTEND;TZID=Europe/Brussels:20231005T200000
END:VEVENT
BEGIN:VEVENT
UID:952A42C0-E06A-400D-BAE7-1F26DE702556-32-1442_awayreminder@1918.badminto
 nners.net
DTSTAMP:20260420T072435Z
SUMMARY:Uitmatch bevestigd? (Opslag 2D (64) - Essen 1D (88))
DESCRIPTION:Je hebt 72 uur na aanvang om een uitmatch op Badmintonvlaandere
 n in te vullen. Match info: Opslag 2D (64) - Essen 1D (88) - Link: https:/
 /www.badmintonvlaanderen.be/sport/teammatch.aspx?id=952A42C0-E06A-400D-BAE
 7-1F26DE702556&match=1442
DTSTART;TZID=Europe/Brussels:20231011T191500
DTEND;TZID=Europe/Brussels:20231011T191500
END:VEVENT
BEGIN:VEVENT
UID:952A42C0-E06A-400D-BAE7-1F26DE702556-32-1444_awayreminder@1918.badminto
 nners.net
DTSTAMP:20260420T072435Z
SUMMARY:Uitmatch bevestigd? (Plumula 2D (67) - Essen 1D (88))
DESCRIPTION:Je hebt 72 uur na aanvang om een uitmatch op Badmintonvlaandere
 n in te vullen. Match info: Plumula 2D (67) - Essen 1D (88) - Link: https:
 //www.badmintonvlaanderen.be/sport/teammatch.aspx?id=952A42C0-E06A-400D-BA
 E7-1F26DE702556&match=1444
DTSTART;TZID=Europe/Brussels:20231122T173000
DTEND;TZID=Europe/Brussels:20231122T173000
END:VEVENT
BEGIN:VEVENT
UID:952A42C0-E06A-400D-BAE7-1F26DE702556-32-1441_awayreminder@1918.badminto
 nners.net
DTSTAMP:20260420T072435Z
SUMMARY:Uitmatch bevestigd? (Smash 1D (68) - Essen 1D (88))
DESCRIPTION:Je hebt 72 uur na aanvang om een uitmatch op Badmintonvlaandere
 n in te vullen. Match info: Smash 1D (68) - Essen 1D (88) - Link: https://
 www.badmintonvlaanderen.be/sport/teammatch.aspx?id=952A42C0-E06A-400D-BAE7
 -1F26DE702556&match=1441
DTSTART;TZID=Europe/Brussels:20240131T100000
DTEND;TZID=Europe/Brussels:20240131T100000
END:VEVENT
BEGIN:VEVENT
UID:952A42C0-E06A-400D-BAE7-1F26DE702556-32-1443_awayreminder@1918.badminto
 nners.net
DTSTAMP:20260420T072435Z
SUMMARY:Uitmatch bevestigd? (Merksplas 2D (90) - Essen 1D (88))
DESCRIPTION:Je hebt 72 uur na aanvang om een uitmatch op Badmintonvlaandere
 n in te vullen. Match info: Merksplas 2D (90) - Essen 1D (88) - Link: http
 s://www.badmintonvlaanderen.be/sport/teammatch.aspx?id=952A42C0-E06A-400D-
 BAE7-1F26DE702556&match=1443
DTSTART;TZID=Europe/Brussels:20240228T183000
DTEND;TZID=Europe/Brussels:20240228T183000
END:VEVENT
BEGIN:VEVENT
UID:952A42C0-E06A-400D-BAE7-1F26DE702556-32-1439_awayreminder@1918.badminto
 nners.net
DTSTAMP:20260420T072435Z
SUMMARY:Uitmatch bevestigd? (Klein Boom 3D (63) - Essen 1D (88))
DESCRIPTION:Je hebt 72 uur na aanvang om een uitmatch op Badmintonvlaandere
 n in te vullen. Match info: Klein Boom 3D (63) - Essen 1D (88) - Link: htt
 ps://www.badmintonvlaanderen.be/sport/teammatch.aspx?id=952A42C0-E06A-400D
 -BAE7-1F26DE702556&match=1439
DTSTART;TZID=Europe/Brussels:20240410T190000
DTEND;TZID=Europe/Brussels:20240410T190000
END:VEVENT
END:VCALENDAR