BEGIN:VCALENDAR
VERSION:2.0
PRODID:spatie/icalendar-generator
NAME:merksplas_2d_90_reminders
X-WR-CALNAME:merksplas_2d_90_reminders
BEGIN:VTIMEZONE
TZID:Europe/Brussels
BEGIN:DAYLIGHT
DTSTART:20230326T010000
TZOFFSETFROM:+0100
TZOFFSETTO:+0200
END:DAYLIGHT
BEGIN:STANDARD
DTSTART:20231029T030000
TZOFFSETFROM:+0200
TZOFFSETTO:+0100
END:STANDARD
BEGIN:DAYLIGHT
DTSTART:20240331T010000
TZOFFSETFROM:+0100
TZOFFSETTO:+0200
END:DAYLIGHT
END:VTIMEZONE
BEGIN:VTIMEZONE
TZID:UTC
BEGIN:STANDARD
DTSTART:20250724T072435
TZOFFSETFROM:+0000
TZOFFSETTO:+0000
END:STANDARD
END:VTIMEZONE
BEGIN:VEVENT
UID:952A42C0-E06A-400D-BAE7-1F26DE702556-32-1437_homereminder@1919.badminto
 nners.net
DTSTAMP:20260420T072435Z
SUMMARY:Thuismatch ingevuld? (Merksplas 2D (90) - Plumula 2D (67))
DESCRIPTION:Je hebt 36 uur na aanvang om een thuismatch op Badmintonvlaande
 ren in te vullen. Match info: Merksplas 2D (90) - Plumula 2D (67) - Link: 
 https://www.badmintonvlaanderen.be/sport/teammatch.aspx?id=952A42C0-E06A-4
 00D-BAE7-1F26DE702556&match=1437
DTSTART;TZID=Europe/Brussels:20231010T063000
DTEND;TZID=Europe/Brussels:20231010T063000
END:VEVENT
BEGIN:VEVENT
UID:952A42C0-E06A-400D-BAE7-1F26DE702556-32-1406_homereminder@1919.badminto
 nners.net
DTSTAMP:20260420T072435Z
SUMMARY:Thuismatch ingevuld? (Merksplas 2D (90) - Klein Boom 3D (63))
DESCRIPTION:Je hebt 36 uur na aanvang om een thuismatch op Badmintonvlaande
 ren in te vullen. Match info: Merksplas 2D (90) - Klein Boom 3D (63) - Lin
 k: https://www.badmintonvlaanderen.be/sport/teammatch.aspx?id=952A42C0-E06
 A-400D-BAE7-1F26DE702556&match=1406
DTSTART;TZID=Europe/Brussels:20231121T063000
DTEND;TZID=Europe/Brussels:20231121T063000
END:VEVENT
BEGIN:VEVENT
UID:952A42C0-E06A-400D-BAE7-1F26DE702556-32-1418_homereminder@1919.badminto
 nners.net
DTSTAMP:20260420T072435Z
SUMMARY:Thuismatch ingevuld? (Merksplas 2D (90) - Smash 1D (68))
DESCRIPTION:Je hebt 36 uur na aanvang om een thuismatch op Badmintonvlaande
 ren in te vullen. Match info: Merksplas 2D (90) - Smash 1D (68) - Link: ht
 tps://www.badmintonvlaanderen.be/sport/teammatch.aspx?id=952A42C0-E06A-400
 D-BAE7-1F26DE702556&match=1418
DTSTART;TZID=Europe/Brussels:20231219T063000
DTEND;TZID=Europe/Brussels:20231219T063000
END:VEVENT
BEGIN:VEVENT
UID:952A42C0-E06A-400D-BAE7-1F26DE702556-32-1424_homereminder@1919.badminto
 nners.net
DTSTAMP:20260420T072435Z
SUMMARY:Thuismatch ingevuld? (Merksplas 2D (90) - Opslag 2D (64))
DESCRIPTION:Je hebt 36 uur na aanvang om een thuismatch op Badmintonvlaande
 ren in te vullen. Match info: Merksplas 2D (90) - Opslag 2D (64) - Link: h
 ttps://www.badmintonvlaanderen.be/sport/teammatch.aspx?id=952A42C0-E06A-40
 0D-BAE7-1F26DE702556&match=1424
DTSTART;TZID=Europe/Brussels:20240116T063000
DTEND;TZID=Europe/Brussels:20240116T063000
END:VEVENT
BEGIN:VEVENT
UID:952A42C0-E06A-400D-BAE7-1F26DE702556-32-1443_homereminder@1919.badminto
 nners.net
DTSTAMP:20260420T072435Z
SUMMARY:Thuismatch ingevuld? (Merksplas 2D (90) - Essen 1D (88))
DESCRIPTION:Je hebt 36 uur na aanvang om een thuismatch op Badmintonvlaande
 ren in te vullen. Match info: Merksplas 2D (90) - Essen 1D (88) - Link: ht
 tps://www.badmintonvlaanderen.be/sport/teammatch.aspx?id=952A42C0-E06A-400
 D-BAE7-1F26DE702556&match=1443
DTSTART;TZID=Europe/Brussels:20240227T063000
DTEND;TZID=Europe/Brussels:20240227T063000
END:VEVENT
BEGIN:VEVENT
UID:952A42C0-E06A-400D-BAE7-1F26DE702556-32-1412_homereminder@1919.badminto
 nners.net
DTSTAMP:20260420T072435Z
SUMMARY:Thuismatch ingevuld? (Merksplas 2D (90) - Amateurs 2D (73))
DESCRIPTION:Je hebt 36 uur na aanvang om een thuismatch op Badmintonvlaande
 ren in te vullen. Match info: Merksplas 2D (90) - Amateurs 2D (73) - Link:
  https://www.badmintonvlaanderen.be/sport/teammatch.aspx?id=952A42C0-E06A-
 400D-BAE7-1F26DE702556&match=1412
DTSTART;TZID=Europe/Brussels:20240326T063000
DTEND;TZID=Europe/Brussels:20240326T063000
END:VEVENT
BEGIN:VEVENT
UID:952A42C0-E06A-400D-BAE7-1F26DE702556-32-1430_awayreminder@1919.badminto
 nners.net
DTSTAMP:20260420T072435Z
SUMMARY:Uitmatch bevestigd? (Opslag 2D (64) - Merksplas 2D (90))
DESCRIPTION:Je hebt 72 uur na aanvang om een uitmatch op Badmintonvlaandere
 n in te vullen. Match info: Opslag 2D (64) - Merksplas 2D (90) - Link: htt
 ps://www.badmintonvlaanderen.be/sport/teammatch.aspx?id=952A42C0-E06A-400D
 -BAE7-1F26DE702556&match=1430
DTSTART;TZID=Europe/Brussels:20230913T191500
DTEND;TZID=Europe/Brussels:20230913T191500
END:VEVENT
BEGIN:VEVENT
UID:952A42C0-E06A-400D-BAE7-1F26DE702556-32-1432_awayreminder@1919.badminto
 nners.net
DTSTAMP:20260420T072435Z
SUMMARY:Uitmatch bevestigd? (Essen 1D (88) - Merksplas 2D (90))
DESCRIPTION:Je hebt 72 uur na aanvang om een uitmatch op Badmintonvlaandere
 n in te vullen. Match info: Essen 1D (88) - Merksplas 2D (90) - Link: http
 s://www.badmintonvlaanderen.be/sport/teammatch.aspx?id=952A42C0-E06A-400D-
 BAE7-1F26DE702556&match=1432
DTSTART;TZID=Europe/Brussels:20231025T190000
DTEND;TZID=Europe/Brussels:20231025T190000
END:VEVENT
BEGIN:VEVENT
UID:952A42C0-E06A-400D-BAE7-1F26DE702556-32-1428_awayreminder@1919.badminto
 nners.net
DTSTAMP:20260420T072435Z
SUMMARY:Uitmatch bevestigd? (Amateurs 2D (73) - Merksplas 2D (90))
DESCRIPTION:Je hebt 72 uur na aanvang om een uitmatch op Badmintonvlaandere
 n in te vullen. Match info: Amateurs 2D (73) - Merksplas 2D (90) - Link: h
 ttps://www.badmintonvlaanderen.be/sport/teammatch.aspx?id=952A42C0-E06A-40
 0D-BAE7-1F26DE702556&match=1428
DTSTART;TZID=Europe/Brussels:20231130T200000
DTEND;TZID=Europe/Brussels:20231130T200000
END:VEVENT
BEGIN:VEVENT
UID:952A42C0-E06A-400D-BAE7-1F26DE702556-32-1431_awayreminder@1919.badminto
 nners.net
DTSTAMP:20260420T072435Z
SUMMARY:Uitmatch bevestigd? (Plumula 2D (67) - Merksplas 2D (90))
DESCRIPTION:Je hebt 72 uur na aanvang om een uitmatch op Badmintonvlaandere
 n in te vullen. Match info: Plumula 2D (67) - Merksplas 2D (90) - Link: ht
 tps://www.badmintonvlaanderen.be/sport/teammatch.aspx?id=952A42C0-E06A-400
 D-BAE7-1F26DE702556&match=1431
DTSTART;TZID=Europe/Brussels:20240214T173000
DTEND;TZID=Europe/Brussels:20240214T173000
END:VEVENT
BEGIN:VEVENT
UID:952A42C0-E06A-400D-BAE7-1F26DE702556-32-1427_awayreminder@1919.badminto
 nners.net
DTSTAMP:20260420T072435Z
SUMMARY:Uitmatch bevestigd? (Klein Boom 3D (63) - Merksplas 2D (90))
DESCRIPTION:Je hebt 72 uur na aanvang om een uitmatch op Badmintonvlaandere
 n in te vullen. Match info: Klein Boom 3D (63) - Merksplas 2D (90) - Link:
  https://www.badmintonvlaanderen.be/sport/teammatch.aspx?id=952A42C0-E06A-
 400D-BAE7-1F26DE702556&match=1427
DTSTART;TZID=Europe/Brussels:20240313T190000
DTEND;TZID=Europe/Brussels:20240313T190000
END:VEVENT
BEGIN:VEVENT
UID:952A42C0-E06A-400D-BAE7-1F26DE702556-32-1429_awayreminder@1919.badminto
 nners.net
DTSTAMP:20260420T072435Z
SUMMARY:Uitmatch bevestigd? (Smash 1D (68) - Merksplas 2D (90))
DESCRIPTION:Je hebt 72 uur na aanvang om een uitmatch op Badmintonvlaandere
 n in te vullen. Match info: Smash 1D (68) - Merksplas 2D (90) - Link: http
 s://www.badmintonvlaanderen.be/sport/teammatch.aspx?id=952A42C0-E06A-400D-
 BAE7-1F26DE702556&match=1429
DTSTART;TZID=Europe/Brussels:20240424T100000
DTEND;TZID=Europe/Brussels:20240424T100000
END:VEVENT
END:VCALENDAR