BEGIN:VCALENDAR
VERSION:2.0
PRODID:spatie/icalendar-generator
NAME:spinshuttle_1h_52_reminders
X-WR-CALNAME:spinshuttle_1h_52_reminders
BEGIN:VTIMEZONE
TZID:Europe/Brussels
BEGIN:DAYLIGHT
DTSTART:20230326T010000
TZOFFSETFROM:+0100
TZOFFSETTO:+0200
END:DAYLIGHT
BEGIN:STANDARD
DTSTART:20231029T030000
TZOFFSETFROM:+0200
TZOFFSETTO:+0100
END:STANDARD
BEGIN:DAYLIGHT
DTSTART:20240331T010000
TZOFFSETFROM:+0100
TZOFFSETTO:+0200
END:DAYLIGHT
END:VTIMEZONE
BEGIN:VTIMEZONE
TZID:UTC
BEGIN:STANDARD
DTSTART:20250724T072403
TZOFFSETFROM:+0000
TZOFFSETTO:+0000
END:STANDARD
END:VTIMEZONE
BEGIN:VEVENT
UID:952A42C0-E06A-400D-BAE7-1F26DE702556-4-151_homereminder@1849.badmintonn
 ers.net
DTSTAMP:20260420T072403Z
SUMMARY:Thuismatch ingevuld? (Spinshuttle 1H (52) - Herentals 2H (53))
DESCRIPTION:Je hebt 36 uur na aanvang om een thuismatch op Badmintonvlaande
 ren in te vullen. Match info: Spinshuttle 1H (52) - Herentals 2H (53) - Li
 nk: https://www.badmintonvlaanderen.be/sport/teammatch.aspx?id=952A42C0-E0
 6A-400D-BAE7-1F26DE702556&match=151
DTSTART;TZID=Europe/Brussels:20230921T080000
DTEND;TZID=Europe/Brussels:20230921T080000
END:VEVENT
BEGIN:VEVENT
UID:952A42C0-E06A-400D-BAE7-1F26DE702556-4-170_homereminder@1849.badmintonn
 ers.net
DTSTAMP:20260420T072403Z
SUMMARY:Thuismatch ingevuld? (Spinshuttle 1H (52) - Royal Antwerp 2H (50))
DESCRIPTION:Je hebt 36 uur na aanvang om een thuismatch op Badmintonvlaande
 ren in te vullen. Match info: Spinshuttle 1H (52) - Royal Antwerp 2H (50) 
 - Link: https://www.badmintonvlaanderen.be/sport/teammatch.aspx?id=952A42C
 0-E06A-400D-BAE7-1F26DE702556&match=170
DTSTART;TZID=Europe/Brussels:20231116T080000
DTEND;TZID=Europe/Brussels:20231116T080000
END:VEVENT
BEGIN:VEVENT
UID:952A42C0-E06A-400D-BAE7-1F26DE702556-4-139_homereminder@1849.badmintonn
 ers.net
DTSTAMP:20260420T072403Z
SUMMARY:Thuismatch ingevuld? (Spinshuttle 1H (52) - Merksplas 1H (55))
DESCRIPTION:Je hebt 36 uur na aanvang om een thuismatch op Badmintonvlaande
 ren in te vullen. Match info: Spinshuttle 1H (52) - Merksplas 1H (55) - Li
 nk: https://www.badmintonvlaanderen.be/sport/teammatch.aspx?id=952A42C0-E0
 6A-400D-BAE7-1F26DE702556&match=139
DTSTART;TZID=Europe/Brussels:20231214T080000
DTEND;TZID=Europe/Brussels:20231214T080000
END:VEVENT
BEGIN:VEVENT
UID:952A42C0-E06A-400D-BAE7-1F26DE702556-4-145_homereminder@1849.badmintonn
 ers.net
DTSTAMP:20260420T072403Z
SUMMARY:Thuismatch ingevuld? (Spinshuttle 1H (52) - Olympia 1H (57))
DESCRIPTION:Je hebt 36 uur na aanvang om een thuismatch op Badmintonvlaande
 ren in te vullen. Match info: Spinshuttle 1H (52) - Olympia 1H (57) - Link
 : https://www.badmintonvlaanderen.be/sport/teammatch.aspx?id=952A42C0-E06A
 -400D-BAE7-1F26DE702556&match=145
DTSTART;TZID=Europe/Brussels:20240125T080000
DTEND;TZID=Europe/Brussels:20240125T080000
END:VEVENT
BEGIN:VEVENT
UID:952A42C0-E06A-400D-BAE7-1F26DE702556-4-157_homereminder@1849.badmintonn
 ers.net
DTSTAMP:20260420T072403Z
SUMMARY:Thuismatch ingevuld? (Spinshuttle 1H (52) - Klein Boom 1H (41))
DESCRIPTION:Je hebt 36 uur na aanvang om een thuismatch op Badmintonvlaande
 ren in te vullen. Match info: Spinshuttle 1H (52) - Klein Boom 1H (41) - L
 ink: https://www.badmintonvlaanderen.be/sport/teammatch.aspx?id=952A42C0-E
 06A-400D-BAE7-1F26DE702556&match=157
DTSTART;TZID=Europe/Brussels:20240222T080000
DTEND;TZID=Europe/Brussels:20240222T080000
END:VEVENT
BEGIN:VEVENT
UID:952A42C0-E06A-400D-BAE7-1F26DE702556-4-133_homereminder@1849.badmintonn
 ers.net
DTSTAMP:20260420T072403Z
SUMMARY:Thuismatch ingevuld? (Spinshuttle 1H (52) - Bacss 3H (48))
DESCRIPTION:Je hebt 36 uur na aanvang om een thuismatch op Badmintonvlaande
 ren in te vullen. Match info: Spinshuttle 1H (52) - Bacss 3H (48) - Link: 
 https://www.badmintonvlaanderen.be/sport/teammatch.aspx?id=952A42C0-E06A-4
 00D-BAE7-1F26DE702556&match=133
DTSTART;TZID=Europe/Brussels:20240321T080000
DTEND;TZID=Europe/Brussels:20240321T080000
END:VEVENT
BEGIN:VEVENT
UID:952A42C0-E06A-400D-BAE7-1F26DE702556-4-161_awayreminder@1849.badmintonn
 ers.net
DTSTAMP:20260420T072403Z
SUMMARY:Uitmatch bevestigd? (Olympia 1H (57) - Spinshuttle 1H (52))
DESCRIPTION:Je hebt 72 uur na aanvang om een uitmatch op Badmintonvlaandere
 n in te vullen. Match info: Olympia 1H (57) - Spinshuttle 1H (52) - Link: 
 https://www.badmintonvlaanderen.be/sport/teammatch.aspx?id=952A42C0-E06A-4
 00D-BAE7-1F26DE702556&match=161
DTSTART;TZID=Europe/Brussels:20231003T093000
DTEND;TZID=Europe/Brussels:20231003T093000
END:VEVENT
BEGIN:VEVENT
UID:952A42C0-E06A-400D-BAE7-1F26DE702556-4-163_awayreminder@1849.badmintonn
 ers.net
DTSTAMP:20260420T072403Z
SUMMARY:Uitmatch bevestigd? (Klein Boom 1H (41) - Spinshuttle 1H (52))
DESCRIPTION:Je hebt 72 uur na aanvang om een uitmatch op Badmintonvlaandere
 n in te vullen. Match info: Klein Boom 1H (41) - Spinshuttle 1H (52) - Lin
 k: https://www.badmintonvlaanderen.be/sport/teammatch.aspx?id=952A42C0-E06
 A-400D-BAE7-1F26DE702556&match=163
DTSTART;TZID=Europe/Brussels:20231011T190000
DTEND;TZID=Europe/Brussels:20231011T190000
END:VEVENT
BEGIN:VEVENT
UID:952A42C0-E06A-400D-BAE7-1F26DE702556-4-159_awayreminder@1849.badmintonn
 ers.net
DTSTAMP:20260420T072403Z
SUMMARY:Uitmatch bevestigd? (Bacss 3H (48) - Spinshuttle 1H (52))
DESCRIPTION:Je hebt 72 uur na aanvang om een uitmatch op Badmintonvlaandere
 n in te vullen. Match info: Bacss 3H (48) - Spinshuttle 1H (52) - Link: ht
 tps://www.badmintonvlaanderen.be/sport/teammatch.aspx?id=952A42C0-E06A-400
 D-BAE7-1F26DE702556&match=159
DTSTART;TZID=Europe/Brussels:20231204T201500
DTEND;TZID=Europe/Brussels:20231204T201500
END:VEVENT
BEGIN:VEVENT
UID:952A42C0-E06A-400D-BAE7-1F26DE702556-4-162_awayreminder@1849.badmintonn
 ers.net
DTSTAMP:20260420T072403Z
SUMMARY:Uitmatch bevestigd? (Herentals 2H (53) - Spinshuttle 1H (52))
DESCRIPTION:Je hebt 72 uur na aanvang om een uitmatch op Badmintonvlaandere
 n in te vullen. Match info: Herentals 2H (53) - Spinshuttle 1H (52) - Link
 : https://www.badmintonvlaanderen.be/sport/teammatch.aspx?id=952A42C0-E06A
 -400D-BAE7-1F26DE702556&match=162
DTSTART;TZID=Europe/Brussels:20240208T210000
DTEND;TZID=Europe/Brussels:20240208T210000
END:VEVENT
BEGIN:VEVENT
UID:952A42C0-E06A-400D-BAE7-1F26DE702556-4-160_awayreminder@1849.badmintonn
 ers.net
DTSTAMP:20260420T072403Z
SUMMARY:Uitmatch bevestigd? (Merksplas 1H (55) - Spinshuttle 1H (52))
DESCRIPTION:Je hebt 72 uur na aanvang om een uitmatch op Badmintonvlaandere
 n in te vullen. Match info: Merksplas 1H (55) - Spinshuttle 1H (52) - Link
 : https://www.badmintonvlaanderen.be/sport/teammatch.aspx?id=952A42C0-E06A
 -400D-BAE7-1F26DE702556&match=160
DTSTART;TZID=Europe/Brussels:20240410T183000
DTEND;TZID=Europe/Brussels:20240410T183000
END:VEVENT
BEGIN:VEVENT
UID:952A42C0-E06A-400D-BAE7-1F26DE702556-4-164_awayreminder@1849.badmintonn
 ers.net
DTSTAMP:20260420T072403Z
SUMMARY:Uitmatch bevestigd? (Royal Antwerp 2H (50) - Spinshuttle 1H (52))
DESCRIPTION:Je hebt 72 uur na aanvang om een uitmatch op Badmintonvlaandere
 n in te vullen. Match info: Royal Antwerp 2H (50) - Spinshuttle 1H (52) - 
 Link: https://www.badmintonvlaanderen.be/sport/teammatch.aspx?id=952A42C0-
 E06A-400D-BAE7-1F26DE702556&match=164
DTSTART;TZID=Europe/Brussels:20240424T180000
DTEND;TZID=Europe/Brussels:20240424T180000
END:VEVENT
END:VCALENDAR