BEGIN:VCALENDAR
VERSION:2.0
PRODID:spatie/icalendar-generator
NAME:herentals_2h_53_reminders
X-WR-CALNAME:herentals_2h_53_reminders
BEGIN:VTIMEZONE
TZID:Europe/Brussels
BEGIN:DAYLIGHT
DTSTART:20230326T010000
TZOFFSETFROM:+0100
TZOFFSETTO:+0200
END:DAYLIGHT
BEGIN:STANDARD
DTSTART:20231029T030000
TZOFFSETFROM:+0200
TZOFFSETTO:+0100
END:STANDARD
BEGIN:DAYLIGHT
DTSTART:20240331T010000
TZOFFSETFROM:+0100
TZOFFSETTO:+0200
END:DAYLIGHT
END:VTIMEZONE
BEGIN:VTIMEZONE
TZID:UTC
BEGIN:STANDARD
DTSTART:20250724T072434
TZOFFSETFROM:+0000
TZOFFSETTO:+0000
END:STANDARD
END:VTIMEZONE
BEGIN:VEVENT
UID:952A42C0-E06A-400D-BAE7-1F26DE702556-4-168_homereminder@1854.badmintonn
 ers.net
DTSTAMP:20260420T072434Z
SUMMARY:Thuismatch ingevuld? (Herentals 2H (53) - Royal Antwerp 2H (50))
DESCRIPTION:Je hebt 36 uur na aanvang om een thuismatch op Badmintonvlaande
 ren in te vullen. Match info: Herentals 2H (53) - Royal Antwerp 2H (50) - 
 Link: https://www.badmintonvlaanderen.be/sport/teammatch.aspx?id=952A42C0-
 E06A-400D-BAE7-1F26DE702556&match=168
DTSTART;TZID=Europe/Brussels:20231004T090000
DTEND;TZID=Europe/Brussels:20231004T090000
END:VEVENT
BEGIN:VEVENT
UID:952A42C0-E06A-400D-BAE7-1F26DE702556-4-137_homereminder@1854.badmintonn
 ers.net
DTSTAMP:20260420T072434Z
SUMMARY:Thuismatch ingevuld? (Herentals 2H (53) - Merksplas 1H (55))
DESCRIPTION:Je hebt 36 uur na aanvang om een thuismatch op Badmintonvlaande
 ren in te vullen. Match info: Herentals 2H (53) - Merksplas 1H (55) - Link
 : https://www.badmintonvlaanderen.be/sport/teammatch.aspx?id=952A42C0-E06A
 -400D-BAE7-1F26DE702556&match=137
DTSTART;TZID=Europe/Brussels:20231115T090000
DTEND;TZID=Europe/Brussels:20231115T090000
END:VEVENT
BEGIN:VEVENT
UID:952A42C0-E06A-400D-BAE7-1F26DE702556-4-156_homereminder@1854.badmintonn
 ers.net
DTSTAMP:20260420T072434Z
SUMMARY:Thuismatch ingevuld? (Herentals 2H (53) - Klein Boom 1H (41))
DESCRIPTION:Je hebt 36 uur na aanvang om een thuismatch op Badmintonvlaande
 ren in te vullen. Match info: Herentals 2H (53) - Klein Boom 1H (41) - Lin
 k: https://www.badmintonvlaanderen.be/sport/teammatch.aspx?id=952A42C0-E06
 A-400D-BAE7-1F26DE702556&match=156
DTSTART;TZID=Europe/Brussels:20231129T090000
DTEND;TZID=Europe/Brussels:20231129T090000
END:VEVENT
BEGIN:VEVENT
UID:952A42C0-E06A-400D-BAE7-1F26DE702556-4-162_homereminder@1854.badmintonn
 ers.net
DTSTAMP:20260420T072434Z
SUMMARY:Thuismatch ingevuld? (Herentals 2H (53) - Spinshuttle 1H (52))
DESCRIPTION:Je hebt 36 uur na aanvang om een thuismatch op Badmintonvlaande
 ren in te vullen. Match info: Herentals 2H (53) - Spinshuttle 1H (52) - Li
 nk: https://www.badmintonvlaanderen.be/sport/teammatch.aspx?id=952A42C0-E0
 6A-400D-BAE7-1F26DE702556&match=162
DTSTART;TZID=Europe/Brussels:20240207T090000
DTEND;TZID=Europe/Brussels:20240207T090000
END:VEVENT
BEGIN:VEVENT
UID:952A42C0-E06A-400D-BAE7-1F26DE702556-4-131_homereminder@1854.badmintonn
 ers.net
DTSTAMP:20260420T072434Z
SUMMARY:Thuismatch ingevuld? (Herentals 2H (53) - Bacss 3H (48))
DESCRIPTION:Je hebt 36 uur na aanvang om een thuismatch op Badmintonvlaande
 ren in te vullen. Match info: Herentals 2H (53) - Bacss 3H (48) - Link: ht
 tps://www.badmintonvlaanderen.be/sport/teammatch.aspx?id=952A42C0-E06A-400
 D-BAE7-1F26DE702556&match=131
DTSTART;TZID=Europe/Brussels:20240306T090000
DTEND;TZID=Europe/Brussels:20240306T090000
END:VEVENT
BEGIN:VEVENT
UID:952A42C0-E06A-400D-BAE7-1F26DE702556-4-143_homereminder@1854.badmintonn
 ers.net
DTSTAMP:20260420T072434Z
SUMMARY:Thuismatch ingevuld? (Herentals 2H (53) - Olympia 1H (57))
DESCRIPTION:Je hebt 36 uur na aanvang om een thuismatch op Badmintonvlaande
 ren in te vullen. Match info: Herentals 2H (53) - Olympia 1H (57) - Link: 
 https://www.badmintonvlaanderen.be/sport/teammatch.aspx?id=952A42C0-E06A-4
 00D-BAE7-1F26DE702556&match=143
DTSTART;TZID=Europe/Brussels:20240320T090000
DTEND;TZID=Europe/Brussels:20240320T090000
END:VEVENT
BEGIN:VEVENT
UID:952A42C0-E06A-400D-BAE7-1F26DE702556-4-151_awayreminder@1854.badmintonn
 ers.net
DTSTAMP:20260420T072434Z
SUMMARY:Uitmatch bevestigd? (Spinshuttle 1H (52) - Herentals 2H (53))
DESCRIPTION:Je hebt 72 uur na aanvang om een uitmatch op Badmintonvlaandere
 n in te vullen. Match info: Spinshuttle 1H (52) - Herentals 2H (53) - Link
 : https://www.badmintonvlaanderen.be/sport/teammatch.aspx?id=952A42C0-E06A
 -400D-BAE7-1F26DE702556&match=151
DTSTART;TZID=Europe/Brussels:20230922T200000
DTEND;TZID=Europe/Brussels:20230922T200000
END:VEVENT
BEGIN:VEVENT
UID:952A42C0-E06A-400D-BAE7-1F26DE702556-4-147_awayreminder@1854.badmintonn
 ers.net
DTSTAMP:20260420T072434Z
SUMMARY:Uitmatch bevestigd? (Bacss 3H (48) - Herentals 2H (53))
DESCRIPTION:Je hebt 72 uur na aanvang om een uitmatch op Badmintonvlaandere
 n in te vullen. Match info: Bacss 3H (48) - Herentals 2H (53) - Link: http
 s://www.badmintonvlaanderen.be/sport/teammatch.aspx?id=952A42C0-E06A-400D-
 BAE7-1F26DE702556&match=147
DTSTART;TZID=Europe/Brussels:20231023T201500
DTEND;TZID=Europe/Brussels:20231023T201500
END:VEVENT
BEGIN:VEVENT
UID:952A42C0-E06A-400D-BAE7-1F26DE702556-4-149_awayreminder@1854.badmintonn
 ers.net
DTSTAMP:20260420T072434Z
SUMMARY:Uitmatch bevestigd? (Olympia 1H (57) - Herentals 2H (53))
DESCRIPTION:Je hebt 72 uur na aanvang om een uitmatch op Badmintonvlaandere
 n in te vullen. Match info: Olympia 1H (57) - Herentals 2H (53) - Link: ht
 tps://www.badmintonvlaanderen.be/sport/teammatch.aspx?id=952A42C0-E06A-400
 D-BAE7-1F26DE702556&match=149
DTSTART;TZID=Europe/Brussels:20231205T093000
DTEND;TZID=Europe/Brussels:20231205T093000
END:VEVENT
BEGIN:VEVENT
UID:952A42C0-E06A-400D-BAE7-1F26DE702556-4-148_awayreminder@1854.badmintonn
 ers.net
DTSTAMP:20260420T072434Z
SUMMARY:Uitmatch bevestigd? (Merksplas 1H (55) - Herentals 2H (53))
DESCRIPTION:Je hebt 72 uur na aanvang om een uitmatch op Badmintonvlaandere
 n in te vullen. Match info: Merksplas 1H (55) - Herentals 2H (53) - Link: 
 https://www.badmintonvlaanderen.be/sport/teammatch.aspx?id=952A42C0-E06A-4
 00D-BAE7-1F26DE702556&match=148
DTSTART;TZID=Europe/Brussels:20240207T183000
DTEND;TZID=Europe/Brussels:20240207T183000
END:VEVENT
BEGIN:VEVENT
UID:952A42C0-E06A-400D-BAE7-1F26DE702556-4-150_awayreminder@1854.badmintonn
 ers.net
DTSTAMP:20260420T072434Z
SUMMARY:Uitmatch bevestigd? (Klein Boom 1H (41) - Herentals 2H (53))
DESCRIPTION:Je hebt 72 uur na aanvang om een uitmatch op Badmintonvlaandere
 n in te vullen. Match info: Klein Boom 1H (41) - Herentals 2H (53) - Link:
  https://www.badmintonvlaanderen.be/sport/teammatch.aspx?id=952A42C0-E06A-
 400D-BAE7-1F26DE702556&match=150
DTSTART;TZID=Europe/Brussels:20240214T190000
DTEND;TZID=Europe/Brussels:20240214T190000
END:VEVENT
BEGIN:VEVENT
UID:952A42C0-E06A-400D-BAE7-1F26DE702556-4-152_awayreminder@1854.badmintonn
 ers.net
DTSTAMP:20260420T072434Z
SUMMARY:Uitmatch bevestigd? (Royal Antwerp 2H (50) - Herentals 2H (53))
DESCRIPTION:Je hebt 72 uur na aanvang om een uitmatch op Badmintonvlaandere
 n in te vullen. Match info: Royal Antwerp 2H (50) - Herentals 2H (53) - Li
 nk: https://www.badmintonvlaanderen.be/sport/teammatch.aspx?id=952A42C0-E0
 6A-400D-BAE7-1F26DE702556&match=152
DTSTART;TZID=Europe/Brussels:20240228T180000
DTEND;TZID=Europe/Brussels:20240228T180000
END:VEVENT
END:VCALENDAR