BEGIN:VCALENDAR
VERSION:2.0
PRODID:spatie/icalendar-generator
NAME:royal_antwerp_2h_50_reminders
X-WR-CALNAME:royal_antwerp_2h_50_reminders
BEGIN:VTIMEZONE
TZID:Europe/Brussels
BEGIN:DAYLIGHT
DTSTART:20230326T010000
TZOFFSETFROM:+0100
TZOFFSETTO:+0200
END:DAYLIGHT
BEGIN:STANDARD
DTSTART:20231029T030000
TZOFFSETFROM:+0200
TZOFFSETTO:+0100
END:STANDARD
BEGIN:DAYLIGHT
DTSTART:20240331T010000
TZOFFSETFROM:+0100
TZOFFSETTO:+0200
END:DAYLIGHT
END:VTIMEZONE
BEGIN:VTIMEZONE
TZID:UTC
BEGIN:STANDARD
DTSTART:20250724T072405
TZOFFSETFROM:+0000
TZOFFSETTO:+0000
END:STANDARD
END:VTIMEZONE
BEGIN:VEVENT
UID:952A42C0-E06A-400D-BAE7-1F26DE702556-4-158_homereminder@1855.badmintonn
 ers.net
DTSTAMP:20260420T072405Z
SUMMARY:Thuismatch ingevuld? (Royal Antwerp 2H (50) - Klein Boom 1H (41))
DESCRIPTION:Je hebt 36 uur na aanvang om een thuismatch op Badmintonvlaande
 ren in te vullen. Match info: Royal Antwerp 2H (50) - Klein Boom 1H (41) -
  Link: https://www.badmintonvlaanderen.be/sport/teammatch.aspx?id=952A42C0
 -E06A-400D-BAE7-1F26DE702556&match=158
DTSTART;TZID=Europe/Brussels:20231024T070000
DTEND;TZID=Europe/Brussels:20231024T070000
END:VEVENT
BEGIN:VEVENT
UID:952A42C0-E06A-400D-BAE7-1F26DE702556-4-146_homereminder@1855.badmintonn
 ers.net
DTSTAMP:20260420T072405Z
SUMMARY:Thuismatch ingevuld? (Royal Antwerp 2H (50) - Olympia 1H (57))
DESCRIPTION:Je hebt 36 uur na aanvang om een thuismatch op Badmintonvlaande
 ren in te vullen. Match info: Royal Antwerp 2H (50) - Olympia 1H (57) - Li
 nk: https://www.badmintonvlaanderen.be/sport/teammatch.aspx?id=952A42C0-E0
 6A-400D-BAE7-1F26DE702556&match=146
DTSTART;TZID=Europe/Brussels:20231128T060000
DTEND;TZID=Europe/Brussels:20231128T060000
END:VEVENT
BEGIN:VEVENT
UID:952A42C0-E06A-400D-BAE7-1F26DE702556-4-134_homereminder@1855.badmintonn
 ers.net
DTSTAMP:20260420T072405Z
SUMMARY:Thuismatch ingevuld? (Royal Antwerp 2H (50) - Bacss 3H (48))
DESCRIPTION:Je hebt 36 uur na aanvang om een thuismatch op Badmintonvlaande
 ren in te vullen. Match info: Royal Antwerp 2H (50) - Bacss 3H (48) - Link
 : https://www.badmintonvlaanderen.be/sport/teammatch.aspx?id=952A42C0-E06A
 -400D-BAE7-1F26DE702556&match=134
DTSTART;TZID=Europe/Brussels:20231219T060000
DTEND;TZID=Europe/Brussels:20231219T060000
END:VEVENT
BEGIN:VEVENT
UID:952A42C0-E06A-400D-BAE7-1F26DE702556-4-140_homereminder@1855.badmintonn
 ers.net
DTSTAMP:20260420T072405Z
SUMMARY:Thuismatch ingevuld? (Royal Antwerp 2H (50) - Merksplas 1H (55))
DESCRIPTION:Je hebt 36 uur na aanvang om een thuismatch op Badmintonvlaande
 ren in te vullen. Match info: Royal Antwerp 2H (50) - Merksplas 1H (55) - 
 Link: https://www.badmintonvlaanderen.be/sport/teammatch.aspx?id=952A42C0-
 E06A-400D-BAE7-1F26DE702556&match=140
DTSTART;TZID=Europe/Brussels:20240130T060000
DTEND;TZID=Europe/Brussels:20240130T060000
END:VEVENT
BEGIN:VEVENT
UID:952A42C0-E06A-400D-BAE7-1F26DE702556-4-152_homereminder@1855.badmintonn
 ers.net
DTSTAMP:20260420T072405Z
SUMMARY:Thuismatch ingevuld? (Royal Antwerp 2H (50) - Herentals 2H (53))
DESCRIPTION:Je hebt 36 uur na aanvang om een thuismatch op Badmintonvlaande
 ren in te vullen. Match info: Royal Antwerp 2H (50) - Herentals 2H (53) - 
 Link: https://www.badmintonvlaanderen.be/sport/teammatch.aspx?id=952A42C0-
 E06A-400D-BAE7-1F26DE702556&match=152
DTSTART;TZID=Europe/Brussels:20240227T060000
DTEND;TZID=Europe/Brussels:20240227T060000
END:VEVENT
BEGIN:VEVENT
UID:952A42C0-E06A-400D-BAE7-1F26DE702556-4-164_homereminder@1855.badmintonn
 ers.net
DTSTAMP:20260420T072405Z
SUMMARY:Thuismatch ingevuld? (Royal Antwerp 2H (50) - Spinshuttle 1H (52))
DESCRIPTION:Je hebt 36 uur na aanvang om een thuismatch op Badmintonvlaande
 ren in te vullen. Match info: Royal Antwerp 2H (50) - Spinshuttle 1H (52) 
 - Link: https://www.badmintonvlaanderen.be/sport/teammatch.aspx?id=952A42C
 0-E06A-400D-BAE7-1F26DE702556&match=164
DTSTART;TZID=Europe/Brussels:20240423T060000
DTEND;TZID=Europe/Brussels:20240423T060000
END:VEVENT
BEGIN:VEVENT
UID:952A42C0-E06A-400D-BAE7-1F26DE702556-4-166_awayreminder@1855.badmintonn
 ers.net
DTSTAMP:20260420T072405Z
SUMMARY:Uitmatch bevestigd? (Merksplas 1H (55) - Royal Antwerp 2H (50))
DESCRIPTION:Je hebt 72 uur na aanvang om een uitmatch op Badmintonvlaandere
 n in te vullen. Match info: Merksplas 1H (55) - Royal Antwerp 2H (50) - Li
 nk: https://www.badmintonvlaanderen.be/sport/teammatch.aspx?id=952A42C0-E0
 6A-400D-BAE7-1F26DE702556&match=166
DTSTART;TZID=Europe/Brussels:20230913T183000
DTEND;TZID=Europe/Brussels:20230913T183000
END:VEVENT
BEGIN:VEVENT
UID:952A42C0-E06A-400D-BAE7-1F26DE702556-4-168_awayreminder@1855.badmintonn
 ers.net
DTSTAMP:20260420T072405Z
SUMMARY:Uitmatch bevestigd? (Herentals 2H (53) - Royal Antwerp 2H (50))
DESCRIPTION:Je hebt 72 uur na aanvang om een uitmatch op Badmintonvlaandere
 n in te vullen. Match info: Herentals 2H (53) - Royal Antwerp 2H (50) - Li
 nk: https://www.badmintonvlaanderen.be/sport/teammatch.aspx?id=952A42C0-E0
 6A-400D-BAE7-1F26DE702556&match=168
DTSTART;TZID=Europe/Brussels:20231005T210000
DTEND;TZID=Europe/Brussels:20231005T210000
END:VEVENT
BEGIN:VEVENT
UID:952A42C0-E06A-400D-BAE7-1F26DE702556-4-170_awayreminder@1855.badmintonn
 ers.net
DTSTAMP:20260420T072405Z
SUMMARY:Uitmatch bevestigd? (Spinshuttle 1H (52) - Royal Antwerp 2H (50))
DESCRIPTION:Je hebt 72 uur na aanvang om een uitmatch op Badmintonvlaandere
 n in te vullen. Match info: Spinshuttle 1H (52) - Royal Antwerp 2H (50) - 
 Link: https://www.badmintonvlaanderen.be/sport/teammatch.aspx?id=952A42C0-
 E06A-400D-BAE7-1F26DE702556&match=170
DTSTART;TZID=Europe/Brussels:20231117T200000
DTEND;TZID=Europe/Brussels:20231117T200000
END:VEVENT
BEGIN:VEVENT
UID:952A42C0-E06A-400D-BAE7-1F26DE702556-4-167_awayreminder@1855.badmintonn
 ers.net
DTSTAMP:20260420T072405Z
SUMMARY:Uitmatch bevestigd? (Olympia 1H (57) - Royal Antwerp 2H (50))
DESCRIPTION:Je hebt 72 uur na aanvang om een uitmatch op Badmintonvlaandere
 n in te vullen. Match info: Olympia 1H (57) - Royal Antwerp 2H (50) - Link
 : https://www.badmintonvlaanderen.be/sport/teammatch.aspx?id=952A42C0-E06A
 -400D-BAE7-1F26DE702556&match=167
DTSTART;TZID=Europe/Brussels:20240220T093000
DTEND;TZID=Europe/Brussels:20240220T093000
END:VEVENT
BEGIN:VEVENT
UID:952A42C0-E06A-400D-BAE7-1F26DE702556-4-169_awayreminder@1855.badmintonn
 ers.net
DTSTAMP:20260420T072405Z
SUMMARY:Uitmatch bevestigd? (Klein Boom 1H (41) - Royal Antwerp 2H (50))
DESCRIPTION:Je hebt 72 uur na aanvang om een uitmatch op Badmintonvlaandere
 n in te vullen. Match info: Klein Boom 1H (41) - Royal Antwerp 2H (50) - L
 ink: https://www.badmintonvlaanderen.be/sport/teammatch.aspx?id=952A42C0-E
 06A-400D-BAE7-1F26DE702556&match=169
DTSTART;TZID=Europe/Brussels:20240313T190000
DTEND;TZID=Europe/Brussels:20240313T190000
END:VEVENT
BEGIN:VEVENT
UID:952A42C0-E06A-400D-BAE7-1F26DE702556-4-165_awayreminder@1855.badmintonn
 ers.net
DTSTAMP:20260420T072405Z
SUMMARY:Uitmatch bevestigd? (Bacss 3H (48) - Royal Antwerp 2H (50))
DESCRIPTION:Je hebt 72 uur na aanvang om een uitmatch op Badmintonvlaandere
 n in te vullen. Match info: Bacss 3H (48) - Royal Antwerp 2H (50) - Link: 
 https://www.badmintonvlaanderen.be/sport/teammatch.aspx?id=952A42C0-E06A-4
 00D-BAE7-1F26DE702556&match=165
DTSTART;TZID=Europe/Brussels:20240408T201500
DTEND;TZID=Europe/Brussels:20240408T201500
END:VEVENT
END:VCALENDAR