BEGIN:VCALENDAR
VERSION:2.0
PRODID:spatie/icalendar-generator
NAME:klein_boom_1h_41_reminders
X-WR-CALNAME:klein_boom_1h_41_reminders
BEGIN:VTIMEZONE
TZID:Europe/Brussels
BEGIN:DAYLIGHT
DTSTART:20230326T010000
TZOFFSETFROM:+0100
TZOFFSETTO:+0200
END:DAYLIGHT
BEGIN:STANDARD
DTSTART:20231029T030000
TZOFFSETFROM:+0200
TZOFFSETTO:+0100
END:STANDARD
BEGIN:DAYLIGHT
DTSTART:20240331T010000
TZOFFSETFROM:+0100
TZOFFSETTO:+0200
END:DAYLIGHT
END:VTIMEZONE
BEGIN:VTIMEZONE
TZID:UTC
BEGIN:STANDARD
DTSTART:20250724T072433
TZOFFSETFROM:+0000
TZOFFSETTO:+0000
END:STANDARD
END:VTIMEZONE
BEGIN:VEVENT
UID:952A42C0-E06A-400D-BAE7-1F26DE702556-4-163_homereminder@1857.badmintonn
 ers.net
DTSTAMP:20260420T072433Z
SUMMARY:Thuismatch ingevuld? (Klein Boom 1H (41) - Spinshuttle 1H (52))
DESCRIPTION:Je hebt 36 uur na aanvang om een thuismatch op Badmintonvlaande
 ren in te vullen. Match info: Klein Boom 1H (41) - Spinshuttle 1H (52) - L
 ink: https://www.badmintonvlaanderen.be/sport/teammatch.aspx?id=952A42C0-E
 06A-400D-BAE7-1F26DE702556&match=163
DTSTART;TZID=Europe/Brussels:20231010T070000
DTEND;TZID=Europe/Brussels:20231010T070000
END:VEVENT
BEGIN:VEVENT
UID:952A42C0-E06A-400D-BAE7-1F26DE702556-4-132_homereminder@1857.badmintonn
 ers.net
DTSTAMP:20260420T072433Z
SUMMARY:Thuismatch ingevuld? (Klein Boom 1H (41) - Bacss 3H (48))
DESCRIPTION:Je hebt 36 uur na aanvang om een thuismatch op Badmintonvlaande
 ren in te vullen. Match info: Klein Boom 1H (41) - Bacss 3H (48) - Link: h
 ttps://www.badmintonvlaanderen.be/sport/teammatch.aspx?id=952A42C0-E06A-40
 0D-BAE7-1F26DE702556&match=132
DTSTART;TZID=Europe/Brussels:20231121T070000
DTEND;TZID=Europe/Brussels:20231121T070000
END:VEVENT
BEGIN:VEVENT
UID:952A42C0-E06A-400D-BAE7-1F26DE702556-4-144_homereminder@1857.badmintonn
 ers.net
DTSTAMP:20260420T072433Z
SUMMARY:Thuismatch ingevuld? (Klein Boom 1H (41) - Olympia 1H (57))
DESCRIPTION:Je hebt 36 uur na aanvang om een thuismatch op Badmintonvlaande
 ren in te vullen. Match info: Klein Boom 1H (41) - Olympia 1H (57) - Link:
  https://www.badmintonvlaanderen.be/sport/teammatch.aspx?id=952A42C0-E06A-
 400D-BAE7-1F26DE702556&match=144
DTSTART;TZID=Europe/Brussels:20231219T070000
DTEND;TZID=Europe/Brussels:20231219T070000
END:VEVENT
BEGIN:VEVENT
UID:952A42C0-E06A-400D-BAE7-1F26DE702556-4-150_homereminder@1857.badmintonn
 ers.net
DTSTAMP:20260420T072433Z
SUMMARY:Thuismatch ingevuld? (Klein Boom 1H (41) - Herentals 2H (53))
DESCRIPTION:Je hebt 36 uur na aanvang om een thuismatch op Badmintonvlaande
 ren in te vullen. Match info: Klein Boom 1H (41) - Herentals 2H (53) - Lin
 k: https://www.badmintonvlaanderen.be/sport/teammatch.aspx?id=952A42C0-E06
 A-400D-BAE7-1F26DE702556&match=150
DTSTART;TZID=Europe/Brussels:20240213T070000
DTEND;TZID=Europe/Brussels:20240213T070000
END:VEVENT
BEGIN:VEVENT
UID:952A42C0-E06A-400D-BAE7-1F26DE702556-4-169_homereminder@1857.badmintonn
 ers.net
DTSTAMP:20260420T072433Z
SUMMARY:Thuismatch ingevuld? (Klein Boom 1H (41) - Royal Antwerp 2H (50))
DESCRIPTION:Je hebt 36 uur na aanvang om een thuismatch op Badmintonvlaande
 ren in te vullen. Match info: Klein Boom 1H (41) - Royal Antwerp 2H (50) -
  Link: https://www.badmintonvlaanderen.be/sport/teammatch.aspx?id=952A42C0
 -E06A-400D-BAE7-1F26DE702556&match=169
DTSTART;TZID=Europe/Brussels:20240312T070000
DTEND;TZID=Europe/Brussels:20240312T070000
END:VEVENT
BEGIN:VEVENT
UID:952A42C0-E06A-400D-BAE7-1F26DE702556-4-138_homereminder@1857.badmintonn
 ers.net
DTSTAMP:20260420T072433Z
SUMMARY:Thuismatch ingevuld? (Klein Boom 1H (41) - Merksplas 1H (55))
DESCRIPTION:Je hebt 36 uur na aanvang om een thuismatch op Badmintonvlaande
 ren in te vullen. Match info: Klein Boom 1H (41) - Merksplas 1H (55) - Lin
 k: https://www.badmintonvlaanderen.be/sport/teammatch.aspx?id=952A42C0-E06
 A-400D-BAE7-1F26DE702556&match=138
DTSTART;TZID=Europe/Brussels:20240326T070000
DTEND;TZID=Europe/Brussels:20240326T070000
END:VEVENT
BEGIN:VEVENT
UID:952A42C0-E06A-400D-BAE7-1F26DE702556-4-158_awayreminder@1857.badmintonn
 ers.net
DTSTAMP:20260420T072433Z
SUMMARY:Uitmatch bevestigd? (Royal Antwerp 2H (50) - Klein Boom 1H (41))
DESCRIPTION:Je hebt 72 uur na aanvang om een uitmatch op Badmintonvlaandere
 n in te vullen. Match info: Royal Antwerp 2H (50) - Klein Boom 1H (41) - L
 ink: https://www.badmintonvlaanderen.be/sport/teammatch.aspx?id=952A42C0-E
 06A-400D-BAE7-1F26DE702556&match=158
DTSTART;TZID=Europe/Brussels:20231025T190000
DTEND;TZID=Europe/Brussels:20231025T190000
END:VEVENT
BEGIN:VEVENT
UID:952A42C0-E06A-400D-BAE7-1F26DE702556-4-156_awayreminder@1857.badmintonn
 ers.net
DTSTAMP:20260420T072433Z
SUMMARY:Uitmatch bevestigd? (Herentals 2H (53) - Klein Boom 1H (41))
DESCRIPTION:Je hebt 72 uur na aanvang om een uitmatch op Badmintonvlaandere
 n in te vullen. Match info: Herentals 2H (53) - Klein Boom 1H (41) - Link:
  https://www.badmintonvlaanderen.be/sport/teammatch.aspx?id=952A42C0-E06A-
 400D-BAE7-1F26DE702556&match=156
DTSTART;TZID=Europe/Brussels:20231130T210000
DTEND;TZID=Europe/Brussels:20231130T210000
END:VEVENT
BEGIN:VEVENT
UID:952A42C0-E06A-400D-BAE7-1F26DE702556-4-154_awayreminder@1857.badmintonn
 ers.net
DTSTAMP:20260420T072433Z
SUMMARY:Uitmatch bevestigd? (Merksplas 1H (55) - Klein Boom 1H (41))
DESCRIPTION:Je hebt 72 uur na aanvang om een uitmatch op Badmintonvlaandere
 n in te vullen. Match info: Merksplas 1H (55) - Klein Boom 1H (41) - Link:
  https://www.badmintonvlaanderen.be/sport/teammatch.aspx?id=952A42C0-E06A-
 400D-BAE7-1F26DE702556&match=154
DTSTART;TZID=Europe/Brussels:20231206T183000
DTEND;TZID=Europe/Brussels:20231206T183000
END:VEVENT
BEGIN:VEVENT
UID:952A42C0-E06A-400D-BAE7-1F26DE702556-4-157_awayreminder@1857.badmintonn
 ers.net
DTSTAMP:20260420T072433Z
SUMMARY:Uitmatch bevestigd? (Spinshuttle 1H (52) - Klein Boom 1H (41))
DESCRIPTION:Je hebt 72 uur na aanvang om een uitmatch op Badmintonvlaandere
 n in te vullen. Match info: Spinshuttle 1H (52) - Klein Boom 1H (41) - Lin
 k: https://www.badmintonvlaanderen.be/sport/teammatch.aspx?id=952A42C0-E06
 A-400D-BAE7-1F26DE702556&match=157
DTSTART;TZID=Europe/Brussels:20240223T200000
DTEND;TZID=Europe/Brussels:20240223T200000
END:VEVENT
BEGIN:VEVENT
UID:952A42C0-E06A-400D-BAE7-1F26DE702556-4-155_awayreminder@1857.badmintonn
 ers.net
DTSTAMP:20260420T072433Z
SUMMARY:Uitmatch bevestigd? (Olympia 1H (57) - Klein Boom 1H (41))
DESCRIPTION:Je hebt 72 uur na aanvang om een uitmatch op Badmintonvlaandere
 n in te vullen. Match info: Olympia 1H (57) - Klein Boom 1H (41) - Link: h
 ttps://www.badmintonvlaanderen.be/sport/teammatch.aspx?id=952A42C0-E06A-40
 0D-BAE7-1F26DE702556&match=155
DTSTART;TZID=Europe/Brussels:20240416T093000
DTEND;TZID=Europe/Brussels:20240416T093000
END:VEVENT
BEGIN:VEVENT
UID:952A42C0-E06A-400D-BAE7-1F26DE702556-4-153_awayreminder@1857.badmintonn
 ers.net
DTSTAMP:20260420T072433Z
SUMMARY:Uitmatch bevestigd? (Bacss 3H (48) - Klein Boom 1H (41))
DESCRIPTION:Je hebt 72 uur na aanvang om een uitmatch op Badmintonvlaandere
 n in te vullen. Match info: Bacss 3H (48) - Klein Boom 1H (41) - Link: htt
 ps://www.badmintonvlaanderen.be/sport/teammatch.aspx?id=952A42C0-E06A-400D
 -BAE7-1F26DE702556&match=153
DTSTART;TZID=Europe/Brussels:20240422T201500
DTEND;TZID=Europe/Brussels:20240422T201500
END:VEVENT
END:VCALENDAR