BEGIN:VCALENDAR
VERSION:2.0
PRODID:spatie/icalendar-generator
NAME:merksplas_1h_55_reminders
X-WR-CALNAME:merksplas_1h_55_reminders
BEGIN:VTIMEZONE
TZID:Europe/Brussels
BEGIN:DAYLIGHT
DTSTART:20230326T010000
TZOFFSETFROM:+0100
TZOFFSETTO:+0200
END:DAYLIGHT
BEGIN:STANDARD
DTSTART:20231029T030000
TZOFFSETFROM:+0200
TZOFFSETTO:+0100
END:STANDARD
BEGIN:DAYLIGHT
DTSTART:20240331T010000
TZOFFSETFROM:+0100
TZOFFSETTO:+0200
END:DAYLIGHT
END:VTIMEZONE
BEGIN:VTIMEZONE
TZID:UTC
BEGIN:STANDARD
DTSTART:20250724T072403
TZOFFSETFROM:+0000
TZOFFSETTO:+0000
END:STANDARD
END:VTIMEZONE
BEGIN:VEVENT
UID:952A42C0-E06A-400D-BAE7-1F26DE702556-4-166_homereminder@1859.badmintonn
 ers.net
DTSTAMP:20260420T072403Z
SUMMARY:Thuismatch ingevuld? (Merksplas 1H (55) - Royal Antwerp 2H (50))
DESCRIPTION:Je hebt 36 uur na aanvang om een thuismatch op Badmintonvlaande
 ren in te vullen. Match info: Merksplas 1H (55) - Royal Antwerp 2H (50) - 
 Link: https://www.badmintonvlaanderen.be/sport/teammatch.aspx?id=952A42C0-
 E06A-400D-BAE7-1F26DE702556&match=166
DTSTART;TZID=Europe/Brussels:20230912T063000
DTEND;TZID=Europe/Brussels:20230912T063000
END:VEVENT
BEGIN:VEVENT
UID:952A42C0-E06A-400D-BAE7-1F26DE702556-4-142_homereminder@1859.badmintonn
 ers.net
DTSTAMP:20260420T072403Z
SUMMARY:Thuismatch ingevuld? (Merksplas 1H (55) - Olympia 1H (57))
DESCRIPTION:Je hebt 36 uur na aanvang om een thuismatch op Badmintonvlaande
 ren in te vullen. Match info: Merksplas 1H (55) - Olympia 1H (57) - Link: 
 https://www.badmintonvlaanderen.be/sport/teammatch.aspx?id=952A42C0-E06A-4
 00D-BAE7-1F26DE702556&match=142
DTSTART;TZID=Europe/Brussels:20231024T063000
DTEND;TZID=Europe/Brussels:20231024T063000
END:VEVENT
BEGIN:VEVENT
UID:952A42C0-E06A-400D-BAE7-1F26DE702556-4-154_homereminder@1859.badmintonn
 ers.net
DTSTAMP:20260420T072403Z
SUMMARY:Thuismatch ingevuld? (Merksplas 1H (55) - Klein Boom 1H (41))
DESCRIPTION:Je hebt 36 uur na aanvang om een thuismatch op Badmintonvlaande
 ren in te vullen. Match info: Merksplas 1H (55) - Klein Boom 1H (41) - Lin
 k: https://www.badmintonvlaanderen.be/sport/teammatch.aspx?id=952A42C0-E06
 A-400D-BAE7-1F26DE702556&match=154
DTSTART;TZID=Europe/Brussels:20231205T063000
DTEND;TZID=Europe/Brussels:20231205T063000
END:VEVENT
BEGIN:VEVENT
UID:952A42C0-E06A-400D-BAE7-1F26DE702556-4-148_homereminder@1859.badmintonn
 ers.net
DTSTAMP:20260420T072403Z
SUMMARY:Thuismatch ingevuld? (Merksplas 1H (55) - Herentals 2H (53))
DESCRIPTION:Je hebt 36 uur na aanvang om een thuismatch op Badmintonvlaande
 ren in te vullen. Match info: Merksplas 1H (55) - Herentals 2H (53) - Link
 : https://www.badmintonvlaanderen.be/sport/teammatch.aspx?id=952A42C0-E06A
 -400D-BAE7-1F26DE702556&match=148
DTSTART;TZID=Europe/Brussels:20240206T063000
DTEND;TZID=Europe/Brussels:20240206T063000
END:VEVENT
BEGIN:VEVENT
UID:952A42C0-E06A-400D-BAE7-1F26DE702556-4-129_homereminder@1859.badmintonn
 ers.net
DTSTAMP:20260420T072403Z
SUMMARY:Thuismatch ingevuld? (Merksplas 1H (55) - Bacss 3H (48))
DESCRIPTION:Je hebt 36 uur na aanvang om een thuismatch op Badmintonvlaande
 ren in te vullen. Match info: Merksplas 1H (55) - Bacss 3H (48) - Link: ht
 tps://www.badmintonvlaanderen.be/sport/teammatch.aspx?id=952A42C0-E06A-400
 D-BAE7-1F26DE702556&match=129
DTSTART;TZID=Europe/Brussels:20240213T063000
DTEND;TZID=Europe/Brussels:20240213T063000
END:VEVENT
BEGIN:VEVENT
UID:952A42C0-E06A-400D-BAE7-1F26DE702556-4-160_homereminder@1859.badmintonn
 ers.net
DTSTAMP:20260420T072403Z
SUMMARY:Thuismatch ingevuld? (Merksplas 1H (55) - Spinshuttle 1H (52))
DESCRIPTION:Je hebt 36 uur na aanvang om een thuismatch op Badmintonvlaande
 ren in te vullen. Match info: Merksplas 1H (55) - Spinshuttle 1H (52) - Li
 nk: https://www.badmintonvlaanderen.be/sport/teammatch.aspx?id=952A42C0-E0
 6A-400D-BAE7-1F26DE702556&match=160
DTSTART;TZID=Europe/Brussels:20240409T063000
DTEND;TZID=Europe/Brussels:20240409T063000
END:VEVENT
BEGIN:VEVENT
UID:952A42C0-E06A-400D-BAE7-1F26DE702556-4-135_awayreminder@1859.badmintonn
 ers.net
DTSTAMP:20260420T072403Z
SUMMARY:Uitmatch bevestigd? (Bacss 3H (48) - Merksplas 1H (55))
DESCRIPTION:Je hebt 72 uur na aanvang om een uitmatch op Badmintonvlaandere
 n in te vullen. Match info: Bacss 3H (48) - Merksplas 1H (55) - Link: http
 s://www.badmintonvlaanderen.be/sport/teammatch.aspx?id=952A42C0-E06A-400D-
 BAE7-1F26DE702556&match=135
DTSTART;TZID=Europe/Brussels:20230925T201500
DTEND;TZID=Europe/Brussels:20230925T201500
END:VEVENT
BEGIN:VEVENT
UID:952A42C0-E06A-400D-BAE7-1F26DE702556-4-137_awayreminder@1859.badmintonn
 ers.net
DTSTAMP:20260420T072403Z
SUMMARY:Uitmatch bevestigd? (Herentals 2H (53) - Merksplas 1H (55))
DESCRIPTION:Je hebt 72 uur na aanvang om een uitmatch op Badmintonvlaandere
 n in te vullen. Match info: Herentals 2H (53) - Merksplas 1H (55) - Link: 
 https://www.badmintonvlaanderen.be/sport/teammatch.aspx?id=952A42C0-E06A-4
 00D-BAE7-1F26DE702556&match=137
DTSTART;TZID=Europe/Brussels:20231116T210000
DTEND;TZID=Europe/Brussels:20231116T210000
END:VEVENT
BEGIN:VEVENT
UID:952A42C0-E06A-400D-BAE7-1F26DE702556-4-139_awayreminder@1859.badmintonn
 ers.net
DTSTAMP:20260420T072403Z
SUMMARY:Uitmatch bevestigd? (Spinshuttle 1H (52) - Merksplas 1H (55))
DESCRIPTION:Je hebt 72 uur na aanvang om een uitmatch op Badmintonvlaandere
 n in te vullen. Match info: Spinshuttle 1H (52) - Merksplas 1H (55) - Link
 : https://www.badmintonvlaanderen.be/sport/teammatch.aspx?id=952A42C0-E06A
 -400D-BAE7-1F26DE702556&match=139
DTSTART;TZID=Europe/Brussels:20231215T200000
DTEND;TZID=Europe/Brussels:20231215T200000
END:VEVENT
BEGIN:VEVENT
UID:952A42C0-E06A-400D-BAE7-1F26DE702556-4-140_awayreminder@1859.badmintonn
 ers.net
DTSTAMP:20260420T072403Z
SUMMARY:Uitmatch bevestigd? (Royal Antwerp 2H (50) - Merksplas 1H (55))
DESCRIPTION:Je hebt 72 uur na aanvang om een uitmatch op Badmintonvlaandere
 n in te vullen. Match info: Royal Antwerp 2H (50) - Merksplas 1H (55) - Li
 nk: https://www.badmintonvlaanderen.be/sport/teammatch.aspx?id=952A42C0-E0
 6A-400D-BAE7-1F26DE702556&match=140
DTSTART;TZID=Europe/Brussels:20240131T180000
DTEND;TZID=Europe/Brussels:20240131T180000
END:VEVENT
BEGIN:VEVENT
UID:952A42C0-E06A-400D-BAE7-1F26DE702556-4-136_awayreminder@1859.badmintonn
 ers.net
DTSTAMP:20260420T072403Z
SUMMARY:Uitmatch bevestigd? (Olympia 1H (57) - Merksplas 1H (55))
DESCRIPTION:Je hebt 72 uur na aanvang om een uitmatch op Badmintonvlaandere
 n in te vullen. Match info: Olympia 1H (57) - Merksplas 1H (55) - Link: ht
 tps://www.badmintonvlaanderen.be/sport/teammatch.aspx?id=952A42C0-E06A-400
 D-BAE7-1F26DE702556&match=136
DTSTART;TZID=Europe/Brussels:20240312T093000
DTEND;TZID=Europe/Brussels:20240312T093000
END:VEVENT
BEGIN:VEVENT
UID:952A42C0-E06A-400D-BAE7-1F26DE702556-4-138_awayreminder@1859.badmintonn
 ers.net
DTSTAMP:20260420T072403Z
SUMMARY:Uitmatch bevestigd? (Klein Boom 1H (41) - Merksplas 1H (55))
DESCRIPTION:Je hebt 72 uur na aanvang om een uitmatch op Badmintonvlaandere
 n in te vullen. Match info: Klein Boom 1H (41) - Merksplas 1H (55) - Link:
  https://www.badmintonvlaanderen.be/sport/teammatch.aspx?id=952A42C0-E06A-
 400D-BAE7-1F26DE702556&match=138
DTSTART;TZID=Europe/Brussels:20240327T190000
DTEND;TZID=Europe/Brussels:20240327T190000
END:VEVENT
END:VCALENDAR