BEGIN:VCALENDAR
VERSION:2.0
PRODID:spatie/icalendar-generator
NAME:bacss_3h_48_reminders
X-WR-CALNAME:bacss_3h_48_reminders
BEGIN:VTIMEZONE
TZID:Europe/Brussels
BEGIN:DAYLIGHT
DTSTART:20230326T010000
TZOFFSETFROM:+0100
TZOFFSETTO:+0200
END:DAYLIGHT
BEGIN:STANDARD
DTSTART:20231029T030000
TZOFFSETFROM:+0200
TZOFFSETTO:+0100
END:STANDARD
BEGIN:DAYLIGHT
DTSTART:20240331T010000
TZOFFSETFROM:+0100
TZOFFSETTO:+0200
END:DAYLIGHT
END:VTIMEZONE
BEGIN:VTIMEZONE
TZID:UTC
BEGIN:STANDARD
DTSTART:20250724T072407
TZOFFSETFROM:+0000
TZOFFSETTO:+0000
END:STANDARD
END:VTIMEZONE
BEGIN:VEVENT
UID:952A42C0-E06A-400D-BAE7-1F26DE702556-4-135_homereminder@1864.badmintonn
 ers.net
DTSTAMP:20260420T072407Z
SUMMARY:Thuismatch ingevuld? (Bacss 3H (48) - Merksplas 1H (55))
DESCRIPTION:Je hebt 36 uur na aanvang om een thuismatch op Badmintonvlaande
 ren in te vullen. Match info: Bacss 3H (48) - Merksplas 1H (55) - Link: ht
 tps://www.badmintonvlaanderen.be/sport/teammatch.aspx?id=952A42C0-E06A-400
 D-BAE7-1F26DE702556&match=135
DTSTART;TZID=Europe/Brussels:20230924T081500
DTEND;TZID=Europe/Brussels:20230924T081500
END:VEVENT
BEGIN:VEVENT
UID:952A42C0-E06A-400D-BAE7-1F26DE702556-4-147_homereminder@1864.badmintonn
 ers.net
DTSTAMP:20260420T072407Z
SUMMARY:Thuismatch ingevuld? (Bacss 3H (48) - Herentals 2H (53))
DESCRIPTION:Je hebt 36 uur na aanvang om een thuismatch op Badmintonvlaande
 ren in te vullen. Match info: Bacss 3H (48) - Herentals 2H (53) - Link: ht
 tps://www.badmintonvlaanderen.be/sport/teammatch.aspx?id=952A42C0-E06A-400
 D-BAE7-1F26DE702556&match=147
DTSTART;TZID=Europe/Brussels:20231022T081500
DTEND;TZID=Europe/Brussels:20231022T081500
END:VEVENT
BEGIN:VEVENT
UID:952A42C0-E06A-400D-BAE7-1F26DE702556-4-159_homereminder@1864.badmintonn
 ers.net
DTSTAMP:20260420T072407Z
SUMMARY:Thuismatch ingevuld? (Bacss 3H (48) - Spinshuttle 1H (52))
DESCRIPTION:Je hebt 36 uur na aanvang om een thuismatch op Badmintonvlaande
 ren in te vullen. Match info: Bacss 3H (48) - Spinshuttle 1H (52) - Link: 
 https://www.badmintonvlaanderen.be/sport/teammatch.aspx?id=952A42C0-E06A-4
 00D-BAE7-1F26DE702556&match=159
DTSTART;TZID=Europe/Brussels:20231203T081500
DTEND;TZID=Europe/Brussels:20231203T081500
END:VEVENT
BEGIN:VEVENT
UID:952A42C0-E06A-400D-BAE7-1F26DE702556-4-141_homereminder@1864.badmintonn
 ers.net
DTSTAMP:20260420T072407Z
SUMMARY:Thuismatch ingevuld? (Bacss 3H (48) - Olympia 1H (57))
DESCRIPTION:Je hebt 36 uur na aanvang om een thuismatch op Badmintonvlaande
 ren in te vullen. Match info: Bacss 3H (48) - Olympia 1H (57) - Link: http
 s://www.badmintonvlaanderen.be/sport/teammatch.aspx?id=952A42C0-E06A-400D-
 BAE7-1F26DE702556&match=141
DTSTART;TZID=Europe/Brussels:20240225T081500
DTEND;TZID=Europe/Brussels:20240225T081500
END:VEVENT
BEGIN:VEVENT
UID:952A42C0-E06A-400D-BAE7-1F26DE702556-4-165_homereminder@1864.badmintonn
 ers.net
DTSTAMP:20260420T072407Z
SUMMARY:Thuismatch ingevuld? (Bacss 3H (48) - Royal Antwerp 2H (50))
DESCRIPTION:Je hebt 36 uur na aanvang om een thuismatch op Badmintonvlaande
 ren in te vullen. Match info: Bacss 3H (48) - Royal Antwerp 2H (50) - Link
 : https://www.badmintonvlaanderen.be/sport/teammatch.aspx?id=952A42C0-E06A
 -400D-BAE7-1F26DE702556&match=165
DTSTART;TZID=Europe/Brussels:20240407T081500
DTEND;TZID=Europe/Brussels:20240407T081500
END:VEVENT
BEGIN:VEVENT
UID:952A42C0-E06A-400D-BAE7-1F26DE702556-4-153_homereminder@1864.badmintonn
 ers.net
DTSTAMP:20260420T072407Z
SUMMARY:Thuismatch ingevuld? (Bacss 3H (48) - Klein Boom 1H (41))
DESCRIPTION:Je hebt 36 uur na aanvang om een thuismatch op Badmintonvlaande
 ren in te vullen. Match info: Bacss 3H (48) - Klein Boom 1H (41) - Link: h
 ttps://www.badmintonvlaanderen.be/sport/teammatch.aspx?id=952A42C0-E06A-40
 0D-BAE7-1F26DE702556&match=153
DTSTART;TZID=Europe/Brussels:20240421T081500
DTEND;TZID=Europe/Brussels:20240421T081500
END:VEVENT
BEGIN:VEVENT
UID:952A42C0-E06A-400D-BAE7-1F26DE702556-4-130_awayreminder@1864.badmintonn
 ers.net
DTSTAMP:20260420T072407Z
SUMMARY:Uitmatch bevestigd? (Olympia 1H (57) - Bacss 3H (48))
DESCRIPTION:Je hebt 72 uur na aanvang om een uitmatch op Badmintonvlaandere
 n in te vullen. Match info: Olympia 1H (57) - Bacss 3H (48) - Link: https:
 //www.badmintonvlaanderen.be/sport/teammatch.aspx?id=952A42C0-E06A-400D-BA
 E7-1F26DE702556&match=130
DTSTART;TZID=Europe/Brussels:20231017T093000
DTEND;TZID=Europe/Brussels:20231017T093000
END:VEVENT
BEGIN:VEVENT
UID:952A42C0-E06A-400D-BAE7-1F26DE702556-4-132_awayreminder@1864.badmintonn
 ers.net
DTSTAMP:20260420T072407Z
SUMMARY:Uitmatch bevestigd? (Klein Boom 1H (41) - Bacss 3H (48))
DESCRIPTION:Je hebt 72 uur na aanvang om een uitmatch op Badmintonvlaandere
 n in te vullen. Match info: Klein Boom 1H (41) - Bacss 3H (48) - Link: htt
 ps://www.badmintonvlaanderen.be/sport/teammatch.aspx?id=952A42C0-E06A-400D
 -BAE7-1F26DE702556&match=132
DTSTART;TZID=Europe/Brussels:20231122T190000
DTEND;TZID=Europe/Brussels:20231122T190000
END:VEVENT
BEGIN:VEVENT
UID:952A42C0-E06A-400D-BAE7-1F26DE702556-4-134_awayreminder@1864.badmintonn
 ers.net
DTSTAMP:20260420T072407Z
SUMMARY:Uitmatch bevestigd? (Royal Antwerp 2H (50) - Bacss 3H (48))
DESCRIPTION:Je hebt 72 uur na aanvang om een uitmatch op Badmintonvlaandere
 n in te vullen. Match info: Royal Antwerp 2H (50) - Bacss 3H (48) - Link: 
 https://www.badmintonvlaanderen.be/sport/teammatch.aspx?id=952A42C0-E06A-4
 00D-BAE7-1F26DE702556&match=134
DTSTART;TZID=Europe/Brussels:20231220T180000
DTEND;TZID=Europe/Brussels:20231220T180000
END:VEVENT
BEGIN:VEVENT
UID:952A42C0-E06A-400D-BAE7-1F26DE702556-4-129_awayreminder@1864.badmintonn
 ers.net
DTSTAMP:20260420T072407Z
SUMMARY:Uitmatch bevestigd? (Merksplas 1H (55) - Bacss 3H (48))
DESCRIPTION:Je hebt 72 uur na aanvang om een uitmatch op Badmintonvlaandere
 n in te vullen. Match info: Merksplas 1H (55) - Bacss 3H (48) - Link: http
 s://www.badmintonvlaanderen.be/sport/teammatch.aspx?id=952A42C0-E06A-400D-
 BAE7-1F26DE702556&match=129
DTSTART;TZID=Europe/Brussels:20240214T183000
DTEND;TZID=Europe/Brussels:20240214T183000
END:VEVENT
BEGIN:VEVENT
UID:952A42C0-E06A-400D-BAE7-1F26DE702556-4-131_awayreminder@1864.badmintonn
 ers.net
DTSTAMP:20260420T072407Z
SUMMARY:Uitmatch bevestigd? (Herentals 2H (53) - Bacss 3H (48))
DESCRIPTION:Je hebt 72 uur na aanvang om een uitmatch op Badmintonvlaandere
 n in te vullen. Match info: Herentals 2H (53) - Bacss 3H (48) - Link: http
 s://www.badmintonvlaanderen.be/sport/teammatch.aspx?id=952A42C0-E06A-400D-
 BAE7-1F26DE702556&match=131
DTSTART;TZID=Europe/Brussels:20240307T210000
DTEND;TZID=Europe/Brussels:20240307T210000
END:VEVENT
BEGIN:VEVENT
UID:952A42C0-E06A-400D-BAE7-1F26DE702556-4-133_awayreminder@1864.badmintonn
 ers.net
DTSTAMP:20260420T072407Z
SUMMARY:Uitmatch bevestigd? (Spinshuttle 1H (52) - Bacss 3H (48))
DESCRIPTION:Je hebt 72 uur na aanvang om een uitmatch op Badmintonvlaandere
 n in te vullen. Match info: Spinshuttle 1H (52) - Bacss 3H (48) - Link: ht
 tps://www.badmintonvlaanderen.be/sport/teammatch.aspx?id=952A42C0-E06A-400
 D-BAE7-1F26DE702556&match=133
DTSTART;TZID=Europe/Brussels:20240322T200000
DTEND;TZID=Europe/Brussels:20240322T200000
END:VEVENT
END:VCALENDAR