BEGIN:VCALENDAR
VERSION:2.0
PRODID:spatie/icalendar-generator
NAME:olympia_1h_57_reminders
X-WR-CALNAME:olympia_1h_57_reminders
BEGIN:VTIMEZONE
TZID:Europe/Brussels
BEGIN:DAYLIGHT
DTSTART:20230326T010000
TZOFFSETFROM:+0100
TZOFFSETTO:+0200
END:DAYLIGHT
BEGIN:STANDARD
DTSTART:20231029T030000
TZOFFSETFROM:+0200
TZOFFSETTO:+0100
END:STANDARD
BEGIN:DAYLIGHT
DTSTART:20240331T010000
TZOFFSETFROM:+0100
TZOFFSETTO:+0200
END:DAYLIGHT
END:VTIMEZONE
BEGIN:VTIMEZONE
TZID:UTC
BEGIN:STANDARD
DTSTART:20250724T072409
TZOFFSETFROM:+0000
TZOFFSETTO:+0000
END:STANDARD
END:VTIMEZONE
BEGIN:VEVENT
UID:952A42C0-E06A-400D-BAE7-1F26DE702556-4-161_homereminder@1865.badmintonn
 ers.net
DTSTAMP:20260420T072409Z
SUMMARY:Thuismatch ingevuld? (Olympia 1H (57) - Spinshuttle 1H (52))
DESCRIPTION:Je hebt 36 uur na aanvang om een thuismatch op Badmintonvlaande
 ren in te vullen. Match info: Olympia 1H (57) - Spinshuttle 1H (52) - Link
 : https://www.badmintonvlaanderen.be/sport/teammatch.aspx?id=952A42C0-E06A
 -400D-BAE7-1F26DE702556&match=161
DTSTART;TZID=Europe/Brussels:20231001T213000
DTEND;TZID=Europe/Brussels:20231001T213000
END:VEVENT
BEGIN:VEVENT
UID:952A42C0-E06A-400D-BAE7-1F26DE702556-4-130_homereminder@1865.badmintonn
 ers.net
DTSTAMP:20260420T072409Z
SUMMARY:Thuismatch ingevuld? (Olympia 1H (57) - Bacss 3H (48))
DESCRIPTION:Je hebt 36 uur na aanvang om een thuismatch op Badmintonvlaande
 ren in te vullen. Match info: Olympia 1H (57) - Bacss 3H (48) - Link: http
 s://www.badmintonvlaanderen.be/sport/teammatch.aspx?id=952A42C0-E06A-400D-
 BAE7-1F26DE702556&match=130
DTSTART;TZID=Europe/Brussels:20231015T213000
DTEND;TZID=Europe/Brussels:20231015T213000
END:VEVENT
BEGIN:VEVENT
UID:952A42C0-E06A-400D-BAE7-1F26DE702556-4-149_homereminder@1865.badmintonn
 ers.net
DTSTAMP:20260420T072409Z
SUMMARY:Thuismatch ingevuld? (Olympia 1H (57) - Herentals 2H (53))
DESCRIPTION:Je hebt 36 uur na aanvang om een thuismatch op Badmintonvlaande
 ren in te vullen. Match info: Olympia 1H (57) - Herentals 2H (53) - Link: 
 https://www.badmintonvlaanderen.be/sport/teammatch.aspx?id=952A42C0-E06A-4
 00D-BAE7-1F26DE702556&match=149
DTSTART;TZID=Europe/Brussels:20231203T213000
DTEND;TZID=Europe/Brussels:20231203T213000
END:VEVENT
BEGIN:VEVENT
UID:952A42C0-E06A-400D-BAE7-1F26DE702556-4-167_homereminder@1865.badmintonn
 ers.net
DTSTAMP:20260420T072409Z
SUMMARY:Thuismatch ingevuld? (Olympia 1H (57) - Royal Antwerp 2H (50))
DESCRIPTION:Je hebt 36 uur na aanvang om een thuismatch op Badmintonvlaande
 ren in te vullen. Match info: Olympia 1H (57) - Royal Antwerp 2H (50) - Li
 nk: https://www.badmintonvlaanderen.be/sport/teammatch.aspx?id=952A42C0-E0
 6A-400D-BAE7-1F26DE702556&match=167
DTSTART;TZID=Europe/Brussels:20240218T213000
DTEND;TZID=Europe/Brussels:20240218T213000
END:VEVENT
BEGIN:VEVENT
UID:952A42C0-E06A-400D-BAE7-1F26DE702556-4-136_homereminder@1865.badmintonn
 ers.net
DTSTAMP:20260420T072409Z
SUMMARY:Thuismatch ingevuld? (Olympia 1H (57) - Merksplas 1H (55))
DESCRIPTION:Je hebt 36 uur na aanvang om een thuismatch op Badmintonvlaande
 ren in te vullen. Match info: Olympia 1H (57) - Merksplas 1H (55) - Link: 
 https://www.badmintonvlaanderen.be/sport/teammatch.aspx?id=952A42C0-E06A-4
 00D-BAE7-1F26DE702556&match=136
DTSTART;TZID=Europe/Brussels:20240310T213000
DTEND;TZID=Europe/Brussels:20240310T213000
END:VEVENT
BEGIN:VEVENT
UID:952A42C0-E06A-400D-BAE7-1F26DE702556-4-155_homereminder@1865.badmintonn
 ers.net
DTSTAMP:20260420T072409Z
SUMMARY:Thuismatch ingevuld? (Olympia 1H (57) - Klein Boom 1H (41))
DESCRIPTION:Je hebt 36 uur na aanvang om een thuismatch op Badmintonvlaande
 ren in te vullen. Match info: Olympia 1H (57) - Klein Boom 1H (41) - Link:
  https://www.badmintonvlaanderen.be/sport/teammatch.aspx?id=952A42C0-E06A-
 400D-BAE7-1F26DE702556&match=155
DTSTART;TZID=Europe/Brussels:20240414T213000
DTEND;TZID=Europe/Brussels:20240414T213000
END:VEVENT
BEGIN:VEVENT
UID:952A42C0-E06A-400D-BAE7-1F26DE702556-4-142_awayreminder@1865.badmintonn
 ers.net
DTSTAMP:20260420T072409Z
SUMMARY:Uitmatch bevestigd? (Merksplas 1H (55) - Olympia 1H (57))
DESCRIPTION:Je hebt 72 uur na aanvang om een uitmatch op Badmintonvlaandere
 n in te vullen. Match info: Merksplas 1H (55) - Olympia 1H (57) - Link: ht
 tps://www.badmintonvlaanderen.be/sport/teammatch.aspx?id=952A42C0-E06A-400
 D-BAE7-1F26DE702556&match=142
DTSTART;TZID=Europe/Brussels:20231025T183000
DTEND;TZID=Europe/Brussels:20231025T183000
END:VEVENT
BEGIN:VEVENT
UID:952A42C0-E06A-400D-BAE7-1F26DE702556-4-146_awayreminder@1865.badmintonn
 ers.net
DTSTAMP:20260420T072409Z
SUMMARY:Uitmatch bevestigd? (Royal Antwerp 2H (50) - Olympia 1H (57))
DESCRIPTION:Je hebt 72 uur na aanvang om een uitmatch op Badmintonvlaandere
 n in te vullen. Match info: Royal Antwerp 2H (50) - Olympia 1H (57) - Link
 : https://www.badmintonvlaanderen.be/sport/teammatch.aspx?id=952A42C0-E06A
 -400D-BAE7-1F26DE702556&match=146
DTSTART;TZID=Europe/Brussels:20231129T180000
DTEND;TZID=Europe/Brussels:20231129T180000
END:VEVENT
BEGIN:VEVENT
UID:952A42C0-E06A-400D-BAE7-1F26DE702556-4-144_awayreminder@1865.badmintonn
 ers.net
DTSTAMP:20260420T072409Z
SUMMARY:Uitmatch bevestigd? (Klein Boom 1H (41) - Olympia 1H (57))
DESCRIPTION:Je hebt 72 uur na aanvang om een uitmatch op Badmintonvlaandere
 n in te vullen. Match info: Klein Boom 1H (41) - Olympia 1H (57) - Link: h
 ttps://www.badmintonvlaanderen.be/sport/teammatch.aspx?id=952A42C0-E06A-40
 0D-BAE7-1F26DE702556&match=144
DTSTART;TZID=Europe/Brussels:20231220T190000
DTEND;TZID=Europe/Brussels:20231220T190000
END:VEVENT
BEGIN:VEVENT
UID:952A42C0-E06A-400D-BAE7-1F26DE702556-4-145_awayreminder@1865.badmintonn
 ers.net
DTSTAMP:20260420T072409Z
SUMMARY:Uitmatch bevestigd? (Spinshuttle 1H (52) - Olympia 1H (57))
DESCRIPTION:Je hebt 72 uur na aanvang om een uitmatch op Badmintonvlaandere
 n in te vullen. Match info: Spinshuttle 1H (52) - Olympia 1H (57) - Link: 
 https://www.badmintonvlaanderen.be/sport/teammatch.aspx?id=952A42C0-E06A-4
 00D-BAE7-1F26DE702556&match=145
DTSTART;TZID=Europe/Brussels:20240126T200000
DTEND;TZID=Europe/Brussels:20240126T200000
END:VEVENT
BEGIN:VEVENT
UID:952A42C0-E06A-400D-BAE7-1F26DE702556-4-141_awayreminder@1865.badmintonn
 ers.net
DTSTAMP:20260420T072409Z
SUMMARY:Uitmatch bevestigd? (Bacss 3H (48) - Olympia 1H (57))
DESCRIPTION:Je hebt 72 uur na aanvang om een uitmatch op Badmintonvlaandere
 n in te vullen. Match info: Bacss 3H (48) - Olympia 1H (57) - Link: https:
 //www.badmintonvlaanderen.be/sport/teammatch.aspx?id=952A42C0-E06A-400D-BA
 E7-1F26DE702556&match=141
DTSTART;TZID=Europe/Brussels:20240226T201500
DTEND;TZID=Europe/Brussels:20240226T201500
END:VEVENT
BEGIN:VEVENT
UID:952A42C0-E06A-400D-BAE7-1F26DE702556-4-143_awayreminder@1865.badmintonn
 ers.net
DTSTAMP:20260420T072409Z
SUMMARY:Uitmatch bevestigd? (Herentals 2H (53) - Olympia 1H (57))
DESCRIPTION:Je hebt 72 uur na aanvang om een uitmatch op Badmintonvlaandere
 n in te vullen. Match info: Herentals 2H (53) - Olympia 1H (57) - Link: ht
 tps://www.badmintonvlaanderen.be/sport/teammatch.aspx?id=952A42C0-E06A-400
 D-BAE7-1F26DE702556&match=143
DTSTART;TZID=Europe/Brussels:20240321T210000
DTEND;TZID=Europe/Brussels:20240321T210000
END:VEVENT
END:VCALENDAR