BEGIN:VCALENDAR
VERSION:2.0
PRODID:spatie/icalendar-generator
NAME:wl_2d_reminders
X-WR-CALNAME:wl_2d_reminders
BEGIN:VTIMEZONE
TZID:Europe/Brussels
BEGIN:DAYLIGHT
DTSTART:20210328T010000
TZOFFSETFROM:+0100
TZOFFSETTO:+0200
END:DAYLIGHT
BEGIN:STANDARD
DTSTART:20211031T030000
TZOFFSETFROM:+0200
TZOFFSETTO:+0100
END:STANDARD
BEGIN:DAYLIGHT
DTSTART:20220327T010000
TZOFFSETFROM:+0100
TZOFFSETTO:+0200
END:DAYLIGHT
END:VTIMEZONE
BEGIN:VTIMEZONE
TZID:UTC
BEGIN:STANDARD
DTSTART:20250724T070549
TZOFFSETFROM:+0000
TZOFFSETTO:+0000
END:STANDARD
END:VTIMEZONE
BEGIN:VEVENT
UID:BD406AC5-DB29-4CD7-B8A6-5EDF9A9BCD37-19-867_homereminder@122.badmintonn
 ers.net
DTSTAMP:20260420T070549Z
SUMMARY:Thuismatch ingevuld? (W&L 2D - Tienen 1D)
DESCRIPTION:Je hebt 36 uur na aanvang om een thuismatch op Badmintonvlaande
 ren in te vullen. Match info: W&L 2D - Tienen 1D - Link: https://www.badmi
 ntonvlaanderen.be/sport/teammatch.aspx?id=BD406AC5-DB29-4CD7-B8A6-5EDF9A9B
 CD37&match=867
DTSTART;TZID=Europe/Brussels:20211026T010000
DTEND;TZID=Europe/Brussels:20211026T010000
END:VEVENT
BEGIN:VEVENT
UID:BD406AC5-DB29-4CD7-B8A6-5EDF9A9BCD37-19-862_homereminder@122.badmintonn
 ers.net
DTSTAMP:20260420T070549Z
SUMMARY:Thuismatch ingevuld? (W&L 2D - Looise 1D)
DESCRIPTION:Je hebt 36 uur na aanvang om een thuismatch op Badmintonvlaande
 ren in te vullen. Match info: W&L 2D - Looise 1D - Link: https://www.badmi
 ntonvlaanderen.be/sport/teammatch.aspx?id=BD406AC5-DB29-4CD7-B8A6-5EDF9A9B
 CD37&match=862
DTSTART;TZID=Europe/Brussels:20211207T010000
DTEND;TZID=Europe/Brussels:20211207T010000
END:VEVENT
BEGIN:VEVENT
UID:BD406AC5-DB29-4CD7-B8A6-5EDF9A9BCD37-19-847_homereminder@122.badmintonn
 ers.net
DTSTAMP:20260420T070549Z
SUMMARY:Thuismatch ingevuld? (W&L 2D - Brasschaat 1D)
DESCRIPTION:Je hebt 36 uur na aanvang om een thuismatch op Badmintonvlaande
 ren in te vullen. Match info: W&L 2D - Brasschaat 1D - Link: https://www.b
 admintonvlaanderen.be/sport/teammatch.aspx?id=BD406AC5-DB29-4CD7-B8A6-5EDF
 9A9BCD37&match=847
DTSTART;TZID=Europe/Brussels:20220307T010000
DTEND;TZID=Europe/Brussels:20220307T010000
END:VEVENT
BEGIN:VEVENT
UID:BD406AC5-DB29-4CD7-B8A6-5EDF9A9BCD37-19-852_homereminder@122.badmintonn
 ers.net
DTSTAMP:20260420T070549Z
SUMMARY:Thuismatch ingevuld? (W&L 2D - Dijlevallei 2D)
DESCRIPTION:Je hebt 36 uur na aanvang om een thuismatch op Badmintonvlaande
 ren in te vullen. Match info: W&L 2D - Dijlevallei 2D - Link: https://www.
 badmintonvlaanderen.be/sport/teammatch.aspx?id=BD406AC5-DB29-4CD7-B8A6-5ED
 F9A9BCD37&match=852
DTSTART;TZID=Europe/Brussels:20220315T010000
DTEND;TZID=Europe/Brussels:20220315T010000
END:VEVENT
BEGIN:VEVENT
UID:BD406AC5-DB29-4CD7-B8A6-5EDF9A9BCD37-19-857_homereminder@122.badmintonn
 ers.net
DTSTAMP:20260420T070549Z
SUMMARY:Thuismatch ingevuld? (W&L 2D - Klein Boom 1D)
DESCRIPTION:Je hebt 36 uur na aanvang om een thuismatch op Badmintonvlaande
 ren in te vullen. Match info: W&L 2D - Klein Boom 1D - Link: https://www.b
 admintonvlaanderen.be/sport/teammatch.aspx?id=BD406AC5-DB29-4CD7-B8A6-5EDF
 9A9BCD37&match=857
DTSTART;TZID=Europe/Brussels:20220412T010000
DTEND;TZID=Europe/Brussels:20220412T010000
END:VEVENT
BEGIN:VEVENT
UID:BD406AC5-DB29-4CD7-B8A6-5EDF9A9BCD37-19-868_awayreminder@122.badmintonn
 ers.net
DTSTAMP:20260420T070549Z
SUMMARY:Uitmatch bevestigd? (Brasschaat 1D - W&L 2D)
DESCRIPTION:Je hebt 72 uur na aanvang om een uitmatch op Badmintonvlaandere
 n in te vullen. Match info: Brasschaat 1D - W&L 2D - Link: https://www.bad
 mintonvlaanderen.be/sport/teammatch.aspx?id=BD406AC5-DB29-4CD7-B8A6-5EDF9A
 9BCD37&match=868
DTSTART;TZID=Europe/Brussels:20210929T190000
DTEND;TZID=Europe/Brussels:20210929T190000
END:VEVENT
BEGIN:VEVENT
UID:BD406AC5-DB29-4CD7-B8A6-5EDF9A9BCD37-19-870_awayreminder@122.badmintonn
 ers.net
DTSTAMP:20260420T070549Z
SUMMARY:Uitmatch bevestigd? (Klein Boom 1D - W&L 2D)
DESCRIPTION:Je hebt 72 uur na aanvang om een uitmatch op Badmintonvlaandere
 n in te vullen. Match info: Klein Boom 1D - W&L 2D - Link: https://www.bad
 mintonvlaanderen.be/sport/teammatch.aspx?id=BD406AC5-DB29-4CD7-B8A6-5EDF9A
 9BCD37&match=870
DTSTART;TZID=Europe/Brussels:20211202T200000
DTEND;TZID=Europe/Brussels:20211202T200000
END:VEVENT
BEGIN:VEVENT
UID:BD406AC5-DB29-4CD7-B8A6-5EDF9A9BCD37-19-869_awayreminder@122.badmintonn
 ers.net
DTSTAMP:20260420T070549Z
SUMMARY:Uitmatch bevestigd? (Dijlevallei 2D - W&L 2D)
DESCRIPTION:Je hebt 72 uur na aanvang om een uitmatch op Badmintonvlaandere
 n in te vullen. Match info: Dijlevallei 2D - W&L 2D - Link: https://www.ba
 dmintonvlaanderen.be/sport/teammatch.aspx?id=BD406AC5-DB29-4CD7-B8A6-5EDF9
 A9BCD37&match=869
DTSTART;TZID=Europe/Brussels:20211207T163000
DTEND;TZID=Europe/Brussels:20211207T163000
END:VEVENT
BEGIN:VEVENT
UID:BD406AC5-DB29-4CD7-B8A6-5EDF9A9BCD37-19-872_awayreminder@122.badmintonn
 ers.net
DTSTAMP:20260420T070549Z
SUMMARY:Uitmatch bevestigd? (Tienen 1D - W&L 2D)
DESCRIPTION:Je hebt 72 uur na aanvang om een uitmatch op Badmintonvlaandere
 n in te vullen. Match info: Tienen 1D - W&L 2D - Link: https://www.badmint
 onvlaanderen.be/sport/teammatch.aspx?id=BD406AC5-DB29-4CD7-B8A6-5EDF9A9BCD
 37&match=872
DTSTART;TZID=Europe/Brussels:20220330T170000
DTEND;TZID=Europe/Brussels:20220330T170000
END:VEVENT
BEGIN:VEVENT
UID:BD406AC5-DB29-4CD7-B8A6-5EDF9A9BCD37-19-871_awayreminder@122.badmintonn
 ers.net
DTSTAMP:20260420T070549Z
SUMMARY:Uitmatch bevestigd? (Looise 1D - W&L 2D)
DESCRIPTION:Je hebt 72 uur na aanvang om een uitmatch op Badmintonvlaandere
 n in te vullen. Match info: Looise 1D - W&L 2D - Link: https://www.badmint
 onvlaanderen.be/sport/teammatch.aspx?id=BD406AC5-DB29-4CD7-B8A6-5EDF9A9BCD
 37&match=871
DTSTART;TZID=Europe/Brussels:20220427T150000
DTEND;TZID=Europe/Brussels:20220427T150000
END:VEVENT
END:VCALENDAR