BEGIN:VCALENDAR
VERSION:2.0
PRODID:spatie/icalendar-generator
NAME:tienen_1d_reminders
X-WR-CALNAME:tienen_1d_reminders
BEGIN:VTIMEZONE
TZID:Europe/Brussels
BEGIN:DAYLIGHT
DTSTART:20210328T010000
TZOFFSETFROM:+0100
TZOFFSETTO:+0200
END:DAYLIGHT
BEGIN:STANDARD
DTSTART:20211031T030000
TZOFFSETFROM:+0200
TZOFFSETTO:+0100
END:STANDARD
BEGIN:DAYLIGHT
DTSTART:20220327T010000
TZOFFSETFROM:+0100
TZOFFSETTO:+0200
END:DAYLIGHT
END:VTIMEZONE
BEGIN:VTIMEZONE
TZID:UTC
BEGIN:STANDARD
DTSTART:20250726T082633
TZOFFSETFROM:+0000
TZOFFSETTO:+0000
END:STANDARD
END:VTIMEZONE
BEGIN:VEVENT
UID:BD406AC5-DB29-4CD7-B8A6-5EDF9A9BCD37-19-856_homereminder@146.badmintonn
 ers.net
DTSTAMP:20260422T082633Z
SUMMARY:Thuismatch ingevuld? (Tienen 1D - Klein Boom 1D)
DESCRIPTION:Je hebt 36 uur na aanvang om een thuismatch op Badmintonvlaande
 ren in te vullen. Match info: Tienen 1D - Klein Boom 1D - Link: https://ww
 w.badmintonvlaanderen.be/sport/teammatch.aspx?id=BD406AC5-DB29-4CD7-B8A6-5
 EDF9A9BCD37&match=856
DTSTART;TZID=Europe/Brussels:20210914T050000
DTEND;TZID=Europe/Brussels:20210914T050000
END:VEVENT
BEGIN:VEVENT
UID:BD406AC5-DB29-4CD7-B8A6-5EDF9A9BCD37-19-846_homereminder@146.badmintonn
 ers.net
DTSTAMP:20260422T082633Z
SUMMARY:Thuismatch ingevuld? (Tienen 1D - Brasschaat 1D)
DESCRIPTION:Je hebt 36 uur na aanvang om een thuismatch op Badmintonvlaande
 ren in te vullen. Match info: Tienen 1D - Brasschaat 1D - Link: https://ww
 w.badmintonvlaanderen.be/sport/teammatch.aspx?id=BD406AC5-DB29-4CD7-B8A6-5
 EDF9A9BCD37&match=846
DTSTART;TZID=Europe/Brussels:20211207T050000
DTEND;TZID=Europe/Brussels:20211207T050000
END:VEVENT
BEGIN:VEVENT
UID:BD406AC5-DB29-4CD7-B8A6-5EDF9A9BCD37-19-851_homereminder@146.badmintonn
 ers.net
DTSTAMP:20260422T082633Z
SUMMARY:Thuismatch ingevuld? (Tienen 1D - Dijlevallei 2D)
DESCRIPTION:Je hebt 36 uur na aanvang om een thuismatch op Badmintonvlaande
 ren in te vullen. Match info: Tienen 1D - Dijlevallei 2D - Link: https://w
 ww.badmintonvlaanderen.be/sport/teammatch.aspx?id=BD406AC5-DB29-4CD7-B8A6-
 5EDF9A9BCD37&match=851
DTSTART;TZID=Europe/Brussels:20220201T050000
DTEND;TZID=Europe/Brussels:20220201T050000
END:VEVENT
BEGIN:VEVENT
UID:BD406AC5-DB29-4CD7-B8A6-5EDF9A9BCD37-19-861_homereminder@146.badmintonn
 ers.net
DTSTAMP:20260422T082633Z
SUMMARY:Thuismatch ingevuld? (Tienen 1D - Looise 1D)
DESCRIPTION:Je hebt 36 uur na aanvang om een thuismatch op Badmintonvlaande
 ren in te vullen. Match info: Tienen 1D - Looise 1D - Link: https://www.ba
 dmintonvlaanderen.be/sport/teammatch.aspx?id=BD406AC5-DB29-4CD7-B8A6-5EDF9
 A9BCD37&match=861
DTSTART;TZID=Europe/Brussels:20220315T050000
DTEND;TZID=Europe/Brussels:20220315T050000
END:VEVENT
BEGIN:VEVENT
UID:BD406AC5-DB29-4CD7-B8A6-5EDF9A9BCD37-19-872_homereminder@146.badmintonn
 ers.net
DTSTAMP:20260422T082633Z
SUMMARY:Thuismatch ingevuld? (Tienen 1D - W&L 2D)
DESCRIPTION:Je hebt 36 uur na aanvang om een thuismatch op Badmintonvlaande
 ren in te vullen. Match info: Tienen 1D - W&L 2D - Link: https://www.badmi
 ntonvlaanderen.be/sport/teammatch.aspx?id=BD406AC5-DB29-4CD7-B8A6-5EDF9A9B
 CD37&match=872
DTSTART;TZID=Europe/Brussels:20220329T050000
DTEND;TZID=Europe/Brussels:20220329T050000
END:VEVENT
BEGIN:VEVENT
UID:BD406AC5-DB29-4CD7-B8A6-5EDF9A9BCD37-19-864_awayreminder@146.badmintonn
 ers.net
DTSTAMP:20260422T082633Z
SUMMARY:Uitmatch bevestigd? (Dijlevallei 2D - Tienen 1D)
DESCRIPTION:Je hebt 72 uur na aanvang om een uitmatch op Badmintonvlaandere
 n in te vullen. Match info: Dijlevallei 2D - Tienen 1D - Link: https://www
 .badmintonvlaanderen.be/sport/teammatch.aspx?id=BD406AC5-DB29-4CD7-B8A6-5E
 DF9A9BCD37&match=864
DTSTART;TZID=Europe/Brussels:20211012T163000
DTEND;TZID=Europe/Brussels:20211012T163000
END:VEVENT
BEGIN:VEVENT
UID:BD406AC5-DB29-4CD7-B8A6-5EDF9A9BCD37-19-867_awayreminder@146.badmintonn
 ers.net
DTSTAMP:20260422T082633Z
SUMMARY:Uitmatch bevestigd? (W&L 2D - Tienen 1D)
DESCRIPTION:Je hebt 72 uur na aanvang om een uitmatch op Badmintonvlaandere
 n in te vullen. Match info: W&L 2D - Tienen 1D - Link: https://www.badmint
 onvlaanderen.be/sport/teammatch.aspx?id=BD406AC5-DB29-4CD7-B8A6-5EDF9A9BCD
 37&match=867
DTSTART;TZID=Europe/Brussels:20211027T130000
DTEND;TZID=Europe/Brussels:20211027T130000
END:VEVENT
BEGIN:VEVENT
UID:BD406AC5-DB29-4CD7-B8A6-5EDF9A9BCD37-19-866_awayreminder@146.badmintonn
 ers.net
DTSTAMP:20260422T082633Z
SUMMARY:Uitmatch bevestigd? (Looise 1D - Tienen 1D)
DESCRIPTION:Je hebt 72 uur na aanvang om een uitmatch op Badmintonvlaandere
 n in te vullen. Match info: Looise 1D - Tienen 1D - Link: https://www.badm
 intonvlaanderen.be/sport/teammatch.aspx?id=BD406AC5-DB29-4CD7-B8A6-5EDF9A9
 BCD37&match=866
DTSTART;TZID=Europe/Brussels:20211124T150000
DTEND;TZID=Europe/Brussels:20211124T150000
END:VEVENT
BEGIN:VEVENT
UID:BD406AC5-DB29-4CD7-B8A6-5EDF9A9BCD37-19-865_awayreminder@146.badmintonn
 ers.net
DTSTAMP:20260422T082633Z
SUMMARY:Uitmatch bevestigd? (Klein Boom 1D - Tienen 1D)
DESCRIPTION:Je hebt 72 uur na aanvang om een uitmatch op Badmintonvlaandere
 n in te vullen. Match info: Klein Boom 1D - Tienen 1D - Link: https://www.
 badmintonvlaanderen.be/sport/teammatch.aspx?id=BD406AC5-DB29-4CD7-B8A6-5ED
 F9A9BCD37&match=865
DTSTART;TZID=Europe/Brussels:20220119T190000
DTEND;TZID=Europe/Brussels:20220119T190000
END:VEVENT
BEGIN:VEVENT
UID:BD406AC5-DB29-4CD7-B8A6-5EDF9A9BCD37-19-863_awayreminder@146.badmintonn
 ers.net
DTSTAMP:20260422T082633Z
SUMMARY:Uitmatch bevestigd? (Brasschaat 1D - Tienen 1D)
DESCRIPTION:Je hebt 72 uur na aanvang om een uitmatch op Badmintonvlaandere
 n in te vullen. Match info: Brasschaat 1D - Tienen 1D - Link: https://www.
 badmintonvlaanderen.be/sport/teammatch.aspx?id=BD406AC5-DB29-4CD7-B8A6-5ED
 F9A9BCD37&match=863
DTSTART;TZID=Europe/Brussels:20220413T190000
DTEND;TZID=Europe/Brussels:20220413T190000
END:VEVENT
END:VCALENDAR