BEGIN:VCALENDAR
VERSION:2.0
PRODID:spatie/icalendar-generator
NAME:brasschaat_1d_reminders
X-WR-CALNAME:brasschaat_1d_reminders
BEGIN:VTIMEZONE
TZID:Europe/Brussels
BEGIN:DAYLIGHT
DTSTART:20210328T010000
TZOFFSETFROM:+0100
TZOFFSETTO:+0200
END:DAYLIGHT
BEGIN:STANDARD
DTSTART:20211031T030000
TZOFFSETFROM:+0200
TZOFFSETTO:+0100
END:STANDARD
BEGIN:DAYLIGHT
DTSTART:20220327T010000
TZOFFSETFROM:+0100
TZOFFSETTO:+0200
END:DAYLIGHT
END:VTIMEZONE
BEGIN:VTIMEZONE
TZID:UTC
BEGIN:STANDARD
DTSTART:20250724T070455
TZOFFSETFROM:+0000
TZOFFSETTO:+0000
END:STANDARD
END:VTIMEZONE
BEGIN:VEVENT
UID:BD406AC5-DB29-4CD7-B8A6-5EDF9A9BCD37-19-848_homereminder@48.badmintonne
 rs.net
DTSTAMP:20260420T070455Z
SUMMARY:Thuismatch ingevuld? (Brasschaat 1D - Dijlevallei 2D)
DESCRIPTION:Je hebt 36 uur na aanvang om een thuismatch op Badmintonvlaande
 ren in te vullen. Match info: Brasschaat 1D - Dijlevallei 2D - Link: https
 ://www.badmintonvlaanderen.be/sport/teammatch.aspx?id=BD406AC5-DB29-4CD7-B
 8A6-5EDF9A9BCD37&match=848
DTSTART;TZID=Europe/Brussels:20210914T070000
DTEND;TZID=Europe/Brussels:20210914T070000
END:VEVENT
BEGIN:VEVENT
UID:BD406AC5-DB29-4CD7-B8A6-5EDF9A9BCD37-19-868_homereminder@48.badmintonne
 rs.net
DTSTAMP:20260420T070455Z
SUMMARY:Thuismatch ingevuld? (Brasschaat 1D - W&L 2D)
DESCRIPTION:Je hebt 36 uur na aanvang om een thuismatch op Badmintonvlaande
 ren in te vullen. Match info: Brasschaat 1D - W&L 2D - Link: https://www.b
 admintonvlaanderen.be/sport/teammatch.aspx?id=BD406AC5-DB29-4CD7-B8A6-5EDF
 9A9BCD37&match=868
DTSTART;TZID=Europe/Brussels:20210928T070000
DTEND;TZID=Europe/Brussels:20210928T070000
END:VEVENT
BEGIN:VEVENT
UID:BD406AC5-DB29-4CD7-B8A6-5EDF9A9BCD37-19-858_homereminder@48.badmintonne
 rs.net
DTSTAMP:20260420T070455Z
SUMMARY:Thuismatch ingevuld? (Brasschaat 1D - Looise 1D)
DESCRIPTION:Je hebt 36 uur na aanvang om een thuismatch op Badmintonvlaande
 ren in te vullen. Match info: Brasschaat 1D - Looise 1D - Link: https://ww
 w.badmintonvlaanderen.be/sport/teammatch.aspx?id=BD406AC5-DB29-4CD7-B8A6-5
 EDF9A9BCD37&match=858
DTSTART;TZID=Europe/Brussels:20211221T070000
DTEND;TZID=Europe/Brussels:20211221T070000
END:VEVENT
BEGIN:VEVENT
UID:BD406AC5-DB29-4CD7-B8A6-5EDF9A9BCD37-19-853_homereminder@48.badmintonne
 rs.net
DTSTAMP:20260420T070455Z
SUMMARY:Thuismatch ingevuld? (Brasschaat 1D - Klein Boom 1D)
DESCRIPTION:Je hebt 36 uur na aanvang om een thuismatch op Badmintonvlaande
 ren in te vullen. Match info: Brasschaat 1D - Klein Boom 1D - Link: https:
 //www.badmintonvlaanderen.be/sport/teammatch.aspx?id=BD406AC5-DB29-4CD7-B8
 A6-5EDF9A9BCD37&match=853
DTSTART;TZID=Europe/Brussels:20220315T070000
DTEND;TZID=Europe/Brussels:20220315T070000
END:VEVENT
BEGIN:VEVENT
UID:BD406AC5-DB29-4CD7-B8A6-5EDF9A9BCD37-19-863_homereminder@48.badmintonne
 rs.net
DTSTAMP:20260420T070455Z
SUMMARY:Thuismatch ingevuld? (Brasschaat 1D - Tienen 1D)
DESCRIPTION:Je hebt 36 uur na aanvang om een thuismatch op Badmintonvlaande
 ren in te vullen. Match info: Brasschaat 1D - Tienen 1D - Link: https://ww
 w.badmintonvlaanderen.be/sport/teammatch.aspx?id=BD406AC5-DB29-4CD7-B8A6-5
 EDF9A9BCD37&match=863
DTSTART;TZID=Europe/Brussels:20220412T070000
DTEND;TZID=Europe/Brussels:20220412T070000
END:VEVENT
BEGIN:VEVENT
UID:BD406AC5-DB29-4CD7-B8A6-5EDF9A9BCD37-19-844_awayreminder@48.badmintonne
 rs.net
DTSTAMP:20260420T070455Z
SUMMARY:Uitmatch bevestigd? (Klein Boom 1D - Brasschaat 1D)
DESCRIPTION:Je hebt 72 uur na aanvang om een uitmatch op Badmintonvlaandere
 n in te vullen. Match info: Klein Boom 1D - Brasschaat 1D - Link: https://
 www.badmintonvlaanderen.be/sport/teammatch.aspx?id=BD406AC5-DB29-4CD7-B8A6
 -5EDF9A9BCD37&match=844
DTSTART;TZID=Europe/Brussels:20211124T190000
DTEND;TZID=Europe/Brussels:20211124T190000
END:VEVENT
BEGIN:VEVENT
UID:BD406AC5-DB29-4CD7-B8A6-5EDF9A9BCD37-19-846_awayreminder@48.badmintonne
 rs.net
DTSTAMP:20260420T070455Z
SUMMARY:Uitmatch bevestigd? (Tienen 1D - Brasschaat 1D)
DESCRIPTION:Je hebt 72 uur na aanvang om een uitmatch op Badmintonvlaandere
 n in te vullen. Match info: Tienen 1D - Brasschaat 1D - Link: https://www.
 badmintonvlaanderen.be/sport/teammatch.aspx?id=BD406AC5-DB29-4CD7-B8A6-5ED
 F9A9BCD37&match=846
DTSTART;TZID=Europe/Brussels:20211208T170000
DTEND;TZID=Europe/Brussels:20211208T170000
END:VEVENT
BEGIN:VEVENT
UID:BD406AC5-DB29-4CD7-B8A6-5EDF9A9BCD37-19-845_awayreminder@48.badmintonne
 rs.net
DTSTAMP:20260420T070455Z
SUMMARY:Uitmatch bevestigd? (Looise 1D - Brasschaat 1D)
DESCRIPTION:Je hebt 72 uur na aanvang om een uitmatch op Badmintonvlaandere
 n in te vullen. Match info: Looise 1D - Brasschaat 1D - Link: https://www.
 badmintonvlaanderen.be/sport/teammatch.aspx?id=BD406AC5-DB29-4CD7-B8A6-5ED
 F9A9BCD37&match=845
DTSTART;TZID=Europe/Brussels:20220302T150000
DTEND;TZID=Europe/Brussels:20220302T150000
END:VEVENT
BEGIN:VEVENT
UID:BD406AC5-DB29-4CD7-B8A6-5EDF9A9BCD37-19-847_awayreminder@48.badmintonne
 rs.net
DTSTAMP:20260420T070455Z
SUMMARY:Uitmatch bevestigd? (W&L 2D - Brasschaat 1D)
DESCRIPTION:Je hebt 72 uur na aanvang om een uitmatch op Badmintonvlaandere
 n in te vullen. Match info: W&L 2D - Brasschaat 1D - Link: https://www.bad
 mintonvlaanderen.be/sport/teammatch.aspx?id=BD406AC5-DB29-4CD7-B8A6-5EDF9A
 9BCD37&match=847
DTSTART;TZID=Europe/Brussels:20220308T130000
DTEND;TZID=Europe/Brussels:20220308T130000
END:VEVENT
BEGIN:VEVENT
UID:BD406AC5-DB29-4CD7-B8A6-5EDF9A9BCD37-19-843_awayreminder@48.badmintonne
 rs.net
DTSTAMP:20260420T070455Z
SUMMARY:Uitmatch bevestigd? (Dijlevallei 2D - Brasschaat 1D)
DESCRIPTION:Je hebt 72 uur na aanvang om een uitmatch op Badmintonvlaandere
 n in te vullen. Match info: Dijlevallei 2D - Brasschaat 1D - Link: https:/
 /www.badmintonvlaanderen.be/sport/teammatch.aspx?id=BD406AC5-DB29-4CD7-B8A
 6-5EDF9A9BCD37&match=843
DTSTART;TZID=Europe/Brussels:20220330T140000
DTEND;TZID=Europe/Brussels:20220330T140000
END:VEVENT
END:VCALENDAR