BEGIN:VCALENDAR
VERSION:2.0
PRODID:spatie/icalendar-generator
NAME:dijlevallei_2d_reminders
X-WR-CALNAME:dijlevallei_2d_reminders
BEGIN:VTIMEZONE
TZID:Europe/Brussels
BEGIN:DAYLIGHT
DTSTART:20210328T010000
TZOFFSETFROM:+0100
TZOFFSETTO:+0200
END:DAYLIGHT
BEGIN:STANDARD
DTSTART:20211031T030000
TZOFFSETFROM:+0200
TZOFFSETTO:+0100
END:STANDARD
BEGIN:DAYLIGHT
DTSTART:20220327T010000
TZOFFSETFROM:+0100
TZOFFSETTO:+0200
END:DAYLIGHT
END:VTIMEZONE
BEGIN:VTIMEZONE
TZID:UTC
BEGIN:STANDARD
DTSTART:20250724T070554
TZOFFSETFROM:+0000
TZOFFSETTO:+0000
END:STANDARD
END:VTIMEZONE
BEGIN:VEVENT
UID:BD406AC5-DB29-4CD7-B8A6-5EDF9A9BCD37-19-854_homereminder@59.badmintonne
 rs.net
DTSTAMP:20260420T070554Z
SUMMARY:Thuismatch ingevuld? (Dijlevallei 2D - Klein Boom 1D)
DESCRIPTION:Je hebt 36 uur na aanvang om een thuismatch op Badmintonvlaande
 ren in te vullen. Match info: Dijlevallei 2D - Klein Boom 1D - Link: https
 ://www.badmintonvlaanderen.be/sport/teammatch.aspx?id=BD406AC5-DB29-4CD7-B
 8A6-5EDF9A9BCD37&match=854
DTSTART;TZID=Europe/Brussels:20211004T043000
DTEND;TZID=Europe/Brussels:20211004T043000
END:VEVENT
BEGIN:VEVENT
UID:BD406AC5-DB29-4CD7-B8A6-5EDF9A9BCD37-19-864_homereminder@59.badmintonne
 rs.net
DTSTAMP:20260420T070554Z
SUMMARY:Thuismatch ingevuld? (Dijlevallei 2D - Tienen 1D)
DESCRIPTION:Je hebt 36 uur na aanvang om een thuismatch op Badmintonvlaande
 ren in te vullen. Match info: Dijlevallei 2D - Tienen 1D - Link: https://w
 ww.badmintonvlaanderen.be/sport/teammatch.aspx?id=BD406AC5-DB29-4CD7-B8A6-
 5EDF9A9BCD37&match=864
DTSTART;TZID=Europe/Brussels:20211011T043000
DTEND;TZID=Europe/Brussels:20211011T043000
END:VEVENT
BEGIN:VEVENT
UID:BD406AC5-DB29-4CD7-B8A6-5EDF9A9BCD37-19-869_homereminder@59.badmintonne
 rs.net
DTSTAMP:20260420T070554Z
SUMMARY:Thuismatch ingevuld? (Dijlevallei 2D - W&L 2D)
DESCRIPTION:Je hebt 36 uur na aanvang om een thuismatch op Badmintonvlaande
 ren in te vullen. Match info: Dijlevallei 2D - W&L 2D - Link: https://www.
 badmintonvlaanderen.be/sport/teammatch.aspx?id=BD406AC5-DB29-4CD7-B8A6-5ED
 F9A9BCD37&match=869
DTSTART;TZID=Europe/Brussels:20211206T043000
DTEND;TZID=Europe/Brussels:20211206T043000
END:VEVENT
BEGIN:VEVENT
UID:BD406AC5-DB29-4CD7-B8A6-5EDF9A9BCD37-19-843_homereminder@59.badmintonne
 rs.net
DTSTAMP:20260420T070554Z
SUMMARY:Thuismatch ingevuld? (Dijlevallei 2D - Brasschaat 1D)
DESCRIPTION:Je hebt 36 uur na aanvang om een thuismatch op Badmintonvlaande
 ren in te vullen. Match info: Dijlevallei 2D - Brasschaat 1D - Link: https
 ://www.badmintonvlaanderen.be/sport/teammatch.aspx?id=BD406AC5-DB29-4CD7-B
 8A6-5EDF9A9BCD37&match=843
DTSTART;TZID=Europe/Brussels:20220329T020000
DTEND;TZID=Europe/Brussels:20220329T020000
END:VEVENT
BEGIN:VEVENT
UID:BD406AC5-DB29-4CD7-B8A6-5EDF9A9BCD37-19-859_homereminder@59.badmintonne
 rs.net
DTSTAMP:20260420T070554Z
SUMMARY:Thuismatch ingevuld? (Dijlevallei 2D - Looise 1D)
DESCRIPTION:Je hebt 36 uur na aanvang om een thuismatch op Badmintonvlaande
 ren in te vullen. Match info: Dijlevallei 2D - Looise 1D - Link: https://w
 ww.badmintonvlaanderen.be/sport/teammatch.aspx?id=BD406AC5-DB29-4CD7-B8A6-
 5EDF9A9BCD37&match=859
DTSTART;TZID=Europe/Brussels:20220425T043000
DTEND;TZID=Europe/Brussels:20220425T043000
END:VEVENT
BEGIN:VEVENT
UID:BD406AC5-DB29-4CD7-B8A6-5EDF9A9BCD37-19-848_awayreminder@59.badmintonne
 rs.net
DTSTAMP:20260420T070554Z
SUMMARY:Uitmatch bevestigd? (Brasschaat 1D - Dijlevallei 2D)
DESCRIPTION:Je hebt 72 uur na aanvang om een uitmatch op Badmintonvlaandere
 n in te vullen. Match info: Brasschaat 1D - Dijlevallei 2D - Link: https:/
 /www.badmintonvlaanderen.be/sport/teammatch.aspx?id=BD406AC5-DB29-4CD7-B8A
 6-5EDF9A9BCD37&match=848
DTSTART;TZID=Europe/Brussels:20210915T190000
DTEND;TZID=Europe/Brussels:20210915T190000
END:VEVENT
BEGIN:VEVENT
UID:BD406AC5-DB29-4CD7-B8A6-5EDF9A9BCD37-19-850_awayreminder@59.badmintonne
 rs.net
DTSTAMP:20260420T070554Z
SUMMARY:Uitmatch bevestigd? (Looise 1D - Dijlevallei 2D)
DESCRIPTION:Je hebt 72 uur na aanvang om een uitmatch op Badmintonvlaandere
 n in te vullen. Match info: Looise 1D - Dijlevallei 2D - Link: https://www
 .badmintonvlaanderen.be/sport/teammatch.aspx?id=BD406AC5-DB29-4CD7-B8A6-5E
 DF9A9BCD37&match=850
DTSTART;TZID=Europe/Brussels:20210929T151500
DTEND;TZID=Europe/Brussels:20210929T151500
END:VEVENT
BEGIN:VEVENT
UID:BD406AC5-DB29-4CD7-B8A6-5EDF9A9BCD37-19-851_awayreminder@59.badmintonne
 rs.net
DTSTAMP:20260420T070554Z
SUMMARY:Uitmatch bevestigd? (Tienen 1D - Dijlevallei 2D)
DESCRIPTION:Je hebt 72 uur na aanvang om een uitmatch op Badmintonvlaandere
 n in te vullen. Match info: Tienen 1D - Dijlevallei 2D - Link: https://www
 .badmintonvlaanderen.be/sport/teammatch.aspx?id=BD406AC5-DB29-4CD7-B8A6-5E
 DF9A9BCD37&match=851
DTSTART;TZID=Europe/Brussels:20220202T170000
DTEND;TZID=Europe/Brussels:20220202T170000
END:VEVENT
BEGIN:VEVENT
UID:BD406AC5-DB29-4CD7-B8A6-5EDF9A9BCD37-19-849_awayreminder@59.badmintonne
 rs.net
DTSTAMP:20260420T070554Z
SUMMARY:Uitmatch bevestigd? (Klein Boom 1D - Dijlevallei 2D)
DESCRIPTION:Je hebt 72 uur na aanvang om een uitmatch op Badmintonvlaandere
 n in te vullen. Match info: Klein Boom 1D - Dijlevallei 2D - Link: https:/
 /www.badmintonvlaanderen.be/sport/teammatch.aspx?id=BD406AC5-DB29-4CD7-B8A
 6-5EDF9A9BCD37&match=849
DTSTART;TZID=Europe/Brussels:20220216T190000
DTEND;TZID=Europe/Brussels:20220216T190000
END:VEVENT
BEGIN:VEVENT
UID:BD406AC5-DB29-4CD7-B8A6-5EDF9A9BCD37-19-852_awayreminder@59.badmintonne
 rs.net
DTSTAMP:20260420T070554Z
SUMMARY:Uitmatch bevestigd? (W&L 2D - Dijlevallei 2D)
DESCRIPTION:Je hebt 72 uur na aanvang om een uitmatch op Badmintonvlaandere
 n in te vullen. Match info: W&L 2D - Dijlevallei 2D - Link: https://www.ba
 dmintonvlaanderen.be/sport/teammatch.aspx?id=BD406AC5-DB29-4CD7-B8A6-5EDF9
 A9BCD37&match=852
DTSTART;TZID=Europe/Brussels:20220316T130000
DTEND;TZID=Europe/Brussels:20220316T130000
END:VEVENT
END:VCALENDAR