BEGIN:VCALENDAR
VERSION:2.0
PRODID:spatie/icalendar-generator
NAME:klein_boom_1d_reminders
X-WR-CALNAME:klein_boom_1d_reminders
BEGIN:VTIMEZONE
TZID:Europe/Brussels
BEGIN:DAYLIGHT
DTSTART:20210328T010000
TZOFFSETFROM:+0100
TZOFFSETTO:+0200
END:DAYLIGHT
BEGIN:STANDARD
DTSTART:20211031T030000
TZOFFSETFROM:+0200
TZOFFSETTO:+0100
END:STANDARD
BEGIN:DAYLIGHT
DTSTART:20220327T010000
TZOFFSETFROM:+0100
TZOFFSETTO:+0200
END:DAYLIGHT
BEGIN:STANDARD
DTSTART:20221030T030000
TZOFFSETFROM:+0200
TZOFFSETTO:+0100
END:STANDARD
END:VTIMEZONE
BEGIN:VTIMEZONE
TZID:UTC
BEGIN:STANDARD
DTSTART:20250724T070452
TZOFFSETFROM:+0000
TZOFFSETTO:+0000
END:STANDARD
END:VTIMEZONE
BEGIN:VEVENT
UID:BD406AC5-DB29-4CD7-B8A6-5EDF9A9BCD37-19-860_homereminder@75.badmintonne
 rs.net
DTSTAMP:20260420T070452Z
SUMMARY:Thuismatch ingevuld? (Klein Boom 1D - Looise 1D)
DESCRIPTION:Je hebt 36 uur na aanvang om een thuismatch op Badmintonvlaande
 ren in te vullen. Match info: Klein Boom 1D - Looise 1D - Link: https://ww
 w.badmintonvlaanderen.be/sport/teammatch.aspx?id=BD406AC5-DB29-4CD7-B8A6-5
 EDF9A9BCD37&match=860
DTSTART;TZID=Europe/Brussels:20211012T070000
DTEND;TZID=Europe/Brussels:20211012T070000
END:VEVENT
BEGIN:VEVENT
UID:BD406AC5-DB29-4CD7-B8A6-5EDF9A9BCD37-19-844_homereminder@75.badmintonne
 rs.net
DTSTAMP:20260420T070452Z
SUMMARY:Thuismatch ingevuld? (Klein Boom 1D - Brasschaat 1D)
DESCRIPTION:Je hebt 36 uur na aanvang om een thuismatch op Badmintonvlaande
 ren in te vullen. Match info: Klein Boom 1D - Brasschaat 1D - Link: https:
 //www.badmintonvlaanderen.be/sport/teammatch.aspx?id=BD406AC5-DB29-4CD7-B8
 A6-5EDF9A9BCD37&match=844
DTSTART;TZID=Europe/Brussels:20211123T070000
DTEND;TZID=Europe/Brussels:20211123T070000
END:VEVENT
BEGIN:VEVENT
UID:BD406AC5-DB29-4CD7-B8A6-5EDF9A9BCD37-19-870_homereminder@75.badmintonne
 rs.net
DTSTAMP:20260420T070452Z
SUMMARY:Thuismatch ingevuld? (Klein Boom 1D - W&L 2D)
DESCRIPTION:Je hebt 36 uur na aanvang om een thuismatch op Badmintonvlaande
 ren in te vullen. Match info: Klein Boom 1D - W&L 2D - Link: https://www.b
 admintonvlaanderen.be/sport/teammatch.aspx?id=BD406AC5-DB29-4CD7-B8A6-5EDF
 9A9BCD37&match=870
DTSTART;TZID=Europe/Brussels:20211201T080000
DTEND;TZID=Europe/Brussels:20211201T080000
END:VEVENT
BEGIN:VEVENT
UID:BD406AC5-DB29-4CD7-B8A6-5EDF9A9BCD37-19-865_homereminder@75.badmintonne
 rs.net
DTSTAMP:20260420T070452Z
SUMMARY:Thuismatch ingevuld? (Klein Boom 1D - Tienen 1D)
DESCRIPTION:Je hebt 36 uur na aanvang om een thuismatch op Badmintonvlaande
 ren in te vullen. Match info: Klein Boom 1D - Tienen 1D - Link: https://ww
 w.badmintonvlaanderen.be/sport/teammatch.aspx?id=BD406AC5-DB29-4CD7-B8A6-5
 EDF9A9BCD37&match=865
DTSTART;TZID=Europe/Brussels:20220118T070000
DTEND;TZID=Europe/Brussels:20220118T070000
END:VEVENT
BEGIN:VEVENT
UID:BD406AC5-DB29-4CD7-B8A6-5EDF9A9BCD37-19-849_homereminder@75.badmintonne
 rs.net
DTSTAMP:20260420T070452Z
SUMMARY:Thuismatch ingevuld? (Klein Boom 1D - Dijlevallei 2D)
DESCRIPTION:Je hebt 36 uur na aanvang om een thuismatch op Badmintonvlaande
 ren in te vullen. Match info: Klein Boom 1D - Dijlevallei 2D - Link: https
 ://www.badmintonvlaanderen.be/sport/teammatch.aspx?id=BD406AC5-DB29-4CD7-B
 8A6-5EDF9A9BCD37&match=849
DTSTART;TZID=Europe/Brussels:20220215T070000
DTEND;TZID=Europe/Brussels:20220215T070000
END:VEVENT
BEGIN:VEVENT
UID:BD406AC5-DB29-4CD7-B8A6-5EDF9A9BCD37-19-856_awayreminder@75.badmintonne
 rs.net
DTSTAMP:20260420T070452Z
SUMMARY:Uitmatch bevestigd? (Tienen 1D - Klein Boom 1D)
DESCRIPTION:Je hebt 72 uur na aanvang om een uitmatch op Badmintonvlaandere
 n in te vullen. Match info: Tienen 1D - Klein Boom 1D - Link: https://www.
 badmintonvlaanderen.be/sport/teammatch.aspx?id=BD406AC5-DB29-4CD7-B8A6-5ED
 F9A9BCD37&match=856
DTSTART;TZID=Europe/Brussels:20210915T170000
DTEND;TZID=Europe/Brussels:20210915T170000
END:VEVENT
BEGIN:VEVENT
UID:BD406AC5-DB29-4CD7-B8A6-5EDF9A9BCD37-19-854_awayreminder@75.badmintonne
 rs.net
DTSTAMP:20260420T070452Z
SUMMARY:Uitmatch bevestigd? (Dijlevallei 2D - Klein Boom 1D)
DESCRIPTION:Je hebt 72 uur na aanvang om een uitmatch op Badmintonvlaandere
 n in te vullen. Match info: Dijlevallei 2D - Klein Boom 1D - Link: https:/
 /www.badmintonvlaanderen.be/sport/teammatch.aspx?id=BD406AC5-DB29-4CD7-B8A
 6-5EDF9A9BCD37&match=854
DTSTART;TZID=Europe/Brussels:20211005T163000
DTEND;TZID=Europe/Brussels:20211005T163000
END:VEVENT
BEGIN:VEVENT
UID:BD406AC5-DB29-4CD7-B8A6-5EDF9A9BCD37-19-853_awayreminder@75.badmintonne
 rs.net
DTSTAMP:20260420T070452Z
SUMMARY:Uitmatch bevestigd? (Brasschaat 1D - Klein Boom 1D)
DESCRIPTION:Je hebt 72 uur na aanvang om een uitmatch op Badmintonvlaandere
 n in te vullen. Match info: Brasschaat 1D - Klein Boom 1D - Link: https://
 www.badmintonvlaanderen.be/sport/teammatch.aspx?id=BD406AC5-DB29-4CD7-B8A6
 -5EDF9A9BCD37&match=853
DTSTART;TZID=Europe/Brussels:20220316T190000
DTEND;TZID=Europe/Brussels:20220316T190000
END:VEVENT
BEGIN:VEVENT
UID:BD406AC5-DB29-4CD7-B8A6-5EDF9A9BCD37-19-857_awayreminder@75.badmintonne
 rs.net
DTSTAMP:20260420T070452Z
SUMMARY:Uitmatch bevestigd? (W&L 2D - Klein Boom 1D)
DESCRIPTION:Je hebt 72 uur na aanvang om een uitmatch op Badmintonvlaandere
 n in te vullen. Match info: W&L 2D - Klein Boom 1D - Link: https://www.bad
 mintonvlaanderen.be/sport/teammatch.aspx?id=BD406AC5-DB29-4CD7-B8A6-5EDF9A
 9BCD37&match=857
DTSTART;TZID=Europe/Brussels:20220413T130000
DTEND;TZID=Europe/Brussels:20220413T130000
END:VEVENT
BEGIN:VEVENT
UID:BD406AC5-DB29-4CD7-B8A6-5EDF9A9BCD37-19-855_awayreminder@75.badmintonne
 rs.net
DTSTAMP:20260420T070452Z
SUMMARY:Uitmatch bevestigd? (Looise 1D - Klein Boom 1D)
DESCRIPTION:Je hebt 72 uur na aanvang om een uitmatch op Badmintonvlaandere
 n in te vullen. Match info: Looise 1D - Klein Boom 1D - Link: https://www.
 badmintonvlaanderen.be/sport/teammatch.aspx?id=BD406AC5-DB29-4CD7-B8A6-5ED
 F9A9BCD37&match=855
DTSTART;TZID=Europe/Brussels:20220504T150000
DTEND;TZID=Europe/Brussels:20220504T150000
END:VEVENT
END:VCALENDAR