BEGIN:VCALENDAR
VERSION:2.0
PRODID:spatie/icalendar-generator
NAME:looise_1d_reminders
X-WR-CALNAME:looise_1d_reminders
BEGIN:VTIMEZONE
TZID:Europe/Brussels
BEGIN:DAYLIGHT
DTSTART:20210328T010000
TZOFFSETFROM:+0100
TZOFFSETTO:+0200
END:DAYLIGHT
BEGIN:STANDARD
DTSTART:20211031T030000
TZOFFSETFROM:+0200
TZOFFSETTO:+0100
END:STANDARD
BEGIN:DAYLIGHT
DTSTART:20220327T010000
TZOFFSETFROM:+0100
TZOFFSETTO:+0200
END:DAYLIGHT
BEGIN:STANDARD
DTSTART:20221030T030000
TZOFFSETFROM:+0200
TZOFFSETTO:+0100
END:STANDARD
END:VTIMEZONE
BEGIN:VTIMEZONE
TZID:UTC
BEGIN:STANDARD
DTSTART:20250724T070455
TZOFFSETFROM:+0000
TZOFFSETTO:+0000
END:STANDARD
END:VTIMEZONE
BEGIN:VEVENT
UID:BD406AC5-DB29-4CD7-B8A6-5EDF9A9BCD37-19-850_homereminder@77.badmintonne
 rs.net
DTSTAMP:20260420T070455Z
SUMMARY:Thuismatch ingevuld? (Looise 1D - Dijlevallei 2D)
DESCRIPTION:Je hebt 36 uur na aanvang om een thuismatch op Badmintonvlaande
 ren in te vullen. Match info: Looise 1D - Dijlevallei 2D - Link: https://w
 ww.badmintonvlaanderen.be/sport/teammatch.aspx?id=BD406AC5-DB29-4CD7-B8A6-
 5EDF9A9BCD37&match=850
DTSTART;TZID=Europe/Brussels:20210928T031500
DTEND;TZID=Europe/Brussels:20210928T031500
END:VEVENT
BEGIN:VEVENT
UID:BD406AC5-DB29-4CD7-B8A6-5EDF9A9BCD37-19-866_homereminder@77.badmintonne
 rs.net
DTSTAMP:20260420T070455Z
SUMMARY:Thuismatch ingevuld? (Looise 1D - Tienen 1D)
DESCRIPTION:Je hebt 36 uur na aanvang om een thuismatch op Badmintonvlaande
 ren in te vullen. Match info: Looise 1D - Tienen 1D - Link: https://www.ba
 dmintonvlaanderen.be/sport/teammatch.aspx?id=BD406AC5-DB29-4CD7-B8A6-5EDF9
 A9BCD37&match=866
DTSTART;TZID=Europe/Brussels:20211123T030000
DTEND;TZID=Europe/Brussels:20211123T030000
END:VEVENT
BEGIN:VEVENT
UID:BD406AC5-DB29-4CD7-B8A6-5EDF9A9BCD37-19-845_homereminder@77.badmintonne
 rs.net
DTSTAMP:20260420T070455Z
SUMMARY:Thuismatch ingevuld? (Looise 1D - Brasschaat 1D)
DESCRIPTION:Je hebt 36 uur na aanvang om een thuismatch op Badmintonvlaande
 ren in te vullen. Match info: Looise 1D - Brasschaat 1D - Link: https://ww
 w.badmintonvlaanderen.be/sport/teammatch.aspx?id=BD406AC5-DB29-4CD7-B8A6-5
 EDF9A9BCD37&match=845
DTSTART;TZID=Europe/Brussels:20220301T030000
DTEND;TZID=Europe/Brussels:20220301T030000
END:VEVENT
BEGIN:VEVENT
UID:BD406AC5-DB29-4CD7-B8A6-5EDF9A9BCD37-19-871_homereminder@77.badmintonne
 rs.net
DTSTAMP:20260420T070455Z
SUMMARY:Thuismatch ingevuld? (Looise 1D - W&L 2D)
DESCRIPTION:Je hebt 36 uur na aanvang om een thuismatch op Badmintonvlaande
 ren in te vullen. Match info: Looise 1D - W&L 2D - Link: https://www.badmi
 ntonvlaanderen.be/sport/teammatch.aspx?id=BD406AC5-DB29-4CD7-B8A6-5EDF9A9B
 CD37&match=871
DTSTART;TZID=Europe/Brussels:20220426T030000
DTEND;TZID=Europe/Brussels:20220426T030000
END:VEVENT
BEGIN:VEVENT
UID:BD406AC5-DB29-4CD7-B8A6-5EDF9A9BCD37-19-855_homereminder@77.badmintonne
 rs.net
DTSTAMP:20260420T070455Z
SUMMARY:Thuismatch ingevuld? (Looise 1D - Klein Boom 1D)
DESCRIPTION:Je hebt 36 uur na aanvang om een thuismatch op Badmintonvlaande
 ren in te vullen. Match info: Looise 1D - Klein Boom 1D - Link: https://ww
 w.badmintonvlaanderen.be/sport/teammatch.aspx?id=BD406AC5-DB29-4CD7-B8A6-5
 EDF9A9BCD37&match=855
DTSTART;TZID=Europe/Brussels:20220503T030000
DTEND;TZID=Europe/Brussels:20220503T030000
END:VEVENT
BEGIN:VEVENT
UID:BD406AC5-DB29-4CD7-B8A6-5EDF9A9BCD37-19-860_awayreminder@77.badmintonne
 rs.net
DTSTAMP:20260420T070455Z
SUMMARY:Uitmatch bevestigd? (Klein Boom 1D - Looise 1D)
DESCRIPTION:Je hebt 72 uur na aanvang om een uitmatch op Badmintonvlaandere
 n in te vullen. Match info: Klein Boom 1D - Looise 1D - Link: https://www.
 badmintonvlaanderen.be/sport/teammatch.aspx?id=BD406AC5-DB29-4CD7-B8A6-5ED
 F9A9BCD37&match=860
DTSTART;TZID=Europe/Brussels:20211013T190000
DTEND;TZID=Europe/Brussels:20211013T190000
END:VEVENT
BEGIN:VEVENT
UID:BD406AC5-DB29-4CD7-B8A6-5EDF9A9BCD37-19-862_awayreminder@77.badmintonne
 rs.net
DTSTAMP:20260420T070455Z
SUMMARY:Uitmatch bevestigd? (W&L 2D - Looise 1D)
DESCRIPTION:Je hebt 72 uur na aanvang om een uitmatch op Badmintonvlaandere
 n in te vullen. Match info: W&L 2D - Looise 1D - Link: https://www.badmint
 onvlaanderen.be/sport/teammatch.aspx?id=BD406AC5-DB29-4CD7-B8A6-5EDF9A9BCD
 37&match=862
DTSTART;TZID=Europe/Brussels:20211208T130000
DTEND;TZID=Europe/Brussels:20211208T130000
END:VEVENT
BEGIN:VEVENT
UID:BD406AC5-DB29-4CD7-B8A6-5EDF9A9BCD37-19-858_awayreminder@77.badmintonne
 rs.net
DTSTAMP:20260420T070455Z
SUMMARY:Uitmatch bevestigd? (Brasschaat 1D - Looise 1D)
DESCRIPTION:Je hebt 72 uur na aanvang om een uitmatch op Badmintonvlaandere
 n in te vullen. Match info: Brasschaat 1D - Looise 1D - Link: https://www.
 badmintonvlaanderen.be/sport/teammatch.aspx?id=BD406AC5-DB29-4CD7-B8A6-5ED
 F9A9BCD37&match=858
DTSTART;TZID=Europe/Brussels:20211222T190000
DTEND;TZID=Europe/Brussels:20211222T190000
END:VEVENT
BEGIN:VEVENT
UID:BD406AC5-DB29-4CD7-B8A6-5EDF9A9BCD37-19-861_awayreminder@77.badmintonne
 rs.net
DTSTAMP:20260420T070455Z
SUMMARY:Uitmatch bevestigd? (Tienen 1D - Looise 1D)
DESCRIPTION:Je hebt 72 uur na aanvang om een uitmatch op Badmintonvlaandere
 n in te vullen. Match info: Tienen 1D - Looise 1D - Link: https://www.badm
 intonvlaanderen.be/sport/teammatch.aspx?id=BD406AC5-DB29-4CD7-B8A6-5EDF9A9
 BCD37&match=861
DTSTART;TZID=Europe/Brussels:20220316T170000
DTEND;TZID=Europe/Brussels:20220316T170000
END:VEVENT
BEGIN:VEVENT
UID:BD406AC5-DB29-4CD7-B8A6-5EDF9A9BCD37-19-859_awayreminder@77.badmintonne
 rs.net
DTSTAMP:20260420T070455Z
SUMMARY:Uitmatch bevestigd? (Dijlevallei 2D - Looise 1D)
DESCRIPTION:Je hebt 72 uur na aanvang om een uitmatch op Badmintonvlaandere
 n in te vullen. Match info: Dijlevallei 2D - Looise 1D - Link: https://www
 .badmintonvlaanderen.be/sport/teammatch.aspx?id=BD406AC5-DB29-4CD7-B8A6-5E
 DF9A9BCD37&match=859
DTSTART;TZID=Europe/Brussels:20220426T163000
DTEND;TZID=Europe/Brussels:20220426T163000
END:VEVENT
END:VCALENDAR