BEGIN:VCALENDAR
VERSION:2.0
PRODID:spatie/icalendar-generator
NAME:wl_4g_reminders
X-WR-CALNAME:wl_4g_reminders
BEGIN:VTIMEZONE
TZID:Europe/Brussels
BEGIN:DAYLIGHT
DTSTART:20210328T010000
TZOFFSETFROM:+0100
TZOFFSETTO:+0200
END:DAYLIGHT
BEGIN:STANDARD
DTSTART:20211031T030000
TZOFFSETFROM:+0200
TZOFFSETTO:+0100
END:STANDARD
BEGIN:DAYLIGHT
DTSTART:20220327T010000
TZOFFSETFROM:+0100
TZOFFSETTO:+0200
END:DAYLIGHT
END:VTIMEZONE
BEGIN:VTIMEZONE
TZID:UTC
BEGIN:STANDARD
DTSTART:20250724T070551
TZOFFSETFROM:+0000
TZOFFSETTO:+0000
END:STANDARD
END:VTIMEZONE
BEGIN:VEVENT
UID:BD406AC5-DB29-4CD7-B8A6-5EDF9A9BCD37-7-339_homereminder@125.badmintonne
 rs.net
DTSTAMP:20260420T070551Z
SUMMARY:Thuismatch ingevuld? (W&L 4G - OLVE 2G)
DESCRIPTION:Je hebt 36 uur na aanvang om een thuismatch op Badmintonvlaande
 ren in te vullen. Match info: W&L 4G - OLVE 2G - Link: https://www.badmint
 onvlaanderen.be/sport/teammatch.aspx?id=BD406AC5-DB29-4CD7-B8A6-5EDF9A9BCD
 37&match=339
DTSTART;TZID=Europe/Brussels:20211019T010000
DTEND;TZID=Europe/Brussels:20211019T010000
END:VEVENT
BEGIN:VEVENT
UID:BD406AC5-DB29-4CD7-B8A6-5EDF9A9BCD37-7-344_homereminder@125.badmintonne
 rs.net
DTSTAMP:20260420T070551Z
SUMMARY:Thuismatch ingevuld? (W&L 4G - Royal Antwerp 3G)
DESCRIPTION:Je hebt 36 uur na aanvang om een thuismatch op Badmintonvlaande
 ren in te vullen. Match info: W&L 4G - Royal Antwerp 3G - Link: https://ww
 w.badmintonvlaanderen.be/sport/teammatch.aspx?id=BD406AC5-DB29-4CD7-B8A6-5
 EDF9A9BCD37&match=344
DTSTART;TZID=Europe/Brussels:20211214T010000
DTEND;TZID=Europe/Brussels:20211214T010000
END:VEVENT
BEGIN:VEVENT
UID:BD406AC5-DB29-4CD7-B8A6-5EDF9A9BCD37-7-337_homereminder@125.badmintonne
 rs.net
DTSTAMP:20260420T070551Z
SUMMARY:Thuismatch ingevuld? (W&L 4G - Klein Boom 1G)
DESCRIPTION:Je hebt 36 uur na aanvang om een thuismatch op Badmintonvlaande
 ren in te vullen. Match info: W&L 4G - Klein Boom 1G - Link: https://www.b
 admintonvlaanderen.be/sport/teammatch.aspx?id=BD406AC5-DB29-4CD7-B8A6-5EDF
 9A9BCD37&match=337
DTSTART;TZID=Europe/Brussels:20220308T010000
DTEND;TZID=Europe/Brussels:20220308T010000
END:VEVENT
BEGIN:VEVENT
UID:BD406AC5-DB29-4CD7-B8A6-5EDF9A9BCD37-7-335_homereminder@125.badmintonne
 rs.net
DTSTAMP:20260420T070551Z
SUMMARY:Thuismatch ingevuld? (W&L 4G - De Nekker 2G)
DESCRIPTION:Je hebt 36 uur na aanvang om een thuismatch op Badmintonvlaande
 ren in te vullen. Match info: W&L 4G - De Nekker 2G - Link: https://www.ba
 dmintonvlaanderen.be/sport/teammatch.aspx?id=BD406AC5-DB29-4CD7-B8A6-5EDF9
 A9BCD37&match=335
DTSTART;TZID=Europe/Brussels:20220322T010000
DTEND;TZID=Europe/Brussels:20220322T010000
END:VEVENT
BEGIN:VEVENT
UID:BD406AC5-DB29-4CD7-B8A6-5EDF9A9BCD37-7-333_homereminder@125.badmintonne
 rs.net
DTSTAMP:20260420T070551Z
SUMMARY:Thuismatch ingevuld? (W&L 4G - Brasschaat 2G)
DESCRIPTION:Je hebt 36 uur na aanvang om een thuismatch op Badmintonvlaande
 ren in te vullen. Match info: W&L 4G - Brasschaat 2G - Link: https://www.b
 admintonvlaanderen.be/sport/teammatch.aspx?id=BD406AC5-DB29-4CD7-B8A6-5EDF
 9A9BCD37&match=333
DTSTART;TZID=Europe/Brussels:20220405T010000
DTEND;TZID=Europe/Brussels:20220405T010000
END:VEVENT
BEGIN:VEVENT
UID:BD406AC5-DB29-4CD7-B8A6-5EDF9A9BCD37-7-345_awayreminder@125.badmintonne
 rs.net
DTSTAMP:20260420T070551Z
SUMMARY:Uitmatch bevestigd? (Brasschaat 2G - W&L 4G)
DESCRIPTION:Je hebt 72 uur na aanvang om een uitmatch op Badmintonvlaandere
 n in te vullen. Match info: Brasschaat 2G - W&L 4G - Link: https://www.bad
 mintonvlaanderen.be/sport/teammatch.aspx?id=BD406AC5-DB29-4CD7-B8A6-5EDF9A
 9BCD37&match=345
DTSTART;TZID=Europe/Brussels:20210922T190000
DTEND;TZID=Europe/Brussels:20210922T190000
END:VEVENT
BEGIN:VEVENT
UID:BD406AC5-DB29-4CD7-B8A6-5EDF9A9BCD37-7-347_awayreminder@125.badmintonne
 rs.net
DTSTAMP:20260420T070551Z
SUMMARY:Uitmatch bevestigd? (Klein Boom 1G - W&L 4G)
DESCRIPTION:Je hebt 72 uur na aanvang om een uitmatch op Badmintonvlaandere
 n in te vullen. Match info: Klein Boom 1G - W&L 4G - Link: https://www.bad
 mintonvlaanderen.be/sport/teammatch.aspx?id=BD406AC5-DB29-4CD7-B8A6-5EDF9A
 9BCD37&match=347
DTSTART;TZID=Europe/Brussels:20211006T190000
DTEND;TZID=Europe/Brussels:20211006T190000
END:VEVENT
BEGIN:VEVENT
UID:BD406AC5-DB29-4CD7-B8A6-5EDF9A9BCD37-7-346_awayreminder@125.badmintonne
 rs.net
DTSTAMP:20260420T070551Z
SUMMARY:Uitmatch bevestigd? (De Nekker 2G - W&L 4G)
DESCRIPTION:Je hebt 72 uur na aanvang om een uitmatch op Badmintonvlaandere
 n in te vullen. Match info: De Nekker 2G - W&L 4G - Link: https://www.badm
 intonvlaanderen.be/sport/teammatch.aspx?id=BD406AC5-DB29-4CD7-B8A6-5EDF9A9
 BCD37&match=346
DTSTART;TZID=Europe/Brussels:20211106T203000
DTEND;TZID=Europe/Brussels:20211106T203000
END:VEVENT
BEGIN:VEVENT
UID:BD406AC5-DB29-4CD7-B8A6-5EDF9A9BCD37-7-349_awayreminder@125.badmintonne
 rs.net
DTSTAMP:20260420T070551Z
SUMMARY:Uitmatch bevestigd? (Royal Antwerp 3G - W&L 4G)
DESCRIPTION:Je hebt 72 uur na aanvang om een uitmatch op Badmintonvlaandere
 n in te vullen. Match info: Royal Antwerp 3G - W&L 4G - Link: https://www.
 badmintonvlaanderen.be/sport/teammatch.aspx?id=BD406AC5-DB29-4CD7-B8A6-5ED
 F9A9BCD37&match=349
DTSTART;TZID=Europe/Brussels:20220126T180000
DTEND;TZID=Europe/Brussels:20220126T180000
END:VEVENT
BEGIN:VEVENT
UID:BD406AC5-DB29-4CD7-B8A6-5EDF9A9BCD37-7-348_awayreminder@125.badmintonne
 rs.net
DTSTAMP:20260420T070551Z
SUMMARY:Uitmatch bevestigd? (OLVE 2G - W&L 4G)
DESCRIPTION:Je hebt 72 uur na aanvang om een uitmatch op Badmintonvlaandere
 n in te vullen. Match info: OLVE 2G - W&L 4G - Link: https://www.badminton
 vlaanderen.be/sport/teammatch.aspx?id=BD406AC5-DB29-4CD7-B8A6-5EDF9A9BCD37
 &match=348
DTSTART;TZID=Europe/Brussels:20220222T103000
DTEND;TZID=Europe/Brussels:20220222T103000
END:VEVENT
END:VCALENDAR