BEGIN:VCALENDAR
VERSION:2.0
PRODID:spatie/icalendar-generator
NAME:de_nekker_2g_reminders
X-WR-CALNAME:de_nekker_2g_reminders
BEGIN:VTIMEZONE
TZID:Europe/Brussels
BEGIN:DAYLIGHT
DTSTART:20210328T010000
TZOFFSETFROM:+0100
TZOFFSETTO:+0200
END:DAYLIGHT
BEGIN:STANDARD
DTSTART:20211031T030000
TZOFFSETFROM:+0200
TZOFFSETTO:+0100
END:STANDARD
BEGIN:DAYLIGHT
DTSTART:20220327T010000
TZOFFSETFROM:+0100
TZOFFSETTO:+0200
END:DAYLIGHT
END:VTIMEZONE
BEGIN:VTIMEZONE
TZID:UTC
BEGIN:STANDARD
DTSTART:20250724T070459
TZOFFSETFROM:+0000
TZOFFSETTO:+0000
END:STANDARD
END:VTIMEZONE
BEGIN:VEVENT
UID:BD406AC5-DB29-4CD7-B8A6-5EDF9A9BCD37-7-341_homereminder@23.badmintonner
 s.net
DTSTAMP:20260420T070459Z
SUMMARY:Thuismatch ingevuld? (De Nekker 2G - Royal Antwerp 3G)
DESCRIPTION:Je hebt 36 uur na aanvang om een thuismatch op Badmintonvlaande
 ren in te vullen. Match info: De Nekker 2G - Royal Antwerp 3G - Link: http
 s://www.badmintonvlaanderen.be/sport/teammatch.aspx?id=BD406AC5-DB29-4CD7-
 B8A6-5EDF9A9BCD37&match=341
DTSTART;TZID=Europe/Brussels:20210924T083000
DTEND;TZID=Europe/Brussels:20210924T083000
END:VEVENT
BEGIN:VEVENT
UID:BD406AC5-DB29-4CD7-B8A6-5EDF9A9BCD37-7-325_homereminder@23.badmintonner
 s.net
DTSTAMP:20260420T070459Z
SUMMARY:Thuismatch ingevuld? (De Nekker 2G - Klein Boom 1G)
DESCRIPTION:Je hebt 36 uur na aanvang om een thuismatch op Badmintonvlaande
 ren in te vullen. Match info: De Nekker 2G - Klein Boom 1G - Link: https:/
 /www.badmintonvlaanderen.be/sport/teammatch.aspx?id=BD406AC5-DB29-4CD7-B8A
 6-5EDF9A9BCD37&match=325
DTSTART;TZID=Europe/Brussels:20211029T083000
DTEND;TZID=Europe/Brussels:20211029T083000
END:VEVENT
BEGIN:VEVENT
UID:BD406AC5-DB29-4CD7-B8A6-5EDF9A9BCD37-7-346_homereminder@23.badmintonner
 s.net
DTSTAMP:20260420T070459Z
SUMMARY:Thuismatch ingevuld? (De Nekker 2G - W&L 4G)
DESCRIPTION:Je hebt 36 uur na aanvang om een thuismatch op Badmintonvlaande
 ren in te vullen. Match info: De Nekker 2G - W&L 4G - Link: https://www.ba
 dmintonvlaanderen.be/sport/teammatch.aspx?id=BD406AC5-DB29-4CD7-B8A6-5EDF9
 A9BCD37&match=346
DTSTART;TZID=Europe/Brussels:20211105T083000
DTEND;TZID=Europe/Brussels:20211105T083000
END:VEVENT
BEGIN:VEVENT
UID:BD406AC5-DB29-4CD7-B8A6-5EDF9A9BCD37-7-318_homereminder@23.badmintonner
 s.net
DTSTAMP:20260420T070459Z
SUMMARY:Thuismatch ingevuld? (De Nekker 2G - Brasschaat 2G)
DESCRIPTION:Je hebt 36 uur na aanvang om een thuismatch op Badmintonvlaande
 ren in te vullen. Match info: De Nekker 2G - Brasschaat 2G - Link: https:/
 /www.badmintonvlaanderen.be/sport/teammatch.aspx?id=BD406AC5-DB29-4CD7-B8A
 6-5EDF9A9BCD37&match=318
DTSTART;TZID=Europe/Brussels:20220128T083000
DTEND;TZID=Europe/Brussels:20220128T083000
END:VEVENT
BEGIN:VEVENT
UID:BD406AC5-DB29-4CD7-B8A6-5EDF9A9BCD37-7-328_homereminder@23.badmintonner
 s.net
DTSTAMP:20260420T070459Z
SUMMARY:Thuismatch ingevuld? (De Nekker 2G - OLVE 2G)
DESCRIPTION:Je hebt 36 uur na aanvang om een thuismatch op Badmintonvlaande
 ren in te vullen. Match info: De Nekker 2G - OLVE 2G - Link: https://www.b
 admintonvlaanderen.be/sport/teammatch.aspx?id=BD406AC5-DB29-4CD7-B8A6-5EDF
 9A9BCD37&match=328
DTSTART;TZID=Europe/Brussels:20220304T083000
DTEND;TZID=Europe/Brussels:20220304T083000
END:VEVENT
BEGIN:VEVENT
UID:BD406AC5-DB29-4CD7-B8A6-5EDF9A9BCD37-7-321_awayreminder@23.badmintonner
 s.net
DTSTAMP:20260420T070459Z
SUMMARY:Uitmatch bevestigd? (Brasschaat 2G - De Nekker 2G)
DESCRIPTION:Je hebt 72 uur na aanvang om een uitmatch op Badmintonvlaandere
 n in te vullen. Match info: Brasschaat 2G - De Nekker 2G - Link: https://w
 ww.badmintonvlaanderen.be/sport/teammatch.aspx?id=BD406AC5-DB29-4CD7-B8A6-
 5EDF9A9BCD37&match=321
DTSTART;TZID=Europe/Brussels:20211117T190000
DTEND;TZID=Europe/Brussels:20211117T190000
END:VEVENT
BEGIN:VEVENT
UID:BD406AC5-DB29-4CD7-B8A6-5EDF9A9BCD37-7-323_awayreminder@23.badmintonner
 s.net
DTSTAMP:20260420T070459Z
SUMMARY:Uitmatch bevestigd? (OLVE 2G - De Nekker 2G)
DESCRIPTION:Je hebt 72 uur na aanvang om een uitmatch op Badmintonvlaandere
 n in te vullen. Match info: OLVE 2G - De Nekker 2G - Link: https://www.bad
 mintonvlaanderen.be/sport/teammatch.aspx?id=BD406AC5-DB29-4CD7-B8A6-5EDF9A
 9BCD37&match=323
DTSTART;TZID=Europe/Brussels:20211214T103000
DTEND;TZID=Europe/Brussels:20211214T103000
END:VEVENT
BEGIN:VEVENT
UID:BD406AC5-DB29-4CD7-B8A6-5EDF9A9BCD37-7-322_awayreminder@23.badmintonner
 s.net
DTSTAMP:20260420T070459Z
SUMMARY:Uitmatch bevestigd? (Klein Boom 1G - De Nekker 2G)
DESCRIPTION:Je hebt 72 uur na aanvang om een uitmatch op Badmintonvlaandere
 n in te vullen. Match info: Klein Boom 1G - De Nekker 2G - Link: https://w
 ww.badmintonvlaanderen.be/sport/teammatch.aspx?id=BD406AC5-DB29-4CD7-B8A6-
 5EDF9A9BCD37&match=322
DTSTART;TZID=Europe/Brussels:20220126T190000
DTEND;TZID=Europe/Brussels:20220126T190000
END:VEVENT
BEGIN:VEVENT
UID:BD406AC5-DB29-4CD7-B8A6-5EDF9A9BCD37-7-335_awayreminder@23.badmintonner
 s.net
DTSTAMP:20260420T070459Z
SUMMARY:Uitmatch bevestigd? (W&L 4G - De Nekker 2G)
DESCRIPTION:Je hebt 72 uur na aanvang om een uitmatch op Badmintonvlaandere
 n in te vullen. Match info: W&L 4G - De Nekker 2G - Link: https://www.badm
 intonvlaanderen.be/sport/teammatch.aspx?id=BD406AC5-DB29-4CD7-B8A6-5EDF9A9
 BCD37&match=335
DTSTART;TZID=Europe/Brussels:20220323T130000
DTEND;TZID=Europe/Brussels:20220323T130000
END:VEVENT
BEGIN:VEVENT
UID:BD406AC5-DB29-4CD7-B8A6-5EDF9A9BCD37-7-334_awayreminder@23.badmintonner
 s.net
DTSTAMP:20260420T070459Z
SUMMARY:Uitmatch bevestigd? (Royal Antwerp 3G - De Nekker 2G)
DESCRIPTION:Je hebt 72 uur na aanvang om een uitmatch op Badmintonvlaandere
 n in te vullen. Match info: Royal Antwerp 3G - De Nekker 2G - Link: https:
 //www.badmintonvlaanderen.be/sport/teammatch.aspx?id=BD406AC5-DB29-4CD7-B8
 A6-5EDF9A9BCD37&match=334
DTSTART;TZID=Europe/Brussels:20220413T180000
DTEND;TZID=Europe/Brussels:20220413T180000
END:VEVENT
END:VCALENDAR