BEGIN:VCALENDAR
VERSION:2.0
PRODID:spatie/icalendar-generator
NAME:olve_2g_reminders
X-WR-CALNAME:olve_2g_reminders
BEGIN:VTIMEZONE
TZID:Europe/Brussels
BEGIN:DAYLIGHT
DTSTART:20210328T010000
TZOFFSETFROM:+0100
TZOFFSETTO:+0200
END:DAYLIGHT
BEGIN:STANDARD
DTSTART:20211031T030000
TZOFFSETFROM:+0200
TZOFFSETTO:+0100
END:STANDARD
BEGIN:DAYLIGHT
DTSTART:20220327T010000
TZOFFSETFROM:+0100
TZOFFSETTO:+0200
END:DAYLIGHT
END:VTIMEZONE
BEGIN:VTIMEZONE
TZID:UTC
BEGIN:STANDARD
DTSTART:20250724T070506
TZOFFSETFROM:+0000
TZOFFSETTO:+0000
END:STANDARD
END:VTIMEZONE
BEGIN:VEVENT
UID:BD406AC5-DB29-4CD7-B8A6-5EDF9A9BCD37-7-343_homereminder@30.badmintonner
 s.net
DTSTAMP:20260420T070506Z
SUMMARY:Thuismatch ingevuld? (OLVE 2G - Royal Antwerp 3G)
DESCRIPTION:Je hebt 36 uur na aanvang om een thuismatch op Badmintonvlaande
 ren in te vullen. Match info: OLVE 2G - Royal Antwerp 3G - Link: https://w
 ww.badmintonvlaanderen.be/sport/teammatch.aspx?id=BD406AC5-DB29-4CD7-B8A6-
 5EDF9A9BCD37&match=343
DTSTART;TZID=Europe/Brussels:20211010T223000
DTEND;TZID=Europe/Brussels:20211010T223000
END:VEVENT
BEGIN:VEVENT
UID:BD406AC5-DB29-4CD7-B8A6-5EDF9A9BCD37-7-323_homereminder@30.badmintonner
 s.net
DTSTAMP:20260420T070506Z
SUMMARY:Thuismatch ingevuld? (OLVE 2G - De Nekker 2G)
DESCRIPTION:Je hebt 36 uur na aanvang om een thuismatch op Badmintonvlaande
 ren in te vullen. Match info: OLVE 2G - De Nekker 2G - Link: https://www.b
 admintonvlaanderen.be/sport/teammatch.aspx?id=BD406AC5-DB29-4CD7-B8A6-5EDF
 9A9BCD37&match=323
DTSTART;TZID=Europe/Brussels:20211212T223000
DTEND;TZID=Europe/Brussels:20211212T223000
END:VEVENT
BEGIN:VEVENT
UID:BD406AC5-DB29-4CD7-B8A6-5EDF9A9BCD37-7-320_homereminder@30.badmintonner
 s.net
DTSTAMP:20260420T070506Z
SUMMARY:Thuismatch ingevuld? (OLVE 2G - Brasschaat 2G)
DESCRIPTION:Je hebt 36 uur na aanvang om een thuismatch op Badmintonvlaande
 ren in te vullen. Match info: OLVE 2G - Brasschaat 2G - Link: https://www.
 badmintonvlaanderen.be/sport/teammatch.aspx?id=BD406AC5-DB29-4CD7-B8A6-5ED
 F9A9BCD37&match=320
DTSTART;TZID=Europe/Brussels:20220123T223000
DTEND;TZID=Europe/Brussels:20220123T223000
END:VEVENT
BEGIN:VEVENT
UID:BD406AC5-DB29-4CD7-B8A6-5EDF9A9BCD37-7-348_homereminder@30.badmintonner
 s.net
DTSTAMP:20260420T070506Z
SUMMARY:Thuismatch ingevuld? (OLVE 2G - W&L 4G)
DESCRIPTION:Je hebt 36 uur na aanvang om een thuismatch op Badmintonvlaande
 ren in te vullen. Match info: OLVE 2G - W&L 4G - Link: https://www.badmint
 onvlaanderen.be/sport/teammatch.aspx?id=BD406AC5-DB29-4CD7-B8A6-5EDF9A9BCD
 37&match=348
DTSTART;TZID=Europe/Brussels:20220220T223000
DTEND;TZID=Europe/Brussels:20220220T223000
END:VEVENT
BEGIN:VEVENT
UID:BD406AC5-DB29-4CD7-B8A6-5EDF9A9BCD37-7-326_homereminder@30.badmintonner
 s.net
DTSTAMP:20260420T070506Z
SUMMARY:Thuismatch ingevuld? (OLVE 2G - Klein Boom 1G)
DESCRIPTION:Je hebt 36 uur na aanvang om een thuismatch op Badmintonvlaande
 ren in te vullen. Match info: OLVE 2G - Klein Boom 1G - Link: https://www.
 badmintonvlaanderen.be/sport/teammatch.aspx?id=BD406AC5-DB29-4CD7-B8A6-5ED
 F9A9BCD37&match=326
DTSTART;TZID=Europe/Brussels:20220320T223000
DTEND;TZID=Europe/Brussels:20220320T223000
END:VEVENT
BEGIN:VEVENT
UID:BD406AC5-DB29-4CD7-B8A6-5EDF9A9BCD37-7-339_awayreminder@30.badmintonner
 s.net
DTSTAMP:20260420T070506Z
SUMMARY:Uitmatch bevestigd? (W&L 4G - OLVE 2G)
DESCRIPTION:Je hebt 72 uur na aanvang om een uitmatch op Badmintonvlaandere
 n in te vullen. Match info: W&L 4G - OLVE 2G - Link: https://www.badminton
 vlaanderen.be/sport/teammatch.aspx?id=BD406AC5-DB29-4CD7-B8A6-5EDF9A9BCD37
 &match=339
DTSTART;TZID=Europe/Brussels:20211020T130000
DTEND;TZID=Europe/Brussels:20211020T130000
END:VEVENT
BEGIN:VEVENT
UID:BD406AC5-DB29-4CD7-B8A6-5EDF9A9BCD37-7-327_awayreminder@30.badmintonner
 s.net
DTSTAMP:20260420T070506Z
SUMMARY:Uitmatch bevestigd? (Brasschaat 2G - OLVE 2G)
DESCRIPTION:Je hebt 72 uur na aanvang om een uitmatch op Badmintonvlaandere
 n in te vullen. Match info: Brasschaat 2G - OLVE 2G - Link: https://www.ba
 dmintonvlaanderen.be/sport/teammatch.aspx?id=BD406AC5-DB29-4CD7-B8A6-5EDF9
 A9BCD37&match=327
DTSTART;TZID=Europe/Brussels:20211031T190000
DTEND;TZID=Europe/Brussels:20211031T190000
END:VEVENT
BEGIN:VEVENT
UID:BD406AC5-DB29-4CD7-B8A6-5EDF9A9BCD37-7-329_awayreminder@30.badmintonner
 s.net
DTSTAMP:20260420T070506Z
SUMMARY:Uitmatch bevestigd? (Klein Boom 1G - OLVE 2G)
DESCRIPTION:Je hebt 72 uur na aanvang om een uitmatch op Badmintonvlaandere
 n in te vullen. Match info: Klein Boom 1G - OLVE 2G - Link: https://www.ba
 dmintonvlaanderen.be/sport/teammatch.aspx?id=BD406AC5-DB29-4CD7-B8A6-5EDF9
 A9BCD37&match=329
DTSTART;TZID=Europe/Brussels:20211208T190000
DTEND;TZID=Europe/Brussels:20211208T190000
END:VEVENT
BEGIN:VEVENT
UID:BD406AC5-DB29-4CD7-B8A6-5EDF9A9BCD37-7-338_awayreminder@30.badmintonner
 s.net
DTSTAMP:20260420T070506Z
SUMMARY:Uitmatch bevestigd? (Royal Antwerp 3G - OLVE 2G)
DESCRIPTION:Je hebt 72 uur na aanvang om een uitmatch op Badmintonvlaandere
 n in te vullen. Match info: Royal Antwerp 3G - OLVE 2G - Link: https://www
 .badmintonvlaanderen.be/sport/teammatch.aspx?id=BD406AC5-DB29-4CD7-B8A6-5E
 DF9A9BCD37&match=338
DTSTART;TZID=Europe/Brussels:20220112T180000
DTEND;TZID=Europe/Brussels:20220112T180000
END:VEVENT
BEGIN:VEVENT
UID:BD406AC5-DB29-4CD7-B8A6-5EDF9A9BCD37-7-328_awayreminder@30.badmintonner
 s.net
DTSTAMP:20260420T070506Z
SUMMARY:Uitmatch bevestigd? (De Nekker 2G - OLVE 2G)
DESCRIPTION:Je hebt 72 uur na aanvang om een uitmatch op Badmintonvlaandere
 n in te vullen. Match info: De Nekker 2G - OLVE 2G - Link: https://www.bad
 mintonvlaanderen.be/sport/teammatch.aspx?id=BD406AC5-DB29-4CD7-B8A6-5EDF9A
 9BCD37&match=328
DTSTART;TZID=Europe/Brussels:20220305T203000
DTEND;TZID=Europe/Brussels:20220305T203000
END:VEVENT
END:VCALENDAR