BEGIN:VCALENDAR
VERSION:2.0
PRODID:spatie/icalendar-generator
NAME:royal_antwerp_3g_reminders
X-WR-CALNAME:royal_antwerp_3g_reminders
BEGIN:VTIMEZONE
TZID:Europe/Brussels
BEGIN:DAYLIGHT
DTSTART:20210328T010000
TZOFFSETFROM:+0100
TZOFFSETTO:+0200
END:DAYLIGHT
BEGIN:STANDARD
DTSTART:20211031T030000
TZOFFSETFROM:+0200
TZOFFSETTO:+0100
END:STANDARD
BEGIN:DAYLIGHT
DTSTART:20220327T010000
TZOFFSETFROM:+0100
TZOFFSETTO:+0200
END:DAYLIGHT
END:VTIMEZONE
BEGIN:VTIMEZONE
TZID:UTC
BEGIN:STANDARD
DTSTART:20250724T070502
TZOFFSETFROM:+0000
TZOFFSETTO:+0000
END:STANDARD
END:VTIMEZONE
BEGIN:VEVENT
UID:BD406AC5-DB29-4CD7-B8A6-5EDF9A9BCD37-7-332_homereminder@43.badmintonner
 s.net
DTSTAMP:20260420T070502Z
SUMMARY:Thuismatch ingevuld? (Royal Antwerp 3G - Brasschaat 2G)
DESCRIPTION:Je hebt 36 uur na aanvang om een thuismatch op Badmintonvlaande
 ren in te vullen. Match info: Royal Antwerp 3G - Brasschaat 2G - Link: htt
 ps://www.badmintonvlaanderen.be/sport/teammatch.aspx?id=BD406AC5-DB29-4CD7
 -B8A6-5EDF9A9BCD37&match=332
DTSTART;TZID=Europe/Brussels:20211019T060000
DTEND;TZID=Europe/Brussels:20211019T060000
END:VEVENT
BEGIN:VEVENT
UID:BD406AC5-DB29-4CD7-B8A6-5EDF9A9BCD37-7-336_homereminder@43.badmintonner
 s.net
DTSTAMP:20260420T070502Z
SUMMARY:Thuismatch ingevuld? (Royal Antwerp 3G - Klein Boom 1G)
DESCRIPTION:Je hebt 36 uur na aanvang om een thuismatch op Badmintonvlaande
 ren in te vullen. Match info: Royal Antwerp 3G - Klein Boom 1G - Link: htt
 ps://www.badmintonvlaanderen.be/sport/teammatch.aspx?id=BD406AC5-DB29-4CD7
 -B8A6-5EDF9A9BCD37&match=336
DTSTART;TZID=Europe/Brussels:20211116T060000
DTEND;TZID=Europe/Brussels:20211116T060000
END:VEVENT
BEGIN:VEVENT
UID:BD406AC5-DB29-4CD7-B8A6-5EDF9A9BCD37-7-338_homereminder@43.badmintonner
 s.net
DTSTAMP:20260420T070502Z
SUMMARY:Thuismatch ingevuld? (Royal Antwerp 3G - OLVE 2G)
DESCRIPTION:Je hebt 36 uur na aanvang om een thuismatch op Badmintonvlaande
 ren in te vullen. Match info: Royal Antwerp 3G - OLVE 2G - Link: https://w
 ww.badmintonvlaanderen.be/sport/teammatch.aspx?id=BD406AC5-DB29-4CD7-B8A6-
 5EDF9A9BCD37&match=338
DTSTART;TZID=Europe/Brussels:20220111T060000
DTEND;TZID=Europe/Brussels:20220111T060000
END:VEVENT
BEGIN:VEVENT
UID:BD406AC5-DB29-4CD7-B8A6-5EDF9A9BCD37-7-349_homereminder@43.badmintonner
 s.net
DTSTAMP:20260420T070502Z
SUMMARY:Thuismatch ingevuld? (Royal Antwerp 3G - W&L 4G)
DESCRIPTION:Je hebt 36 uur na aanvang om een thuismatch op Badmintonvlaande
 ren in te vullen. Match info: Royal Antwerp 3G - W&L 4G - Link: https://ww
 w.badmintonvlaanderen.be/sport/teammatch.aspx?id=BD406AC5-DB29-4CD7-B8A6-5
 EDF9A9BCD37&match=349
DTSTART;TZID=Europe/Brussels:20220125T060000
DTEND;TZID=Europe/Brussels:20220125T060000
END:VEVENT
BEGIN:VEVENT
UID:BD406AC5-DB29-4CD7-B8A6-5EDF9A9BCD37-7-334_homereminder@43.badmintonner
 s.net
DTSTAMP:20260420T070502Z
SUMMARY:Thuismatch ingevuld? (Royal Antwerp 3G - De Nekker 2G)
DESCRIPTION:Je hebt 36 uur na aanvang om een thuismatch op Badmintonvlaande
 ren in te vullen. Match info: Royal Antwerp 3G - De Nekker 2G - Link: http
 s://www.badmintonvlaanderen.be/sport/teammatch.aspx?id=BD406AC5-DB29-4CD7-
 B8A6-5EDF9A9BCD37&match=334
DTSTART;TZID=Europe/Brussels:20220412T060000
DTEND;TZID=Europe/Brussels:20220412T060000
END:VEVENT
BEGIN:VEVENT
UID:BD406AC5-DB29-4CD7-B8A6-5EDF9A9BCD37-7-341_awayreminder@43.badmintonner
 s.net
DTSTAMP:20260420T070502Z
SUMMARY:Uitmatch bevestigd? (De Nekker 2G - Royal Antwerp 3G)
DESCRIPTION:Je hebt 72 uur na aanvang om een uitmatch op Badmintonvlaandere
 n in te vullen. Match info: De Nekker 2G - Royal Antwerp 3G - Link: https:
 //www.badmintonvlaanderen.be/sport/teammatch.aspx?id=BD406AC5-DB29-4CD7-B8
 A6-5EDF9A9BCD37&match=341
DTSTART;TZID=Europe/Brussels:20210925T203000
DTEND;TZID=Europe/Brussels:20210925T203000
END:VEVENT
BEGIN:VEVENT
UID:BD406AC5-DB29-4CD7-B8A6-5EDF9A9BCD37-7-343_awayreminder@43.badmintonner
 s.net
DTSTAMP:20260420T070502Z
SUMMARY:Uitmatch bevestigd? (OLVE 2G - Royal Antwerp 3G)
DESCRIPTION:Je hebt 72 uur na aanvang om een uitmatch op Badmintonvlaandere
 n in te vullen. Match info: OLVE 2G - Royal Antwerp 3G - Link: https://www
 .badmintonvlaanderen.be/sport/teammatch.aspx?id=BD406AC5-DB29-4CD7-B8A6-5E
 DF9A9BCD37&match=343
DTSTART;TZID=Europe/Brussels:20211012T103000
DTEND;TZID=Europe/Brussels:20211012T103000
END:VEVENT
BEGIN:VEVENT
UID:BD406AC5-DB29-4CD7-B8A6-5EDF9A9BCD37-7-344_awayreminder@43.badmintonner
 s.net
DTSTAMP:20260420T070502Z
SUMMARY:Uitmatch bevestigd? (W&L 4G - Royal Antwerp 3G)
DESCRIPTION:Je hebt 72 uur na aanvang om een uitmatch op Badmintonvlaandere
 n in te vullen. Match info: W&L 4G - Royal Antwerp 3G - Link: https://www.
 badmintonvlaanderen.be/sport/teammatch.aspx?id=BD406AC5-DB29-4CD7-B8A6-5ED
 F9A9BCD37&match=344
DTSTART;TZID=Europe/Brussels:20211215T130000
DTEND;TZID=Europe/Brussels:20211215T130000
END:VEVENT
BEGIN:VEVENT
UID:BD406AC5-DB29-4CD7-B8A6-5EDF9A9BCD37-7-342_awayreminder@43.badmintonner
 s.net
DTSTAMP:20260420T070502Z
SUMMARY:Uitmatch bevestigd? (Klein Boom 1G - Royal Antwerp 3G)
DESCRIPTION:Je hebt 72 uur na aanvang om een uitmatch op Badmintonvlaandere
 n in te vullen. Match info: Klein Boom 1G - Royal Antwerp 3G - Link: https
 ://www.badmintonvlaanderen.be/sport/teammatch.aspx?id=BD406AC5-DB29-4CD7-B
 8A6-5EDF9A9BCD37&match=342
DTSTART;TZID=Europe/Brussels:20220223T190000
DTEND;TZID=Europe/Brussels:20220223T190000
END:VEVENT
BEGIN:VEVENT
UID:BD406AC5-DB29-4CD7-B8A6-5EDF9A9BCD37-7-340_awayreminder@43.badmintonner
 s.net
DTSTAMP:20260420T070502Z
SUMMARY:Uitmatch bevestigd? (Brasschaat 2G - Royal Antwerp 3G)
DESCRIPTION:Je hebt 72 uur na aanvang om een uitmatch op Badmintonvlaandere
 n in te vullen. Match info: Brasschaat 2G - Royal Antwerp 3G - Link: https
 ://www.badmintonvlaanderen.be/sport/teammatch.aspx?id=BD406AC5-DB29-4CD7-B
 8A6-5EDF9A9BCD37&match=340
DTSTART;TZID=Europe/Brussels:20220309T190000
DTEND;TZID=Europe/Brussels:20220309T190000
END:VEVENT
END:VCALENDAR